BEGIN:VCALENDAR
VERSION:2.0
PRODID:-//Leisure Knoll - ECPv6.15.20//NONSGML v1.0//EN
CALSCALE:GREGORIAN
METHOD:PUBLISH
X-WR-CALNAME:Leisure Knoll
X-ORIGINAL-URL:https://leisureknoll.org
X-WR-CALDESC:Events for Leisure Knoll
REFRESH-INTERVAL;VALUE=DURATION:PT1H
X-Robots-Tag:noindex
X-PUBLISHED-TTL:PT1H
BEGIN:VTIMEZONE
TZID:America/New_York
BEGIN:DAYLIGHT
TZOFFSETFROM:-0500
TZOFFSETTO:-0400
TZNAME:EDT
DTSTART:20220313T070000
END:DAYLIGHT
BEGIN:STANDARD
TZOFFSETFROM:-0400
TZOFFSETTO:-0500
TZNAME:EST
DTSTART:20221106T060000
END:STANDARD
BEGIN:DAYLIGHT
TZOFFSETFROM:-0500
TZOFFSETTO:-0400
TZNAME:EDT
DTSTART:20230312T070000
END:DAYLIGHT
BEGIN:STANDARD
TZOFFSETFROM:-0400
TZOFFSETTO:-0500
TZNAME:EST
DTSTART:20231105T060000
END:STANDARD
BEGIN:DAYLIGHT
TZOFFSETFROM:-0500
TZOFFSETTO:-0400
TZNAME:EDT
DTSTART:20240310T070000
END:DAYLIGHT
BEGIN:STANDARD
TZOFFSETFROM:-0400
TZOFFSETTO:-0500
TZNAME:EST
DTSTART:20241103T060000
END:STANDARD
END:VTIMEZONE
BEGIN:VEVENT
DTSTART;VALUE=DATE:20230501
DTEND;VALUE=DATE:20230905
DTSTAMP:20260423T001519
CREATED:20230501T201015Z
LAST-MODIFIED:20230501T201145Z
UID:10012653-1682899200-1693871999@leisureknoll.org
SUMMARY:Pool Open 5/27/23 - 9/4/23
DESCRIPTION:POOL HOURS ADULTS & ADULT GUESTS \n\n\n\n\nMay 27th-June 24th  \n\nSat.-Thurs: 10:00am-5:15pm\nFri:10:00am-6:30pm\n\n\n\nJune 25th-Sept. 4th  \n\nSat.-Thurs:10:00am-6:45pm\nFri:10:00am-6:30pm\n\n\n\n\n\nCHILDREN’S HOURS (AGES 4 THROUGH 12) \n\nMon\, Wed\, Fri: 11:30am-2:00pm & 4:00pm-5:15pm\nSaturday & Sunday: 12:00pm-4:00pm\n\nOnce lifeguard off–duty\, pool will remain open until 9pm (RESIDENTS ONLY\, NO CHILDREN—swim at your own risk)
URL:https://leisureknoll.org/calendar/pool-open-5-27-23-9-4-23/
END:VEVENT
BEGIN:VEVENT
DTSTART;TZID=America/New_York:20230703T090000
DTEND;TZID=America/New_York:20230703T100000
DTSTAMP:20260423T001519
CREATED:20230312T035839Z
LAST-MODIFIED:20231128T012444Z
UID:10012166-1688374800-1688378400@leisureknoll.org
SUMMARY:Tennis Club
DESCRIPTION:
URL:https://leisureknoll.org/calendar/tennis-club/2023-07-03/
END:VEVENT
BEGIN:VEVENT
DTSTART;TZID=America/New_York:20230703T090000
DTEND;TZID=America/New_York:20230703T110000
DTSTAMP:20260423T001519
CREATED:20210416T003116Z
LAST-MODIFIED:20260109T025549Z
UID:10009745-1688374800-1688382000@leisureknoll.org
SUMMARY:Wood Shop
DESCRIPTION:
URL:https://leisureknoll.org/calendar/wood-shop/2023-07-03/
END:VEVENT
BEGIN:VEVENT
DTSTART;TZID=America/New_York:20230703T100000
DTEND;TZID=America/New_York:20230703T110000
DTSTAMP:20260423T001519
CREATED:20220301T013856Z
LAST-MODIFIED:20250101T175615Z
UID:10010083-1688378400-1688382000@leisureknoll.org
SUMMARY:Slimnastics
DESCRIPTION:Recreation Hall
URL:https://leisureknoll.org/calendar/slimnastics-5/2023-07-03/
END:VEVENT
BEGIN:VEVENT
DTSTART;TZID=America/New_York:20230703T110000
DTEND;TZID=America/New_York:20230703T120000
DTSTAMP:20260423T001519
CREATED:20221202T030602Z
LAST-MODIFIED:20260109T025858Z
UID:10009953-1688382000-1688385600@leisureknoll.org
SUMMARY:Ping Pong
DESCRIPTION:11am @ Recreation Hall
URL:https://leisureknoll.org/calendar/ping-pong/2023-07-03/
END:VEVENT
BEGIN:VEVENT
DTSTART;TZID=America/New_York:20230703T120000
DTEND;TZID=America/New_York:20230703T133000
DTSTAMP:20260423T001519
CREATED:20230630T031224Z
LAST-MODIFIED:20260109T030045Z
UID:10012688-1688385600-1688391000@leisureknoll.org
SUMMARY:Canasta
DESCRIPTION:12pm @ Craft Center
URL:https://leisureknoll.org/calendar/canasta/2023-07-03/
END:VEVENT
BEGIN:VEVENT
DTSTART;TZID=America/New_York:20230703T123000
DTEND;TZID=America/New_York:20230703T143000
DTSTAMP:20260423T001519
CREATED:20210702T030121Z
LAST-MODIFIED:20230106T200950Z
UID:10010161-1688387400-1688394600@leisureknoll.org
SUMMARY:Mah Jongg
DESCRIPTION:@ Craft Center
URL:https://leisureknoll.org/calendar/mah-jongg-5/2023-07-03/
END:VEVENT
BEGIN:VEVENT
DTSTART;TZID=America/New_York:20230703T130000
DTEND;TZID=America/New_York:20230703T150000
DTSTAMP:20260423T001519
CREATED:20210416T003503Z
LAST-MODIFIED:20240929T182527Z
UID:10010343-1688389200-1688396400@leisureknoll.org
SUMMARY:Billiards
DESCRIPTION:Recreation Center\, every day except Sunday
URL:https://leisureknoll.org/calendar/billiards/2023-07-03/
END:VEVENT
BEGIN:VEVENT
DTSTART;TZID=America/New_York:20230703T143000
DTEND;TZID=America/New_York:20230703T160000
DTSTAMP:20260423T001519
CREATED:20230630T031357Z
LAST-MODIFIED:20231128T012532Z
UID:10012767-1688394600-1688400000@leisureknoll.org
SUMMARY:Pickleball Club
DESCRIPTION:@ 2:30pm
URL:https://leisureknoll.org/calendar/pickleball-club/2023-07-03/
END:VEVENT
BEGIN:VEVENT
DTSTART;TZID=America/New_York:20230703T180000
DTEND;TZID=America/New_York:20230703T200000
DTSTAMP:20260423T001519
CREATED:20210702T034900Z
LAST-MODIFIED:20240707T191247Z
UID:10016804-1688407200-1688414400@leisureknoll.org
SUMMARY:Ladies Poker
DESCRIPTION:Craft Center
URL:https://leisureknoll.org/calendar/ladies-poker-2021-09-13/2023-07-03/
END:VEVENT
BEGIN:VEVENT
DTSTART;TZID=America/New_York:20230703T183000
DTEND;TZID=America/New_York:20230703T200000
DTSTAMP:20260423T001519
CREATED:20230630T031612Z
LAST-MODIFIED:20230630T031612Z
UID:10012963-1688409000-1688414400@leisureknoll.org
SUMMARY:Ladies Poker
DESCRIPTION:6:30pm @ Craft Center
URL:https://leisureknoll.org/calendar/ladies-poker-3/
END:VEVENT
BEGIN:VEVENT
DTSTART;VALUE=DATE:20230704
DTEND;VALUE=DATE:20230705
DTSTAMP:20260423T001519
CREATED:20220704T013115Z
LAST-MODIFIED:20220704T013115Z
UID:10008448-1688428800-1688515199@leisureknoll.org
SUMMARY:Independence Day
DESCRIPTION:Happy 4th of July
URL:https://leisureknoll.org/calendar/independence-day/2023-07-04/
END:VEVENT
BEGIN:VEVENT
DTSTART;VALUE=DATE:20230704
DTEND;VALUE=DATE:20230705
DTSTAMP:20260423T001519
CREATED:20230630T033831Z
LAST-MODIFIED:20230630T033831Z
UID:10012995-1688428800-1688515199@leisureknoll.org
SUMMARY:LKA Offices Closed
DESCRIPTION:LKA Admin Office Closed NO BUS SERVICE
URL:https://leisureknoll.org/calendar/lka-offices-closed-2/
END:VEVENT
BEGIN:VEVENT
DTSTART;TZID=America/New_York:20230704T090000
DTEND;TZID=America/New_York:20230704T110000
DTSTAMP:20260423T001519
CREATED:20210416T003116Z
LAST-MODIFIED:20260109T025549Z
UID:10009746-1688461200-1688468400@leisureknoll.org
SUMMARY:Wood Shop
DESCRIPTION:
URL:https://leisureknoll.org/calendar/wood-shop/2023-07-04/
END:VEVENT
BEGIN:VEVENT
DTSTART;TZID=America/New_York:20230704T093000
DTEND;TZID=America/New_York:20230704T103000
DTSTAMP:20260423T001519
CREATED:20230312T040136Z
LAST-MODIFIED:20231128T012323Z
UID:10012455-1688463000-1688466600@leisureknoll.org
SUMMARY:Ladies Tennis
DESCRIPTION:
URL:https://leisureknoll.org/calendar/ladies-tennis-4/2023-07-04/
END:VEVENT
BEGIN:VEVENT
DTSTART;TZID=America/New_York:20230704T110000
DTEND;TZID=America/New_York:20230704T120000
DTSTAMP:20260423T001519
CREATED:20221202T030602Z
LAST-MODIFIED:20260109T025858Z
UID:10009954-1688468400-1688472000@leisureknoll.org
SUMMARY:Ping Pong
DESCRIPTION:11am @ Recreation Hall
URL:https://leisureknoll.org/calendar/ping-pong/2023-07-04/
END:VEVENT
BEGIN:VEVENT
DTSTART;TZID=America/New_York:20230704T123000
DTEND;TZID=America/New_York:20230704T163000
DTSTAMP:20260423T001519
CREATED:20210415T030726Z
LAST-MODIFIED:20240114T192346Z
UID:10010629-1688473800-1688488200@leisureknoll.org
SUMMARY:Bus to Yaphank & Middle Island
DESCRIPTION:Bus to Wal-Mart Yaphank/King Kullen Middle Island shopping center. \nLeaves Leisure Knoll at 12:30pm and returns 4:30pm.
URL:https://leisureknoll.org/calendar/bus-to-middle-island/2023-07-04/
END:VEVENT
BEGIN:VEVENT
DTSTART;TZID=America/New_York:20230704T130000
DTEND;TZID=America/New_York:20230704T150000
DTSTAMP:20260423T001519
CREATED:20210416T003503Z
LAST-MODIFIED:20240929T182527Z
UID:10010344-1688475600-1688482800@leisureknoll.org
SUMMARY:Billiards
DESCRIPTION:Recreation Center\, every day except Sunday
URL:https://leisureknoll.org/calendar/billiards/2023-07-04/
END:VEVENT
BEGIN:VEVENT
DTSTART;TZID=America/New_York:20230704T130000
DTEND;TZID=America/New_York:20230704T163000
DTSTAMP:20260423T001519
CREATED:20230312T032638Z
LAST-MODIFIED:20240929T181808Z
UID:10011704-1688475600-1688488200@leisureknoll.org
SUMMARY:Rummikub
DESCRIPTION:Craft Center \n1-4:30pm
URL:https://leisureknoll.org/calendar/rummikub-2-2/2023-07-04/
END:VEVENT
BEGIN:VEVENT
DTSTART;TZID=America/New_York:20230704T160000
DTEND;TZID=America/New_York:20230704T180000
DTSTAMP:20260423T001519
CREATED:20230630T033930Z
LAST-MODIFIED:20230630T033930Z
UID:10012996-1688486400-1688493600@leisureknoll.org
SUMMARY:Ent. Comm. “BYO” July 4th BBQ
DESCRIPTION:@ 4pm
URL:https://leisureknoll.org/calendar/ent-comm-byo-july-4th-bbq/
END:VEVENT
BEGIN:VEVENT
DTSTART;TZID=America/New_York:20230704T183000
DTEND;TZID=America/New_York:20230704T203000
DTSTAMP:20260423T001519
CREATED:20210702T033018Z
LAST-MODIFIED:20230501T195018Z
UID:10010733-1688495400-1688502600@leisureknoll.org
SUMMARY:Mixed Card Game
DESCRIPTION:Craft Center
URL:https://leisureknoll.org/calendar/guys-gals-card-game/2023-07-04/
END:VEVENT
BEGIN:VEVENT
DTSTART;VALUE=DATE:20230705
DTEND;VALUE=DATE:20230706
DTSTAMP:20260423T001519
CREATED:20230630T034246Z
LAST-MODIFIED:20230630T034246Z
UID:10012997-1688515200-1688601599@leisureknoll.org
SUMMARY:Garbage Pick Up
DESCRIPTION:In lieu of July 4th pick up
URL:https://leisureknoll.org/calendar/garbage-pick-up/
END:VEVENT
BEGIN:VEVENT
DTSTART;TZID=America/New_York:20230705T090000
DTEND;TZID=America/New_York:20230705T100000
DTSTAMP:20260423T001519
CREATED:20230312T035839Z
LAST-MODIFIED:20231128T012444Z
UID:10012167-1688547600-1688551200@leisureknoll.org
SUMMARY:Tennis Club
DESCRIPTION:
URL:https://leisureknoll.org/calendar/tennis-club/2023-07-05/
END:VEVENT
BEGIN:VEVENT
DTSTART;TZID=America/New_York:20230705T090000
DTEND;TZID=America/New_York:20230705T110000
DTSTAMP:20260423T001519
CREATED:20210416T003116Z
LAST-MODIFIED:20260109T025549Z
UID:10009747-1688547600-1688554800@leisureknoll.org
SUMMARY:Wood Shop
DESCRIPTION:
URL:https://leisureknoll.org/calendar/wood-shop/2023-07-05/
END:VEVENT
BEGIN:VEVENT
DTSTART;TZID=America/New_York:20230705T093000
DTEND;TZID=America/New_York:20230705T113000
DTSTAMP:20260423T001519
CREATED:20210901T030231Z
LAST-MODIFIED:20260109T030159Z
UID:10010785-1688549400-1688556600@leisureknoll.org
SUMMARY:Art Club
DESCRIPTION:Craft Room
URL:https://leisureknoll.org/calendar/art-club/2023-07-05/
END:VEVENT
BEGIN:VEVENT
DTSTART;TZID=America/New_York:20230705T100000
DTEND;TZID=America/New_York:20230705T110000
DTSTAMP:20260423T001519
CREATED:20220301T013856Z
LAST-MODIFIED:20250101T175615Z
UID:10010084-1688551200-1688554800@leisureknoll.org
SUMMARY:Slimnastics
DESCRIPTION:Recreation Hall
URL:https://leisureknoll.org/calendar/slimnastics-5/2023-07-05/
END:VEVENT
BEGIN:VEVENT
DTSTART;TZID=America/New_York:20230705T113000
DTEND;TZID=America/New_York:20230705T143000
DTSTAMP:20260423T001519
CREATED:20230617T023550Z
LAST-MODIFIED:20230617T023550Z
UID:10010837-1688556600-1688567400@leisureknoll.org
SUMMARY:Men's Bowling
DESCRIPTION:@ 11:30am
URL:https://leisureknoll.org/calendar/mens-bowling-2021-09-15-2/2023-07-05/
END:VEVENT
BEGIN:VEVENT
DTSTART;TZID=America/New_York:20230705T130000
DTEND;TZID=America/New_York:20230705T150000
DTSTAMP:20260423T001519
CREATED:20210416T003503Z
LAST-MODIFIED:20240929T182527Z
UID:10010345-1688562000-1688569200@leisureknoll.org
SUMMARY:Billiards
DESCRIPTION:Recreation Center\, every day except Sunday
URL:https://leisureknoll.org/calendar/billiards/2023-07-05/
END:VEVENT
BEGIN:VEVENT
DTSTART;TZID=America/New_York:20230705T130000
DTEND;TZID=America/New_York:20230705T150000
DTSTAMP:20260423T001519
CREATED:20210416T005743Z
LAST-MODIFIED:20260109T030323Z
UID:10010889-1688562000-1688569200@leisureknoll.org
SUMMARY:Bridge
DESCRIPTION:Craft Center
URL:https://leisureknoll.org/calendar/bridge/2023-07-05/
END:VEVENT
BEGIN:VEVENT
DTSTART;TZID=America/New_York:20230705T130000
DTEND;TZID=America/New_York:20230705T150000
DTSTAMP:20260423T001519
CREATED:20230630T032412Z
LAST-MODIFIED:20230630T032412Z
UID:10012964-1688562000-1688569200@leisureknoll.org
SUMMARY:Knitting for Charity
DESCRIPTION:1pm @ Craft Center
URL:https://leisureknoll.org/calendar/knitting-for-charity-2/2023-07-05/
END:VEVENT
END:VCALENDAR