BEGIN:VCALENDAR
VERSION:2.0
PRODID:-//Leisure Knoll - ECPv6.15.20//NONSGML v1.0//EN
CALSCALE:GREGORIAN
METHOD:PUBLISH
X-WR-CALNAME:Leisure Knoll
X-ORIGINAL-URL:https://leisureknoll.org
X-WR-CALDESC:Events for Leisure Knoll
REFRESH-INTERVAL;VALUE=DURATION:PT1H
X-Robots-Tag:noindex
X-PUBLISHED-TTL:PT1H
BEGIN:VTIMEZONE
TZID:America/New_York
BEGIN:DAYLIGHT
TZOFFSETFROM:-0500
TZOFFSETTO:-0400
TZNAME:EDT
DTSTART:20220313T070000
END:DAYLIGHT
BEGIN:STANDARD
TZOFFSETFROM:-0400
TZOFFSETTO:-0500
TZNAME:EST
DTSTART:20221106T060000
END:STANDARD
BEGIN:DAYLIGHT
TZOFFSETFROM:-0500
TZOFFSETTO:-0400
TZNAME:EDT
DTSTART:20230312T070000
END:DAYLIGHT
BEGIN:STANDARD
TZOFFSETFROM:-0400
TZOFFSETTO:-0500
TZNAME:EST
DTSTART:20231105T060000
END:STANDARD
BEGIN:DAYLIGHT
TZOFFSETFROM:-0500
TZOFFSETTO:-0400
TZNAME:EDT
DTSTART:20240310T070000
END:DAYLIGHT
BEGIN:STANDARD
TZOFFSETFROM:-0400
TZOFFSETTO:-0500
TZNAME:EST
DTSTART:20241103T060000
END:STANDARD
END:VTIMEZONE
BEGIN:VEVENT
DTSTART;VALUE=DATE:20230501
DTEND;VALUE=DATE:20230905
DTSTAMP:20260423T182253
CREATED:20230501T201015Z
LAST-MODIFIED:20230501T201145Z
UID:10012653-1682899200-1693871999@leisureknoll.org
SUMMARY:Pool Open 5/27/23 - 9/4/23
DESCRIPTION:POOL HOURS ADULTS & ADULT GUESTS \n\n\n\n\nMay 27th-June 24th  \n\nSat.-Thurs: 10:00am-5:15pm\nFri:10:00am-6:30pm\n\n\n\nJune 25th-Sept. 4th  \n\nSat.-Thurs:10:00am-6:45pm\nFri:10:00am-6:30pm\n\n\n\n\n\nCHILDREN’S HOURS (AGES 4 THROUGH 12) \n\nMon\, Wed\, Fri: 11:30am-2:00pm & 4:00pm-5:15pm\nSaturday & Sunday: 12:00pm-4:00pm\n\nOnce lifeguard off–duty\, pool will remain open until 9pm (RESIDENTS ONLY\, NO CHILDREN—swim at your own risk)
URL:https://leisureknoll.org/calendar/pool-open-5-27-23-9-4-23/
END:VEVENT
BEGIN:VEVENT
DTSTART;TZID=America/New_York:20230508T090000
DTEND;TZID=America/New_York:20230508T100000
DTSTAMP:20260423T182253
CREATED:20230312T035839Z
LAST-MODIFIED:20231128T012444Z
UID:10012134-1683536400-1683540000@leisureknoll.org
SUMMARY:Tennis Club
DESCRIPTION:
URL:https://leisureknoll.org/calendar/tennis-club/2023-05-08/
END:VEVENT
BEGIN:VEVENT
DTSTART;TZID=America/New_York:20230508T090000
DTEND;TZID=America/New_York:20230508T110000
DTSTAMP:20260423T182253
CREATED:20210416T003116Z
LAST-MODIFIED:20260109T025549Z
UID:10009705-1683536400-1683543600@leisureknoll.org
SUMMARY:Wood Shop
DESCRIPTION:
URL:https://leisureknoll.org/calendar/wood-shop/2023-05-08/
END:VEVENT
BEGIN:VEVENT
DTSTART;TZID=America/New_York:20230508T100000
DTEND;TZID=America/New_York:20230508T110000
DTSTAMP:20260423T182253
CREATED:20220301T013856Z
LAST-MODIFIED:20250101T175615Z
UID:10010067-1683540000-1683543600@leisureknoll.org
SUMMARY:Slimnastics
DESCRIPTION:Recreation Hall
URL:https://leisureknoll.org/calendar/slimnastics-5/2023-05-08/
END:VEVENT
BEGIN:VEVENT
DTSTART;TZID=America/New_York:20230508T110000
DTEND;TZID=America/New_York:20230508T120000
DTSTAMP:20260423T182253
CREATED:20221202T030602Z
LAST-MODIFIED:20260109T025858Z
UID:10009929-1683543600-1683547200@leisureknoll.org
SUMMARY:Ping Pong
DESCRIPTION:11am @ Recreation Hall
URL:https://leisureknoll.org/calendar/ping-pong/2023-05-08/
END:VEVENT
BEGIN:VEVENT
DTSTART;TZID=America/New_York:20230508T123000
DTEND;TZID=America/New_York:20230508T143000
DTSTAMP:20260423T182253
CREATED:20210702T030121Z
LAST-MODIFIED:20230106T200950Z
UID:10010153-1683549000-1683556200@leisureknoll.org
SUMMARY:Mah Jongg
DESCRIPTION:@ Craft Center
URL:https://leisureknoll.org/calendar/mah-jongg-5/2023-05-08/
END:VEVENT
BEGIN:VEVENT
DTSTART;TZID=America/New_York:20230508T130000
DTEND;TZID=America/New_York:20230508T150000
DTSTAMP:20260423T182253
CREATED:20210416T003503Z
LAST-MODIFIED:20240929T182527Z
UID:10010295-1683550800-1683558000@leisureknoll.org
SUMMARY:Billiards
DESCRIPTION:Recreation Center\, every day except Sunday
URL:https://leisureknoll.org/calendar/billiards/2023-05-08/
END:VEVENT
BEGIN:VEVENT
DTSTART;TZID=America/New_York:20230508T180000
DTEND;TZID=America/New_York:20230508T200000
DTSTAMP:20260423T182253
CREATED:20210702T034900Z
LAST-MODIFIED:20240707T191247Z
UID:10016796-1683568800-1683576000@leisureknoll.org
SUMMARY:Ladies Poker
DESCRIPTION:Craft Center
URL:https://leisureknoll.org/calendar/ladies-poker-2021-09-13/2023-05-08/
END:VEVENT
BEGIN:VEVENT
DTSTART;VALUE=DATE:20230509
DTEND;VALUE=DATE:20230510
DTSTAMP:20260423T182253
CREATED:20210416T001302Z
LAST-MODIFIED:20251215T033850Z
UID:10009494-1683590400-1683676799@leisureknoll.org
SUMMARY:Garbage Pick Up
DESCRIPTION:GARBAGE P/U -WINTERS BROS. WASTE – 631-491-4923\nGarbage pick up Tues. & Fri. except holidays Confirm Bulk P/U (on Thursday) with Winters Brothers
URL:https://leisureknoll.org/calendar/garbage-pick-up-fri/2023-05-09/
END:VEVENT
BEGIN:VEVENT
DTSTART;TZID=America/New_York:20230509T090000
DTEND;TZID=America/New_York:20230509T110000
DTSTAMP:20260423T182253
CREATED:20210416T003116Z
LAST-MODIFIED:20260109T025549Z
UID:10009706-1683622800-1683630000@leisureknoll.org
SUMMARY:Wood Shop
DESCRIPTION:
URL:https://leisureknoll.org/calendar/wood-shop/2023-05-09/
END:VEVENT
BEGIN:VEVENT
DTSTART;TZID=America/New_York:20230509T093000
DTEND;TZID=America/New_York:20230509T103000
DTSTAMP:20260423T182253
CREATED:20230312T040136Z
LAST-MODIFIED:20231128T012323Z
UID:10012439-1683624600-1683628200@leisureknoll.org
SUMMARY:Ladies Tennis
DESCRIPTION:
URL:https://leisureknoll.org/calendar/ladies-tennis-4/2023-05-09/
END:VEVENT
BEGIN:VEVENT
DTSTART;TZID=America/New_York:20230509T110000
DTEND;TZID=America/New_York:20230509T120000
DTSTAMP:20260423T182253
CREATED:20221202T030602Z
LAST-MODIFIED:20260109T025858Z
UID:10009930-1683630000-1683633600@leisureknoll.org
SUMMARY:Ping Pong
DESCRIPTION:11am @ Recreation Hall
URL:https://leisureknoll.org/calendar/ping-pong/2023-05-09/
END:VEVENT
BEGIN:VEVENT
DTSTART;TZID=America/New_York:20230509T123000
DTEND;TZID=America/New_York:20230509T163000
DTSTAMP:20260423T182253
CREATED:20210415T030726Z
LAST-MODIFIED:20240114T192346Z
UID:10010621-1683635400-1683649800@leisureknoll.org
SUMMARY:Bus to Yaphank & Middle Island
DESCRIPTION:Bus to Wal-Mart Yaphank/King Kullen Middle Island shopping center. \nLeaves Leisure Knoll at 12:30pm and returns 4:30pm.
URL:https://leisureknoll.org/calendar/bus-to-middle-island/2023-05-09/
END:VEVENT
BEGIN:VEVENT
DTSTART;TZID=America/New_York:20230509T130000
DTEND;TZID=America/New_York:20230509T140000
DTSTAMP:20260423T182253
CREATED:20230209T030412Z
LAST-MODIFIED:20230501T203608Z
UID:10012655-1683637200-1683640800@leisureknoll.org
SUMMARY:Architectural Committee Meeting
DESCRIPTION:1-2pm @ Craft Center
URL:https://leisureknoll.org/calendar/architectural-committee-meeting-12/2023-05-09/
END:VEVENT
BEGIN:VEVENT
DTSTART;TZID=America/New_York:20230509T130000
DTEND;TZID=America/New_York:20230509T150000
DTSTAMP:20260423T182253
CREATED:20210416T003503Z
LAST-MODIFIED:20240929T182527Z
UID:10010296-1683637200-1683644400@leisureknoll.org
SUMMARY:Billiards
DESCRIPTION:Recreation Center\, every day except Sunday
URL:https://leisureknoll.org/calendar/billiards/2023-05-09/
END:VEVENT
BEGIN:VEVENT
DTSTART;TZID=America/New_York:20230509T130000
DTEND;TZID=America/New_York:20230509T163000
DTSTAMP:20260423T182253
CREATED:20230312T032638Z
LAST-MODIFIED:20240929T181808Z
UID:10011696-1683637200-1683649800@leisureknoll.org
SUMMARY:Rummikub
DESCRIPTION:Craft Center \n1-4:30pm
URL:https://leisureknoll.org/calendar/rummikub-2-2/2023-05-09/
END:VEVENT
BEGIN:VEVENT
DTSTART;TZID=America/New_York:20230509T183000
DTEND;TZID=America/New_York:20230509T203000
DTSTAMP:20260423T182253
CREATED:20210702T033018Z
LAST-MODIFIED:20230501T195018Z
UID:10010725-1683657000-1683664200@leisureknoll.org
SUMMARY:Mixed Card Game
DESCRIPTION:Craft Center
URL:https://leisureknoll.org/calendar/guys-gals-card-game/2023-05-09/
END:VEVENT
BEGIN:VEVENT
DTSTART;TZID=America/New_York:20230509T190000
DTEND;TZID=America/New_York:20230509T203000
DTSTAMP:20260423T182254
CREATED:20230501T204707Z
LAST-MODIFIED:20230501T204707Z
UID:10012658-1683658800-1683664200@leisureknoll.org
SUMMARY:American Legion Ladies Auxiliary Meeting
DESCRIPTION:7pm @ Rec Center
URL:https://leisureknoll.org/calendar/american-legion-ladies-auxiliary-meeting/
END:VEVENT
BEGIN:VEVENT
DTSTART;VALUE=DATE:20230510
DTEND;VALUE=DATE:20230511
DTSTAMP:20260423T182254
CREATED:20210416T002329Z
LAST-MODIFIED:20250101T172802Z
UID:10009571-1683676800-1683763199@leisureknoll.org
SUMMARY:Recycling - Paper
DESCRIPTION:Paper
URL:https://leisureknoll.org/calendar/recycling-paper/2023-05-10/
END:VEVENT
BEGIN:VEVENT
DTSTART;TZID=America/New_York:20230510T090000
DTEND;TZID=America/New_York:20230510T100000
DTSTAMP:20260423T182254
CREATED:20230312T035839Z
LAST-MODIFIED:20231128T012444Z
UID:10012135-1683709200-1683712800@leisureknoll.org
SUMMARY:Tennis Club
DESCRIPTION:
URL:https://leisureknoll.org/calendar/tennis-club/2023-05-10/
END:VEVENT
BEGIN:VEVENT
DTSTART;TZID=America/New_York:20230510T090000
DTEND;TZID=America/New_York:20230510T110000
DTSTAMP:20260423T182254
CREATED:20210416T003116Z
LAST-MODIFIED:20260109T025549Z
UID:10009707-1683709200-1683716400@leisureknoll.org
SUMMARY:Wood Shop
DESCRIPTION:
URL:https://leisureknoll.org/calendar/wood-shop/2023-05-10/
END:VEVENT
BEGIN:VEVENT
DTSTART;TZID=America/New_York:20230510T093000
DTEND;TZID=America/New_York:20230510T113000
DTSTAMP:20260423T182254
CREATED:20210901T030231Z
LAST-MODIFIED:20260109T030159Z
UID:10010777-1683711000-1683718200@leisureknoll.org
SUMMARY:Art Club
DESCRIPTION:Craft Room
URL:https://leisureknoll.org/calendar/art-club/2023-05-10/
END:VEVENT
BEGIN:VEVENT
DTSTART;TZID=America/New_York:20230510T100000
DTEND;TZID=America/New_York:20230510T110000
DTSTAMP:20260423T182254
CREATED:20220301T013856Z
LAST-MODIFIED:20250101T175615Z
UID:10010068-1683712800-1683716400@leisureknoll.org
SUMMARY:Slimnastics
DESCRIPTION:Recreation Hall
URL:https://leisureknoll.org/calendar/slimnastics-5/2023-05-10/
END:VEVENT
BEGIN:VEVENT
DTSTART;TZID=America/New_York:20230510T113000
DTEND;TZID=America/New_York:20230510T143000
DTSTAMP:20260423T182254
CREATED:20210416T005344Z
LAST-MODIFIED:20230106T201617Z
UID:10010829-1683718200-1683729000@leisureknoll.org
SUMMARY:Men's & Mixers Bowling
DESCRIPTION:
URL:https://leisureknoll.org/calendar/mens-bowling-2021-09-15/2023-05-10/
END:VEVENT
BEGIN:VEVENT
DTSTART;TZID=America/New_York:20230510T130000
DTEND;TZID=America/New_York:20230510T150000
DTSTAMP:20260423T182254
CREATED:20210416T003503Z
LAST-MODIFIED:20240929T182527Z
UID:10010297-1683723600-1683730800@leisureknoll.org
SUMMARY:Billiards
DESCRIPTION:Recreation Center\, every day except Sunday
URL:https://leisureknoll.org/calendar/billiards/2023-05-10/
END:VEVENT
BEGIN:VEVENT
DTSTART;TZID=America/New_York:20230510T130000
DTEND;TZID=America/New_York:20230510T150000
DTSTAMP:20260423T182254
CREATED:20210416T005743Z
LAST-MODIFIED:20260109T030323Z
UID:10010881-1683723600-1683730800@leisureknoll.org
SUMMARY:Bridge
DESCRIPTION:Craft Center
URL:https://leisureknoll.org/calendar/bridge/2023-05-10/
END:VEVENT
BEGIN:VEVENT
DTSTART;TZID=America/New_York:20230510T180000
DTEND;TZID=America/New_York:20230510T200000
DTSTAMP:20260423T182254
CREATED:20210416T005957Z
LAST-MODIFIED:20240929T182030Z
UID:10010985-1683741600-1683748800@leisureknoll.org
SUMMARY:Men's Poker
DESCRIPTION:Craft Center
URL:https://leisureknoll.org/calendar/mens-poker-2022-08-31/2023-05-10/
END:VEVENT
BEGIN:VEVENT
DTSTART;TZID=America/New_York:20230510T184500
DTEND;TZID=America/New_York:20230510T204500
DTSTAMP:20260423T182254
CREATED:20210505T022532Z
LAST-MODIFIED:20260109T031152Z
UID:10011037-1683744300-1683751500@leisureknoll.org
SUMMARY:Dominoes
DESCRIPTION:Recreation Hall
URL:https://leisureknoll.org/calendar/dominoes/2023-05-10/
END:VEVENT
BEGIN:VEVENT
DTSTART;TZID=America/New_York:20230511T090000
DTEND;TZID=America/New_York:20230511T110000
DTSTAMP:20260423T182254
CREATED:20210416T003116Z
LAST-MODIFIED:20260109T025549Z
UID:10009708-1683795600-1683802800@leisureknoll.org
SUMMARY:Wood Shop
DESCRIPTION:
URL:https://leisureknoll.org/calendar/wood-shop/2023-05-11/
END:VEVENT
BEGIN:VEVENT
DTSTART;TZID=America/New_York:20230511T093000
DTEND;TZID=America/New_York:20230511T103000
DTSTAMP:20260423T182254
CREATED:20230312T040136Z
LAST-MODIFIED:20231128T012323Z
UID:10012440-1683797400-1683801000@leisureknoll.org
SUMMARY:Ladies Tennis
DESCRIPTION:
URL:https://leisureknoll.org/calendar/ladies-tennis-4/2023-05-11/
END:VEVENT
END:VCALENDAR