BEGIN:VCALENDAR
VERSION:2.0
PRODID:-//Leisure Knoll - ECPv6.15.20//NONSGML v1.0//EN
CALSCALE:GREGORIAN
METHOD:PUBLISH
X-WR-CALNAME:Leisure Knoll
X-ORIGINAL-URL:https://leisureknoll.org
X-WR-CALDESC:Events for Leisure Knoll
REFRESH-INTERVAL;VALUE=DURATION:PT1H
X-Robots-Tag:noindex
X-PUBLISHED-TTL:PT1H
BEGIN:VTIMEZONE
TZID:America/New_York
BEGIN:DAYLIGHT
TZOFFSETFROM:-0500
TZOFFSETTO:-0400
TZNAME:EDT
DTSTART:20220313T070000
END:DAYLIGHT
BEGIN:STANDARD
TZOFFSETFROM:-0400
TZOFFSETTO:-0500
TZNAME:EST
DTSTART:20221106T060000
END:STANDARD
BEGIN:DAYLIGHT
TZOFFSETFROM:-0500
TZOFFSETTO:-0400
TZNAME:EDT
DTSTART:20230312T070000
END:DAYLIGHT
BEGIN:STANDARD
TZOFFSETFROM:-0400
TZOFFSETTO:-0500
TZNAME:EST
DTSTART:20231105T060000
END:STANDARD
BEGIN:DAYLIGHT
TZOFFSETFROM:-0500
TZOFFSETTO:-0400
TZNAME:EDT
DTSTART:20240310T070000
END:DAYLIGHT
BEGIN:STANDARD
TZOFFSETFROM:-0400
TZOFFSETTO:-0500
TZNAME:EST
DTSTART:20241103T060000
END:STANDARD
END:VTIMEZONE
BEGIN:VEVENT
DTSTART;TZID=America/New_York:20230424T090000
DTEND;TZID=America/New_York:20230424T100000
DTSTAMP:20260424T023457
CREATED:20230312T035839Z
LAST-MODIFIED:20231128T012444Z
UID:10012126-1682326800-1682330400@leisureknoll.org
SUMMARY:Tennis Club
DESCRIPTION:
URL:https://leisureknoll.org/calendar/tennis-club/2023-04-24/
END:VEVENT
BEGIN:VEVENT
DTSTART;TZID=America/New_York:20230424T090000
DTEND;TZID=America/New_York:20230424T110000
DTSTAMP:20260424T023457
CREATED:20210416T003116Z
LAST-MODIFIED:20260109T025549Z
UID:10009695-1682326800-1682334000@leisureknoll.org
SUMMARY:Wood Shop
DESCRIPTION:
URL:https://leisureknoll.org/calendar/wood-shop/2023-04-24/
END:VEVENT
BEGIN:VEVENT
DTSTART;TZID=America/New_York:20230424T100000
DTEND;TZID=America/New_York:20230424T110000
DTSTAMP:20260424T023458
CREATED:20220301T013856Z
LAST-MODIFIED:20250101T175615Z
UID:10010063-1682330400-1682334000@leisureknoll.org
SUMMARY:Slimnastics
DESCRIPTION:Recreation Hall
URL:https://leisureknoll.org/calendar/slimnastics-5/2023-04-24/
END:VEVENT
BEGIN:VEVENT
DTSTART;TZID=America/New_York:20230424T110000
DTEND;TZID=America/New_York:20230424T120000
DTSTAMP:20260424T023458
CREATED:20221202T030602Z
LAST-MODIFIED:20260109T025858Z
UID:10009923-1682334000-1682337600@leisureknoll.org
SUMMARY:Ping Pong
DESCRIPTION:11am @ Recreation Hall
URL:https://leisureknoll.org/calendar/ping-pong/2023-04-24/
END:VEVENT
BEGIN:VEVENT
DTSTART;TZID=America/New_York:20230424T123000
DTEND;TZID=America/New_York:20230424T143000
DTSTAMP:20260424T023458
CREATED:20210702T030121Z
LAST-MODIFIED:20230106T200950Z
UID:10010151-1682339400-1682346600@leisureknoll.org
SUMMARY:Mah Jongg
DESCRIPTION:@ Craft Center
URL:https://leisureknoll.org/calendar/mah-jongg-5/2023-04-24/
END:VEVENT
BEGIN:VEVENT
DTSTART;TZID=America/New_York:20230424T130000
DTEND;TZID=America/New_York:20230424T150000
DTSTAMP:20260424T023458
CREATED:20210416T003503Z
LAST-MODIFIED:20240929T182527Z
UID:10010283-1682341200-1682348400@leisureknoll.org
SUMMARY:Billiards
DESCRIPTION:Recreation Center\, every day except Sunday
URL:https://leisureknoll.org/calendar/billiards/2023-04-24/
END:VEVENT
BEGIN:VEVENT
DTSTART;TZID=America/New_York:20230424T180000
DTEND;TZID=America/New_York:20230424T200000
DTSTAMP:20260424T023458
CREATED:20210702T034900Z
LAST-MODIFIED:20240707T191247Z
UID:10016794-1682359200-1682366400@leisureknoll.org
SUMMARY:Ladies Poker
DESCRIPTION:Craft Center
URL:https://leisureknoll.org/calendar/ladies-poker-2021-09-13/2023-04-24/
END:VEVENT
BEGIN:VEVENT
DTSTART;VALUE=DATE:20230425
DTEND;VALUE=DATE:20230426
DTSTAMP:20260424T023458
CREATED:20210416T001302Z
LAST-MODIFIED:20251215T033850Z
UID:10009490-1682380800-1682467199@leisureknoll.org
SUMMARY:Garbage Pick Up
DESCRIPTION:GARBAGE P/U -WINTERS BROS. WASTE – 631-491-4923\nGarbage pick up Tues. & Fri. except holidays Confirm Bulk P/U (on Thursday) with Winters Brothers
URL:https://leisureknoll.org/calendar/garbage-pick-up-fri/2023-04-25/
END:VEVENT
BEGIN:VEVENT
DTSTART;TZID=America/New_York:20230425T090000
DTEND;TZID=America/New_York:20230425T110000
DTSTAMP:20260424T023458
CREATED:20210416T003116Z
LAST-MODIFIED:20260109T025549Z
UID:10009696-1682413200-1682420400@leisureknoll.org
SUMMARY:Wood Shop
DESCRIPTION:
URL:https://leisureknoll.org/calendar/wood-shop/2023-04-25/
END:VEVENT
BEGIN:VEVENT
DTSTART;TZID=America/New_York:20230425T093000
DTEND;TZID=America/New_York:20230425T103000
DTSTAMP:20260424T023458
CREATED:20230312T040136Z
LAST-MODIFIED:20231128T012323Z
UID:10012435-1682415000-1682418600@leisureknoll.org
SUMMARY:Ladies Tennis
DESCRIPTION:
URL:https://leisureknoll.org/calendar/ladies-tennis-4/2023-04-25/
END:VEVENT
BEGIN:VEVENT
DTSTART;TZID=America/New_York:20230425T110000
DTEND;TZID=America/New_York:20230425T120000
DTSTAMP:20260424T023458
CREATED:20221202T030602Z
LAST-MODIFIED:20260109T025858Z
UID:10009924-1682420400-1682424000@leisureknoll.org
SUMMARY:Ping Pong
DESCRIPTION:11am @ Recreation Hall
URL:https://leisureknoll.org/calendar/ping-pong/2023-04-25/
END:VEVENT
BEGIN:VEVENT
DTSTART;TZID=America/New_York:20230425T123000
DTEND;TZID=America/New_York:20230425T163000
DTSTAMP:20260424T023458
CREATED:20210415T030726Z
LAST-MODIFIED:20240114T192346Z
UID:10010619-1682425800-1682440200@leisureknoll.org
SUMMARY:Bus to Yaphank & Middle Island
DESCRIPTION:Bus to Wal-Mart Yaphank/King Kullen Middle Island shopping center. \nLeaves Leisure Knoll at 12:30pm and returns 4:30pm.
URL:https://leisureknoll.org/calendar/bus-to-middle-island/2023-04-25/
END:VEVENT
BEGIN:VEVENT
DTSTART;TZID=America/New_York:20230425T130000
DTEND;TZID=America/New_York:20230425T140000
DTSTAMP:20260424T023458
CREATED:20230209T030412Z
LAST-MODIFIED:20230501T203608Z
UID:10012605-1682427600-1682431200@leisureknoll.org
SUMMARY:Architectural Committee Meeting
DESCRIPTION:1-2pm @ Craft Center
URL:https://leisureknoll.org/calendar/architectural-committee-meeting-12/2023-04-25/
END:VEVENT
BEGIN:VEVENT
DTSTART;TZID=America/New_York:20230425T130000
DTEND;TZID=America/New_York:20230425T150000
DTSTAMP:20260424T023458
CREATED:20210416T003503Z
LAST-MODIFIED:20240929T182527Z
UID:10010284-1682427600-1682434800@leisureknoll.org
SUMMARY:Billiards
DESCRIPTION:Recreation Center\, every day except Sunday
URL:https://leisureknoll.org/calendar/billiards/2023-04-25/
END:VEVENT
BEGIN:VEVENT
DTSTART;TZID=America/New_York:20230425T130000
DTEND;TZID=America/New_York:20230425T163000
DTSTAMP:20260424T023458
CREATED:20230312T032638Z
LAST-MODIFIED:20240929T181808Z
UID:10011694-1682427600-1682440200@leisureknoll.org
SUMMARY:Rummikub
DESCRIPTION:Craft Center \n1-4:30pm
URL:https://leisureknoll.org/calendar/rummikub-2-2/2023-04-25/
END:VEVENT
BEGIN:VEVENT
DTSTART;TZID=America/New_York:20230425T183000
DTEND;TZID=America/New_York:20230425T203000
DTSTAMP:20260424T023458
CREATED:20210702T033018Z
LAST-MODIFIED:20230501T195018Z
UID:10010723-1682447400-1682454600@leisureknoll.org
SUMMARY:Mixed Card Game
DESCRIPTION:Craft Center
URL:https://leisureknoll.org/calendar/guys-gals-card-game/2023-04-25/
END:VEVENT
BEGIN:VEVENT
DTSTART;TZID=America/New_York:20230425T190000
DTEND;TZID=America/New_York:20230425T210000
DTSTAMP:20260424T023458
CREATED:20230312T035722Z
LAST-MODIFIED:20230403T000905Z
UID:10012608-1682449200-1682456400@leisureknoll.org
SUMMARY:Bunco Night
DESCRIPTION:7pm @ Recreation Center \nLKA Residents Only
URL:https://leisureknoll.org/calendar/bunco-night-4/2023-04-25/
END:VEVENT
BEGIN:VEVENT
DTSTART;VALUE=DATE:20230426
DTEND;VALUE=DATE:20230427
DTSTAMP:20260424T023458
CREATED:20210416T002329Z
LAST-MODIFIED:20250101T172802Z
UID:10009570-1682467200-1682553599@leisureknoll.org
SUMMARY:Recycling - Paper
DESCRIPTION:Paper
URL:https://leisureknoll.org/calendar/recycling-paper/2023-04-26/
END:VEVENT
BEGIN:VEVENT
DTSTART;TZID=America/New_York:20230426T090000
DTEND;TZID=America/New_York:20230426T100000
DTSTAMP:20260424T023458
CREATED:20230312T035839Z
LAST-MODIFIED:20231128T012444Z
UID:10012127-1682499600-1682503200@leisureknoll.org
SUMMARY:Tennis Club
DESCRIPTION:
URL:https://leisureknoll.org/calendar/tennis-club/2023-04-26/
END:VEVENT
BEGIN:VEVENT
DTSTART;TZID=America/New_York:20230426T090000
DTEND;TZID=America/New_York:20230426T110000
DTSTAMP:20260424T023458
CREATED:20210416T003116Z
LAST-MODIFIED:20260109T025549Z
UID:10009697-1682499600-1682506800@leisureknoll.org
SUMMARY:Wood Shop
DESCRIPTION:
URL:https://leisureknoll.org/calendar/wood-shop/2023-04-26/
END:VEVENT
BEGIN:VEVENT
DTSTART;TZID=America/New_York:20230426T093000
DTEND;TZID=America/New_York:20230426T113000
DTSTAMP:20260424T023458
CREATED:20210901T030231Z
LAST-MODIFIED:20260109T030159Z
UID:10010775-1682501400-1682508600@leisureknoll.org
SUMMARY:Art Club
DESCRIPTION:Craft Room
URL:https://leisureknoll.org/calendar/art-club/2023-04-26/
END:VEVENT
BEGIN:VEVENT
DTSTART;TZID=America/New_York:20230426T100000
DTEND;TZID=America/New_York:20230426T110000
DTSTAMP:20260424T023458
CREATED:20220301T013856Z
LAST-MODIFIED:20250101T175615Z
UID:10010064-1682503200-1682506800@leisureknoll.org
SUMMARY:Slimnastics
DESCRIPTION:Recreation Hall
URL:https://leisureknoll.org/calendar/slimnastics-5/2023-04-26/
END:VEVENT
BEGIN:VEVENT
DTSTART;TZID=America/New_York:20230426T113000
DTEND;TZID=America/New_York:20230426T143000
DTSTAMP:20260424T023458
CREATED:20210416T005344Z
LAST-MODIFIED:20230106T201617Z
UID:10010827-1682508600-1682519400@leisureknoll.org
SUMMARY:Men's & Mixers Bowling
DESCRIPTION:
URL:https://leisureknoll.org/calendar/mens-bowling-2021-09-15/2023-04-26/
END:VEVENT
BEGIN:VEVENT
DTSTART;TZID=America/New_York:20230426T130000
DTEND;TZID=America/New_York:20230426T150000
DTSTAMP:20260424T023458
CREATED:20210416T003503Z
LAST-MODIFIED:20240929T182527Z
UID:10010285-1682514000-1682521200@leisureknoll.org
SUMMARY:Billiards
DESCRIPTION:Recreation Center\, every day except Sunday
URL:https://leisureknoll.org/calendar/billiards/2023-04-26/
END:VEVENT
BEGIN:VEVENT
DTSTART;TZID=America/New_York:20230426T130000
DTEND;TZID=America/New_York:20230426T150000
DTSTAMP:20260424T023458
CREATED:20210416T005743Z
LAST-MODIFIED:20260109T030323Z
UID:10010879-1682514000-1682521200@leisureknoll.org
SUMMARY:Bridge
DESCRIPTION:Craft Center
URL:https://leisureknoll.org/calendar/bridge/2023-04-26/
END:VEVENT
BEGIN:VEVENT
DTSTART;TZID=America/New_York:20230426T180000
DTEND;TZID=America/New_York:20230426T200000
DTSTAMP:20260424T023458
CREATED:20210416T005957Z
LAST-MODIFIED:20240929T182030Z
UID:10010983-1682532000-1682539200@leisureknoll.org
SUMMARY:Men's Poker
DESCRIPTION:Craft Center
URL:https://leisureknoll.org/calendar/mens-poker-2022-08-31/2023-04-26/
END:VEVENT
BEGIN:VEVENT
DTSTART;TZID=America/New_York:20230426T184500
DTEND;TZID=America/New_York:20230426T204500
DTSTAMP:20260424T023458
CREATED:20210505T022532Z
LAST-MODIFIED:20260109T031152Z
UID:10011035-1682534700-1682541900@leisureknoll.org
SUMMARY:Dominoes
DESCRIPTION:Recreation Hall
URL:https://leisureknoll.org/calendar/dominoes/2023-04-26/
END:VEVENT
BEGIN:VEVENT
DTSTART;TZID=America/New_York:20230427T090000
DTEND;TZID=America/New_York:20230427T110000
DTSTAMP:20260424T023458
CREATED:20210416T003116Z
LAST-MODIFIED:20260109T025549Z
UID:10009698-1682586000-1682593200@leisureknoll.org
SUMMARY:Wood Shop
DESCRIPTION:
URL:https://leisureknoll.org/calendar/wood-shop/2023-04-27/
END:VEVENT
BEGIN:VEVENT
DTSTART;TZID=America/New_York:20230427T093000
DTEND;TZID=America/New_York:20230427T103000
DTSTAMP:20260424T023458
CREATED:20230312T040136Z
LAST-MODIFIED:20231128T012323Z
UID:10012436-1682587800-1682591400@leisureknoll.org
SUMMARY:Ladies Tennis
DESCRIPTION:
URL:https://leisureknoll.org/calendar/ladies-tennis-4/2023-04-27/
END:VEVENT
BEGIN:VEVENT
DTSTART;TZID=America/New_York:20230427T100000
DTEND;TZID=America/New_York:20230427T130000
DTSTAMP:20260424T023458
CREATED:20210415T031404Z
LAST-MODIFIED:20240114T192421Z
UID:10011087-1682589600-1682600400@leisureknoll.org
SUMMARY:Bus to Port Jefferson Station
DESCRIPTION:Bus to Port Jefferson Station\, Meat Farms\, Shop Rite\, TJ Max shopping center. \nLeaves Leisure Knoll at 10:00 am.
URL:https://leisureknoll.org/calendar/bus-to-port-jefferson-station/2023-04-27/
END:VEVENT
END:VCALENDAR