BEGIN:VCALENDAR
VERSION:2.0
PRODID:-//Leisure Knoll - ECPv6.15.20//NONSGML v1.0//EN
CALSCALE:GREGORIAN
METHOD:PUBLISH
X-WR-CALNAME:Leisure Knoll
X-ORIGINAL-URL:https://leisureknoll.org
X-WR-CALDESC:Events for Leisure Knoll
REFRESH-INTERVAL;VALUE=DURATION:PT1H
X-Robots-Tag:noindex
X-PUBLISHED-TTL:PT1H
BEGIN:VTIMEZONE
TZID:America/New_York
BEGIN:DAYLIGHT
TZOFFSETFROM:-0500
TZOFFSETTO:-0400
TZNAME:EDT
DTSTART:20200308T070000
END:DAYLIGHT
BEGIN:STANDARD
TZOFFSETFROM:-0400
TZOFFSETTO:-0500
TZNAME:EST
DTSTART:20201101T060000
END:STANDARD
BEGIN:DAYLIGHT
TZOFFSETFROM:-0500
TZOFFSETTO:-0400
TZNAME:EDT
DTSTART:20210314T070000
END:DAYLIGHT
BEGIN:STANDARD
TZOFFSETFROM:-0400
TZOFFSETTO:-0500
TZNAME:EST
DTSTART:20211107T060000
END:STANDARD
BEGIN:DAYLIGHT
TZOFFSETFROM:-0500
TZOFFSETTO:-0400
TZNAME:EDT
DTSTART:20220313T070000
END:DAYLIGHT
BEGIN:STANDARD
TZOFFSETFROM:-0400
TZOFFSETTO:-0500
TZNAME:EST
DTSTART:20221106T060000
END:STANDARD
END:VTIMEZONE
BEGIN:VEVENT
DTSTART;VALUE=DATE:20210404
DTEND;VALUE=DATE:20210411
DTSTAMP:20260425T125006
CREATED:20210416T000614Z
LAST-MODIFIED:20220508T162836Z
UID:10004558-1617494400-1618099199@leisureknoll.org
SUMMARY:First Bus Stop #1
DESCRIPTION:The bus will begin at stop #1 and proceed to stop #25.
URL:https://leisureknoll.org/calendar/first-bus-stop-1/2021-04-04/
END:VEVENT
BEGIN:VEVENT
DTSTART;TZID=America/New_York:20210405T090000
DTEND;TZID=America/New_York:20210405T110000
DTSTAMP:20260425T125006
CREATED:20210416T002837Z
LAST-MODIFIED:20210416T003724Z
UID:10004917-1617613200-1617620400@leisureknoll.org
SUMMARY:Tennis
DESCRIPTION:Tennis courts
URL:https://leisureknoll.org/calendar/tennis/2021-04-05/
END:VEVENT
BEGIN:VEVENT
DTSTART;TZID=America/New_York:20210405T090000
DTEND;TZID=America/New_York:20210405T110000
DTSTAMP:20260425T125006
CREATED:20210416T003116Z
LAST-MODIFIED:20260109T025549Z
UID:10004932-1617613200-1617620400@leisureknoll.org
SUMMARY:Wood Shop
DESCRIPTION:
URL:https://leisureknoll.org/calendar/wood-shop/2021-04-05/
END:VEVENT
BEGIN:VEVENT
DTSTART;TZID=America/New_York:20210405T123000
DTEND;TZID=America/New_York:20210405T143000
DTSTAMP:20260425T125006
CREATED:20210416T003307Z
LAST-MODIFIED:20210416T003307Z
UID:10005343-1617625800-1617633000@leisureknoll.org
SUMMARY:Mah Jongg
DESCRIPTION:In the Craft Center
URL:https://leisureknoll.org/calendar/mah-jongg/2021-04-05/
END:VEVENT
BEGIN:VEVENT
DTSTART;TZID=America/New_York:20210405T130000
DTEND;TZID=America/New_York:20210405T150000
DTSTAMP:20260425T125007
CREATED:20210416T003503Z
LAST-MODIFIED:20240929T182527Z
UID:10005350-1617627600-1617634800@leisureknoll.org
SUMMARY:Billiards
DESCRIPTION:Recreation Center\, every day except Sunday
URL:https://leisureknoll.org/calendar/billiards/2021-04-05/
END:VEVENT
BEGIN:VEVENT
DTSTART;TZID=America/New_York:20210405T130000
DTEND;TZID=America/New_York:20210405T150000
DTSTAMP:20260425T125007
CREATED:20210416T003845Z
LAST-MODIFIED:20210416T003845Z
UID:10005843-1617627600-1617634800@leisureknoll.org
SUMMARY:Ceramics
DESCRIPTION:Rec Hall
URL:https://leisureknoll.org/calendar/ceramics/2021-04-05/
END:VEVENT
BEGIN:VEVENT
DTSTART;TZID=America/New_York:20210405T130000
DTEND;TZID=America/New_York:20210405T150000
DTSTAMP:20260425T125007
CREATED:20210416T004009Z
LAST-MODIFIED:20221002T015425Z
UID:10005847-1617627600-1617634800@leisureknoll.org
SUMMARY:Chicago Bridge
DESCRIPTION:Rec Hall
URL:https://leisureknoll.org/calendar/chicago-bridge/2021-04-05/
END:VEVENT
BEGIN:VEVENT
DTSTART;TZID=America/New_York:20210405T183000
DTEND;TZID=America/New_York:20210405T203000
DTSTAMP:20260425T125007
CREATED:20210416T004220Z
LAST-MODIFIED:20210416T005849Z
UID:10005925-1617647400-1617654600@leisureknoll.org
SUMMARY:Mah Jongg
DESCRIPTION:Craft Center
URL:https://leisureknoll.org/calendar/mah-jongg-2/2021-04-05/
END:VEVENT
BEGIN:VEVENT
DTSTART;TZID=America/New_York:20210405T190000
DTEND;TZID=America/New_York:20210405T210000
DTSTAMP:20260425T125007
CREATED:20210416T001937Z
LAST-MODIFIED:20210416T004100Z
UID:10004812-1617649200-1617656400@leisureknoll.org
SUMMARY:Indoor Cornhole
DESCRIPTION:RC 7-9 pm \nMasks/Social Distance
URL:https://leisureknoll.org/calendar/indoor-cornhole/2021-04-05/
END:VEVENT
BEGIN:VEVENT
DTSTART;VALUE=DATE:20210406
DTEND;VALUE=DATE:20210407
DTSTAMP:20260425T125007
CREATED:20210416T001050Z
LAST-MODIFIED:20210416T001050Z
UID:10004586-1617667200-1617753599@leisureknoll.org
SUMMARY:Garbage Pick Up
DESCRIPTION:GARBAGE P/U -WINTERS BROS. WASTE – 631-491-4923\nGarbage pick up Tues. & Fri. except holidays Confirm Bulk P/U (on Thursday) with Winters Brothers
URL:https://leisureknoll.org/calendar/garbage-pick-up-tues/2021-04-06/
END:VEVENT
BEGIN:VEVENT
DTSTART;TZID=America/New_York:20210406T090000
DTEND;TZID=America/New_York:20210406T110000
DTSTAMP:20260425T125007
CREATED:20210416T003116Z
LAST-MODIFIED:20260109T025549Z
UID:10004933-1617699600-1617706800@leisureknoll.org
SUMMARY:Wood Shop
DESCRIPTION:
URL:https://leisureknoll.org/calendar/wood-shop/2021-04-06/
END:VEVENT
BEGIN:VEVENT
DTSTART;TZID=America/New_York:20210406T093000
DTEND;TZID=America/New_York:20210406T103000
DTSTAMP:20260425T125007
CREATED:20210416T004451Z
LAST-MODIFIED:20210416T011905Z
UID:10005934-1617701400-1617705000@leisureknoll.org
SUMMARY:Ladies Tennis
DESCRIPTION:Tennis Courts
URL:https://leisureknoll.org/calendar/ladies-tennis/2021-04-06/
END:VEVENT
BEGIN:VEVENT
DTSTART;TZID=America/New_York:20210406T100000
DTEND;TZID=America/New_York:20210406T110000
DTSTAMP:20260425T125007
CREATED:20210416T004620Z
LAST-MODIFIED:20210416T004620Z
UID:10005942-1617703200-1617706800@leisureknoll.org
SUMMARY:Slimnastics
DESCRIPTION:Rec Hall
URL:https://leisureknoll.org/calendar/slimnastics/2021-04-06/
END:VEVENT
BEGIN:VEVENT
DTSTART;TZID=America/New_York:20210406T120000
DTEND;TZID=America/New_York:20210406T140000
DTSTAMP:20260425T125007
CREATED:20210416T004721Z
LAST-MODIFIED:20210416T004721Z
UID:10005946-1617710400-1617717600@leisureknoll.org
SUMMARY:Mah Jongg
DESCRIPTION:Rec Center
URL:https://leisureknoll.org/calendar/mah-jongg-3/2021-04-06/
END:VEVENT
BEGIN:VEVENT
DTSTART;TZID=America/New_York:20210406T130000
DTEND;TZID=America/New_York:20210406T150000
DTSTAMP:20260425T125007
CREATED:20210416T003503Z
LAST-MODIFIED:20240929T182527Z
UID:10005351-1617714000-1617721200@leisureknoll.org
SUMMARY:Billiards
DESCRIPTION:Recreation Center\, every day except Sunday
URL:https://leisureknoll.org/calendar/billiards/2021-04-06/
END:VEVENT
BEGIN:VEVENT
DTSTART;TZID=America/New_York:20210406T130000
DTEND;TZID=America/New_York:20210406T150000
DTSTAMP:20260425T125007
CREATED:20210416T004849Z
LAST-MODIFIED:20210801T012001Z
UID:10005950-1617714000-1617721200@leisureknoll.org
SUMMARY:Ladies Cards
DESCRIPTION:Craft Center
URL:https://leisureknoll.org/calendar/ladies-cards/2021-04-06/
END:VEVENT
BEGIN:VEVENT
DTSTART;TZID=America/New_York:20210406T190000
DTEND;TZID=America/New_York:20210406T210000
DTSTAMP:20260425T125007
CREATED:20210416T005003Z
LAST-MODIFIED:20210416T005003Z
UID:10005972-1617735600-1617742800@leisureknoll.org
SUMMARY:Men’s Card Game
DESCRIPTION:Craft Center
URL:https://leisureknoll.org/calendar/mens-card-game/2021-04-06/
END:VEVENT
BEGIN:VEVENT
DTSTART;TZID=America/New_York:20210407T090000
DTEND;TZID=America/New_York:20210407T110000
DTSTAMP:20260425T125007
CREATED:20210416T002837Z
LAST-MODIFIED:20210416T003724Z
UID:10004918-1617786000-1617793200@leisureknoll.org
SUMMARY:Tennis
DESCRIPTION:Tennis courts
URL:https://leisureknoll.org/calendar/tennis/2021-04-07/
END:VEVENT
BEGIN:VEVENT
DTSTART;TZID=America/New_York:20210407T090000
DTEND;TZID=America/New_York:20210407T110000
DTSTAMP:20260425T125007
CREATED:20210416T003116Z
LAST-MODIFIED:20260109T025549Z
UID:10004934-1617786000-1617793200@leisureknoll.org
SUMMARY:Wood Shop
DESCRIPTION:
URL:https://leisureknoll.org/calendar/wood-shop/2021-04-07/
END:VEVENT
BEGIN:VEVENT
DTSTART;TZID=America/New_York:20210407T113000
DTEND;TZID=America/New_York:20210407T143000
DTSTAMP:20260425T125007
CREATED:20210416T005344Z
LAST-MODIFIED:20210901T023024Z
UID:10005976-1617795000-1617805800@leisureknoll.org
SUMMARY:Men's Bowling
DESCRIPTION:
URL:https://leisureknoll.org/calendar/mens-bowling/2021-04-07/
END:VEVENT
BEGIN:VEVENT
DTSTART;TZID=America/New_York:20210407T130000
DTEND;TZID=America/New_York:20210407T150000
DTSTAMP:20260425T125007
CREATED:20210416T003503Z
LAST-MODIFIED:20240929T182527Z
UID:10005352-1617800400-1617807600@leisureknoll.org
SUMMARY:Billiards
DESCRIPTION:Recreation Center\, every day except Sunday
URL:https://leisureknoll.org/calendar/billiards/2021-04-07/
END:VEVENT
BEGIN:VEVENT
DTSTART;TZID=America/New_York:20210407T130000
DTEND;TZID=America/New_York:20210407T150000
DTSTAMP:20260425T125007
CREATED:20210416T005743Z
LAST-MODIFIED:20260109T030323Z
UID:10006005-1617800400-1617807600@leisureknoll.org
SUMMARY:Bridge
DESCRIPTION:Craft Center
URL:https://leisureknoll.org/calendar/bridge/2021-04-07/
END:VEVENT
BEGIN:VEVENT
DTSTART;TZID=America/New_York:20210407T183000
DTEND;TZID=America/New_York:20210407T203000
DTSTAMP:20260425T125007
CREATED:20210416T004220Z
LAST-MODIFIED:20210416T005849Z
UID:10005926-1617820200-1617827400@leisureknoll.org
SUMMARY:Mah Jongg
DESCRIPTION:Craft Center
URL:https://leisureknoll.org/calendar/mah-jongg-2/2021-04-07/
END:VEVENT
BEGIN:VEVENT
DTSTART;TZID=America/New_York:20210407T183000
DTEND;TZID=America/New_York:20210407T203000
DTSTAMP:20260425T125007
CREATED:20210416T005957Z
LAST-MODIFIED:20220909T144628Z
UID:10006087-1617820200-1617827400@leisureknoll.org
SUMMARY:Men's Poker
DESCRIPTION:Craft Center
URL:https://leisureknoll.org/calendar/mens-poker/2021-04-07/
END:VEVENT
BEGIN:VEVENT
DTSTART;TZID=America/New_York:20210408T090000
DTEND;TZID=America/New_York:20210408T110000
DTSTAMP:20260425T125007
CREATED:20210416T003116Z
LAST-MODIFIED:20260109T025549Z
UID:10004935-1617872400-1617879600@leisureknoll.org
SUMMARY:Wood Shop
DESCRIPTION:
URL:https://leisureknoll.org/calendar/wood-shop/2021-04-08/
END:VEVENT
BEGIN:VEVENT
DTSTART;TZID=America/New_York:20210408T093000
DTEND;TZID=America/New_York:20210408T103000
DTSTAMP:20260425T125007
CREATED:20210416T004451Z
LAST-MODIFIED:20210416T011905Z
UID:10005935-1617874200-1617877800@leisureknoll.org
SUMMARY:Ladies Tennis
DESCRIPTION:Tennis Courts
URL:https://leisureknoll.org/calendar/ladies-tennis/2021-04-08/
END:VEVENT
BEGIN:VEVENT
DTSTART;TZID=America/New_York:20210408T130000
DTEND;TZID=America/New_York:20210408T150000
DTSTAMP:20260425T125007
CREATED:20210416T003503Z
LAST-MODIFIED:20240929T182527Z
UID:10005353-1617886800-1617894000@leisureknoll.org
SUMMARY:Billiards
DESCRIPTION:Recreation Center\, every day except Sunday
URL:https://leisureknoll.org/calendar/billiards/2021-04-08/
END:VEVENT
BEGIN:VEVENT
DTSTART;TZID=America/New_York:20210408T130000
DTEND;TZID=America/New_York:20210408T150000
DTSTAMP:20260425T125007
CREATED:20210416T010104Z
LAST-MODIFIED:20230106T202026Z
UID:10006162-1617886800-1617894000@leisureknoll.org
SUMMARY:Bridge/Canasta
DESCRIPTION:Craft Center
URL:https://leisureknoll.org/calendar/bridge-canasta/2021-04-08/
END:VEVENT
BEGIN:VEVENT
DTSTART;TZID=America/New_York:20210408T140000
DTEND;TZID=America/New_York:20210408T160000
DTSTAMP:20260425T125007
CREATED:20210416T010210Z
LAST-MODIFIED:20220508T162402Z
UID:10006241-1617890400-1617897600@leisureknoll.org
SUMMARY:Knitting & Crochet
DESCRIPTION:Craft Center
URL:https://leisureknoll.org/calendar/knitting-crochet/2021-04-08/
END:VEVENT
BEGIN:VEVENT
DTSTART;TZID=America/New_York:20210409T090000
DTEND;TZID=America/New_York:20210409T110000
DTSTAMP:20260425T125007
CREATED:20210416T002837Z
LAST-MODIFIED:20210416T003724Z
UID:10004919-1617958800-1617966000@leisureknoll.org
SUMMARY:Tennis
DESCRIPTION:Tennis courts
URL:https://leisureknoll.org/calendar/tennis/2021-04-09/
END:VEVENT
END:VCALENDAR