BEGIN:VCALENDAR
VERSION:2.0
PRODID:-//Leisure Knoll - ECPv6.15.20//NONSGML v1.0//EN
CALSCALE:GREGORIAN
METHOD:PUBLISH
X-ORIGINAL-URL:https://leisureknoll.org
X-WR-CALDESC:Events for Leisure Knoll
REFRESH-INTERVAL;VALUE=DURATION:PT1H
X-Robots-Tag:noindex
X-PUBLISHED-TTL:PT1H
BEGIN:VTIMEZONE
TZID:America/New_York
BEGIN:DAYLIGHT
TZOFFSETFROM:-0500
TZOFFSETTO:-0400
TZNAME:EDT
DTSTART:20250309T070000
END:DAYLIGHT
BEGIN:STANDARD
TZOFFSETFROM:-0400
TZOFFSETTO:-0500
TZNAME:EST
DTSTART:20251102T060000
END:STANDARD
BEGIN:DAYLIGHT
TZOFFSETFROM:-0500
TZOFFSETTO:-0400
TZNAME:EDT
DTSTART:20260308T070000
END:DAYLIGHT
BEGIN:STANDARD
TZOFFSETFROM:-0400
TZOFFSETTO:-0500
TZNAME:EST
DTSTART:20261101T060000
END:STANDARD
BEGIN:DAYLIGHT
TZOFFSETFROM:-0500
TZOFFSETTO:-0400
TZNAME:EDT
DTSTART:20270314T070000
END:DAYLIGHT
BEGIN:STANDARD
TZOFFSETFROM:-0400
TZOFFSETTO:-0500
TZNAME:EST
DTSTART:20271107T060000
END:STANDARD
END:VTIMEZONE
BEGIN:VEVENT
DTSTART;TZID=America/New_York:20260810T090000
DTEND;TZID=America/New_York:20260810T110000
DTSTAMP:20260421T202656
CREATED:20210416T003116Z
LAST-MODIFIED:20260109T025549Z
UID:10023774-1786352400-1786359600@leisureknoll.org
SUMMARY:Wood Shop
DESCRIPTION:
URL:https://leisureknoll.org/calendar/wood-shop/2026-08-10/
END:VEVENT
BEGIN:VEVENT
DTSTART;TZID=America/New_York:20260811T090000
DTEND;TZID=America/New_York:20260811T110000
DTSTAMP:20260421T202656
CREATED:20210416T003116Z
LAST-MODIFIED:20260109T025549Z
UID:10023775-1786438800-1786446000@leisureknoll.org
SUMMARY:Wood Shop
DESCRIPTION:
URL:https://leisureknoll.org/calendar/wood-shop/2026-08-11/
END:VEVENT
BEGIN:VEVENT
DTSTART;TZID=America/New_York:20260812T090000
DTEND;TZID=America/New_York:20260812T110000
DTSTAMP:20260421T202656
CREATED:20210416T003116Z
LAST-MODIFIED:20260109T025549Z
UID:10023776-1786525200-1786532400@leisureknoll.org
SUMMARY:Wood Shop
DESCRIPTION:
URL:https://leisureknoll.org/calendar/wood-shop/2026-08-12/
END:VEVENT
BEGIN:VEVENT
DTSTART;TZID=America/New_York:20260812T130000
DTEND;TZID=America/New_York:20260812T150000
DTSTAMP:20260421T202656
CREATED:20210416T005743Z
LAST-MODIFIED:20260109T030323Z
UID:10024533-1786539600-1786546800@leisureknoll.org
SUMMARY:Bridge
DESCRIPTION:Craft Center
URL:https://leisureknoll.org/calendar/bridge/2026-08-12/
END:VEVENT
BEGIN:VEVENT
DTSTART;TZID=America/New_York:20260812T184500
DTEND;TZID=America/New_York:20260812T204500
DTSTAMP:20260421T202656
CREATED:20210505T022532Z
LAST-MODIFIED:20260109T031152Z
UID:10024988-1786560300-1786567500@leisureknoll.org
SUMMARY:Dominoes
DESCRIPTION:Recreation Hall
URL:https://leisureknoll.org/calendar/dominoes/2026-08-12/
END:VEVENT
BEGIN:VEVENT
DTSTART;TZID=America/New_York:20260813T090000
DTEND;TZID=America/New_York:20260813T110000
DTSTAMP:20260421T202656
CREATED:20210416T003116Z
LAST-MODIFIED:20260109T025549Z
UID:10023777-1786611600-1786618800@leisureknoll.org
SUMMARY:Wood Shop
DESCRIPTION:
URL:https://leisureknoll.org/calendar/wood-shop/2026-08-13/
END:VEVENT
BEGIN:VEVENT
DTSTART;TZID=America/New_York:20260813T130000
DTEND;TZID=America/New_York:20260813T150000
DTSTAMP:20260421T202656
CREATED:20231012T025517Z
LAST-MODIFIED:20260109T025947Z
UID:10024306-1786626000-1786633200@leisureknoll.org
SUMMARY:Canasta
DESCRIPTION:Craft Center
URL:https://leisureknoll.org/calendar/bridge-canasta-2/2026-08-13/
END:VEVENT
BEGIN:VEVENT
DTSTART;TZID=America/New_York:20260814T090000
DTEND;TZID=America/New_York:20260814T110000
DTSTAMP:20260421T202656
CREATED:20210416T003116Z
LAST-MODIFIED:20260109T025549Z
UID:10023778-1786698000-1786705200@leisureknoll.org
SUMMARY:Wood Shop
DESCRIPTION:
URL:https://leisureknoll.org/calendar/wood-shop/2026-08-14/
END:VEVENT
END:VCALENDAR