BEGIN:VCALENDAR
VERSION:2.0
PRODID:-//Leisure Knoll - ECPv6.15.20//NONSGML v1.0//EN
CALSCALE:GREGORIAN
METHOD:PUBLISH
X-WR-CALNAME:Leisure Knoll
X-ORIGINAL-URL:https://leisureknoll.org
X-WR-CALDESC:Events for Leisure Knoll
REFRESH-INTERVAL;VALUE=DURATION:PT1H
X-Robots-Tag:noindex
X-PUBLISHED-TTL:PT1H
BEGIN:VTIMEZONE
TZID:America/New_York
BEGIN:DAYLIGHT
TZOFFSETFROM:-0500
TZOFFSETTO:-0400
TZNAME:EDT
DTSTART:20250309T070000
END:DAYLIGHT
BEGIN:STANDARD
TZOFFSETFROM:-0400
TZOFFSETTO:-0500
TZNAME:EST
DTSTART:20251102T060000
END:STANDARD
BEGIN:DAYLIGHT
TZOFFSETFROM:-0500
TZOFFSETTO:-0400
TZNAME:EDT
DTSTART:20260308T070000
END:DAYLIGHT
BEGIN:STANDARD
TZOFFSETFROM:-0400
TZOFFSETTO:-0500
TZNAME:EST
DTSTART:20261101T060000
END:STANDARD
BEGIN:DAYLIGHT
TZOFFSETFROM:-0500
TZOFFSETTO:-0400
TZNAME:EDT
DTSTART:20270314T070000
END:DAYLIGHT
BEGIN:STANDARD
TZOFFSETFROM:-0400
TZOFFSETTO:-0500
TZNAME:EST
DTSTART:20271107T060000
END:STANDARD
END:VTIMEZONE
BEGIN:VEVENT
DTSTART;TZID=America/New_York:20260706T090000
DTEND;TZID=America/New_York:20260706T110000
DTSTAMP:20260421T083431
CREATED:20210416T003116Z
LAST-MODIFIED:20260109T025549Z
UID:10023749-1783328400-1783335600@leisureknoll.org
SUMMARY:Wood Shop
DESCRIPTION:
URL:https://leisureknoll.org/calendar/wood-shop/2026-07-06/
END:VEVENT
BEGIN:VEVENT
DTSTART;TZID=America/New_York:20260707T090000
DTEND;TZID=America/New_York:20260707T110000
DTSTAMP:20260421T083431
CREATED:20210416T003116Z
LAST-MODIFIED:20260109T025549Z
UID:10023750-1783414800-1783422000@leisureknoll.org
SUMMARY:Wood Shop
DESCRIPTION:
URL:https://leisureknoll.org/calendar/wood-shop/2026-07-07/
END:VEVENT
BEGIN:VEVENT
DTSTART;TZID=America/New_York:20260708T090000
DTEND;TZID=America/New_York:20260708T110000
DTSTAMP:20260421T083431
CREATED:20210416T003116Z
LAST-MODIFIED:20260109T025549Z
UID:10023751-1783501200-1783508400@leisureknoll.org
SUMMARY:Wood Shop
DESCRIPTION:
URL:https://leisureknoll.org/calendar/wood-shop/2026-07-08/
END:VEVENT
BEGIN:VEVENT
DTSTART;TZID=America/New_York:20260708T130000
DTEND;TZID=America/New_York:20260708T150000
DTSTAMP:20260421T083431
CREATED:20210416T005743Z
LAST-MODIFIED:20260109T030323Z
UID:10024528-1783515600-1783522800@leisureknoll.org
SUMMARY:Bridge
DESCRIPTION:Craft Center
URL:https://leisureknoll.org/calendar/bridge/2026-07-08/
END:VEVENT
BEGIN:VEVENT
DTSTART;TZID=America/New_York:20260708T184500
DTEND;TZID=America/New_York:20260708T204500
DTSTAMP:20260421T083431
CREATED:20210505T022532Z
LAST-MODIFIED:20260109T031152Z
UID:10024983-1783536300-1783543500@leisureknoll.org
SUMMARY:Dominoes
DESCRIPTION:Recreation Hall
URL:https://leisureknoll.org/calendar/dominoes/2026-07-08/
END:VEVENT
BEGIN:VEVENT
DTSTART;TZID=America/New_York:20260709T090000
DTEND;TZID=America/New_York:20260709T110000
DTSTAMP:20260421T083431
CREATED:20210416T003116Z
LAST-MODIFIED:20260109T025549Z
UID:10023752-1783587600-1783594800@leisureknoll.org
SUMMARY:Wood Shop
DESCRIPTION:
URL:https://leisureknoll.org/calendar/wood-shop/2026-07-09/
END:VEVENT
BEGIN:VEVENT
DTSTART;TZID=America/New_York:20260709T130000
DTEND;TZID=America/New_York:20260709T150000
DTSTAMP:20260421T083432
CREATED:20231012T025517Z
LAST-MODIFIED:20260109T025947Z
UID:10024301-1783602000-1783609200@leisureknoll.org
SUMMARY:Canasta
DESCRIPTION:Craft Center
URL:https://leisureknoll.org/calendar/bridge-canasta-2/2026-07-09/
END:VEVENT
BEGIN:VEVENT
DTSTART;TZID=America/New_York:20260710T090000
DTEND;TZID=America/New_York:20260710T110000
DTSTAMP:20260421T083432
CREATED:20210416T003116Z
LAST-MODIFIED:20260109T025549Z
UID:10023753-1783674000-1783681200@leisureknoll.org
SUMMARY:Wood Shop
DESCRIPTION:
URL:https://leisureknoll.org/calendar/wood-shop/2026-07-10/
END:VEVENT
END:VCALENDAR