BEGIN:VCALENDAR
VERSION:2.0
PRODID:-//Leisure Knoll - ECPv6.15.20//NONSGML v1.0//EN
CALSCALE:GREGORIAN
METHOD:PUBLISH
X-WR-CALNAME:Leisure Knoll
X-ORIGINAL-URL:https://leisureknoll.org
X-WR-CALDESC:Events for Leisure Knoll
REFRESH-INTERVAL;VALUE=DURATION:PT1H
X-Robots-Tag:noindex
X-PUBLISHED-TTL:PT1H
BEGIN:VTIMEZONE
TZID:America/New_York
BEGIN:DAYLIGHT
TZOFFSETFROM:-0500
TZOFFSETTO:-0400
TZNAME:EDT
DTSTART:20250309T070000
END:DAYLIGHT
BEGIN:STANDARD
TZOFFSETFROM:-0400
TZOFFSETTO:-0500
TZNAME:EST
DTSTART:20251102T060000
END:STANDARD
BEGIN:DAYLIGHT
TZOFFSETFROM:-0500
TZOFFSETTO:-0400
TZNAME:EDT
DTSTART:20260308T070000
END:DAYLIGHT
BEGIN:STANDARD
TZOFFSETFROM:-0400
TZOFFSETTO:-0500
TZNAME:EST
DTSTART:20261101T060000
END:STANDARD
BEGIN:DAYLIGHT
TZOFFSETFROM:-0500
TZOFFSETTO:-0400
TZNAME:EDT
DTSTART:20270314T070000
END:DAYLIGHT
BEGIN:STANDARD
TZOFFSETFROM:-0400
TZOFFSETTO:-0500
TZNAME:EST
DTSTART:20271107T060000
END:STANDARD
END:VTIMEZONE
BEGIN:VEVENT
DTSTART;TZID=America/New_York:20260622T090000
DTEND;TZID=America/New_York:20260622T110000
DTSTAMP:20260421T071824
CREATED:20210416T003116Z
LAST-MODIFIED:20260109T025549Z
UID:10023739-1782118800-1782126000@leisureknoll.org
SUMMARY:Wood Shop
DESCRIPTION:
URL:https://leisureknoll.org/calendar/wood-shop/2026-06-22/
END:VEVENT
BEGIN:VEVENT
DTSTART;TZID=America/New_York:20260623T090000
DTEND;TZID=America/New_York:20260623T110000
DTSTAMP:20260421T071824
CREATED:20210416T003116Z
LAST-MODIFIED:20260109T025549Z
UID:10023740-1782205200-1782212400@leisureknoll.org
SUMMARY:Wood Shop
DESCRIPTION:
URL:https://leisureknoll.org/calendar/wood-shop/2026-06-23/
END:VEVENT
BEGIN:VEVENT
DTSTART;TZID=America/New_York:20260624T090000
DTEND;TZID=America/New_York:20260624T110000
DTSTAMP:20260421T071824
CREATED:20210416T003116Z
LAST-MODIFIED:20260109T025549Z
UID:10023741-1782291600-1782298800@leisureknoll.org
SUMMARY:Wood Shop
DESCRIPTION:
URL:https://leisureknoll.org/calendar/wood-shop/2026-06-24/
END:VEVENT
BEGIN:VEVENT
DTSTART;TZID=America/New_York:20260624T130000
DTEND;TZID=America/New_York:20260624T150000
DTSTAMP:20260421T071824
CREATED:20210416T005743Z
LAST-MODIFIED:20260109T030323Z
UID:10024526-1782306000-1782313200@leisureknoll.org
SUMMARY:Bridge
DESCRIPTION:Craft Center
URL:https://leisureknoll.org/calendar/bridge/2026-06-24/
END:VEVENT
BEGIN:VEVENT
DTSTART;TZID=America/New_York:20260624T184500
DTEND;TZID=America/New_York:20260624T204500
DTSTAMP:20260421T071824
CREATED:20210505T022532Z
LAST-MODIFIED:20260109T031152Z
UID:10024981-1782326700-1782333900@leisureknoll.org
SUMMARY:Dominoes
DESCRIPTION:Recreation Hall
URL:https://leisureknoll.org/calendar/dominoes/2026-06-24/
END:VEVENT
BEGIN:VEVENT
DTSTART;TZID=America/New_York:20260625T090000
DTEND;TZID=America/New_York:20260625T110000
DTSTAMP:20260421T071824
CREATED:20210416T003116Z
LAST-MODIFIED:20260109T025549Z
UID:10023742-1782378000-1782385200@leisureknoll.org
SUMMARY:Wood Shop
DESCRIPTION:
URL:https://leisureknoll.org/calendar/wood-shop/2026-06-25/
END:VEVENT
BEGIN:VEVENT
DTSTART;TZID=America/New_York:20260625T130000
DTEND;TZID=America/New_York:20260625T150000
DTSTAMP:20260421T071824
CREATED:20231012T025517Z
LAST-MODIFIED:20260109T025947Z
UID:10024299-1782392400-1782399600@leisureknoll.org
SUMMARY:Canasta
DESCRIPTION:Craft Center
URL:https://leisureknoll.org/calendar/bridge-canasta-2/2026-06-25/
END:VEVENT
BEGIN:VEVENT
DTSTART;TZID=America/New_York:20260626T090000
DTEND;TZID=America/New_York:20260626T110000
DTSTAMP:20260421T071824
CREATED:20210416T003116Z
LAST-MODIFIED:20260109T025549Z
UID:10023743-1782464400-1782471600@leisureknoll.org
SUMMARY:Wood Shop
DESCRIPTION:
URL:https://leisureknoll.org/calendar/wood-shop/2026-06-26/
END:VEVENT
END:VCALENDAR