BEGIN:VCALENDAR
VERSION:2.0
PRODID:-//Leisure Knoll - ECPv6.15.20//NONSGML v1.0//EN
CALSCALE:GREGORIAN
METHOD:PUBLISH
X-ORIGINAL-URL:https://leisureknoll.org
X-WR-CALDESC:Events for Leisure Knoll
REFRESH-INTERVAL;VALUE=DURATION:PT1H
X-Robots-Tag:noindex
X-PUBLISHED-TTL:PT1H
BEGIN:VTIMEZONE
TZID:America/New_York
BEGIN:DAYLIGHT
TZOFFSETFROM:-0500
TZOFFSETTO:-0400
TZNAME:EDT
DTSTART:20250309T070000
END:DAYLIGHT
BEGIN:STANDARD
TZOFFSETFROM:-0400
TZOFFSETTO:-0500
TZNAME:EST
DTSTART:20251102T060000
END:STANDARD
BEGIN:DAYLIGHT
TZOFFSETFROM:-0500
TZOFFSETTO:-0400
TZNAME:EDT
DTSTART:20260308T070000
END:DAYLIGHT
BEGIN:STANDARD
TZOFFSETFROM:-0400
TZOFFSETTO:-0500
TZNAME:EST
DTSTART:20261101T060000
END:STANDARD
BEGIN:DAYLIGHT
TZOFFSETFROM:-0500
TZOFFSETTO:-0400
TZNAME:EDT
DTSTART:20270314T070000
END:DAYLIGHT
BEGIN:STANDARD
TZOFFSETFROM:-0400
TZOFFSETTO:-0500
TZNAME:EST
DTSTART:20271107T060000
END:STANDARD
END:VTIMEZONE
BEGIN:VEVENT
DTSTART;TZID=America/New_York:20260119T090000
DTEND;TZID=America/New_York:20260119T110000
DTSTAMP:20260423T022322
CREATED:20210416T003116Z
LAST-MODIFIED:20260109T025549Z
UID:10023629-1768813200-1768820400@leisureknoll.org
SUMMARY:Wood Shop
DESCRIPTION:
URL:https://leisureknoll.org/calendar/wood-shop/2026-01-19/
END:VEVENT
BEGIN:VEVENT
DTSTART;TZID=America/New_York:20260120T090000
DTEND;TZID=America/New_York:20260120T110000
DTSTAMP:20260423T022322
CREATED:20210416T003116Z
LAST-MODIFIED:20260109T025549Z
UID:10023630-1768899600-1768906800@leisureknoll.org
SUMMARY:Wood Shop
DESCRIPTION:
URL:https://leisureknoll.org/calendar/wood-shop/2026-01-20/
END:VEVENT
BEGIN:VEVENT
DTSTART;TZID=America/New_York:20260121T090000
DTEND;TZID=America/New_York:20260121T110000
DTSTAMP:20260423T022322
CREATED:20210416T003116Z
LAST-MODIFIED:20260109T025549Z
UID:10023631-1768986000-1768993200@leisureknoll.org
SUMMARY:Wood Shop
DESCRIPTION:
URL:https://leisureknoll.org/calendar/wood-shop/2026-01-21/
END:VEVENT
BEGIN:VEVENT
DTSTART;TZID=America/New_York:20260121T130000
DTEND;TZID=America/New_York:20260121T150000
DTSTAMP:20260423T022322
CREATED:20210416T005743Z
LAST-MODIFIED:20260109T030323Z
UID:10024504-1769000400-1769007600@leisureknoll.org
SUMMARY:Bridge
DESCRIPTION:Craft Center
URL:https://leisureknoll.org/calendar/bridge/2026-01-21/
END:VEVENT
BEGIN:VEVENT
DTSTART;TZID=America/New_York:20260121T184500
DTEND;TZID=America/New_York:20260121T204500
DTSTAMP:20260423T022322
CREATED:20210505T022532Z
LAST-MODIFIED:20260109T031152Z
UID:10024959-1769021100-1769028300@leisureknoll.org
SUMMARY:Dominoes
DESCRIPTION:Recreation Hall
URL:https://leisureknoll.org/calendar/dominoes/2026-01-21/
END:VEVENT
BEGIN:VEVENT
DTSTART;TZID=America/New_York:20260122T090000
DTEND;TZID=America/New_York:20260122T110000
DTSTAMP:20260423T022322
CREATED:20210416T003116Z
LAST-MODIFIED:20260109T025549Z
UID:10023632-1769072400-1769079600@leisureknoll.org
SUMMARY:Wood Shop
DESCRIPTION:
URL:https://leisureknoll.org/calendar/wood-shop/2026-01-22/
END:VEVENT
BEGIN:VEVENT
DTSTART;TZID=America/New_York:20260122T130000
DTEND;TZID=America/New_York:20260122T150000
DTSTAMP:20260423T022322
CREATED:20231012T025517Z
LAST-MODIFIED:20260109T025947Z
UID:10024277-1769086800-1769094000@leisureknoll.org
SUMMARY:Canasta
DESCRIPTION:Craft Center
URL:https://leisureknoll.org/calendar/bridge-canasta-2/2026-01-22/
END:VEVENT
BEGIN:VEVENT
DTSTART;TZID=America/New_York:20260123T090000
DTEND;TZID=America/New_York:20260123T110000
DTSTAMP:20260423T022322
CREATED:20210416T003116Z
LAST-MODIFIED:20260109T025549Z
UID:10023633-1769158800-1769166000@leisureknoll.org
SUMMARY:Wood Shop
DESCRIPTION:
URL:https://leisureknoll.org/calendar/wood-shop/2026-01-23/
END:VEVENT
END:VCALENDAR