BEGIN:VCALENDAR
VERSION:2.0
PRODID:-//Leisure Knoll - ECPv6.15.20//NONSGML v1.0//EN
CALSCALE:GREGORIAN
METHOD:PUBLISH
X-WR-CALNAME:Leisure Knoll
X-ORIGINAL-URL:https://leisureknoll.org
X-WR-CALDESC:Events for Leisure Knoll
REFRESH-INTERVAL;VALUE=DURATION:PT1H
X-Robots-Tag:noindex
X-PUBLISHED-TTL:PT1H
BEGIN:VTIMEZONE
TZID:America/New_York
BEGIN:DAYLIGHT
TZOFFSETFROM:-0500
TZOFFSETTO:-0400
TZNAME:EDT
DTSTART:20240310T070000
END:DAYLIGHT
BEGIN:STANDARD
TZOFFSETFROM:-0400
TZOFFSETTO:-0500
TZNAME:EST
DTSTART:20241103T060000
END:STANDARD
BEGIN:DAYLIGHT
TZOFFSETFROM:-0500
TZOFFSETTO:-0400
TZNAME:EDT
DTSTART:20250309T070000
END:DAYLIGHT
BEGIN:STANDARD
TZOFFSETFROM:-0400
TZOFFSETTO:-0500
TZNAME:EST
DTSTART:20251102T060000
END:STANDARD
BEGIN:DAYLIGHT
TZOFFSETFROM:-0500
TZOFFSETTO:-0400
TZNAME:EDT
DTSTART:20260308T070000
END:DAYLIGHT
BEGIN:STANDARD
TZOFFSETFROM:-0400
TZOFFSETTO:-0500
TZNAME:EST
DTSTART:20261101T060000
END:STANDARD
END:VTIMEZONE
BEGIN:VEVENT
DTSTART;TZID=America/New_York:20251110T090000
DTEND;TZID=America/New_York:20251110T110000
DTSTAMP:20260423T053754
CREATED:20210416T003116Z
LAST-MODIFIED:20260109T025549Z
UID:10018059-1762765200-1762772400@leisureknoll.org
SUMMARY:Wood Shop
DESCRIPTION:
URL:https://leisureknoll.org/calendar/wood-shop/2025-11-10/
END:VEVENT
BEGIN:VEVENT
DTSTART;TZID=America/New_York:20251111T090000
DTEND;TZID=America/New_York:20251111T110000
DTSTAMP:20260423T053754
CREATED:20210416T003116Z
LAST-MODIFIED:20260109T025549Z
UID:10018060-1762851600-1762858800@leisureknoll.org
SUMMARY:Wood Shop
DESCRIPTION:
URL:https://leisureknoll.org/calendar/wood-shop/2025-11-11/
END:VEVENT
BEGIN:VEVENT
DTSTART;TZID=America/New_York:20251112T090000
DTEND;TZID=America/New_York:20251112T110000
DTSTAMP:20260423T053754
CREATED:20210416T003116Z
LAST-MODIFIED:20260109T025549Z
UID:10018061-1762938000-1762945200@leisureknoll.org
SUMMARY:Wood Shop
DESCRIPTION:
URL:https://leisureknoll.org/calendar/wood-shop/2025-11-12/
END:VEVENT
BEGIN:VEVENT
DTSTART;TZID=America/New_York:20251112T130000
DTEND;TZID=America/New_York:20251112T150000
DTSTAMP:20260423T053754
CREATED:20210416T005743Z
LAST-MODIFIED:20260109T030323Z
UID:10019252-1762952400-1762959600@leisureknoll.org
SUMMARY:Bridge
DESCRIPTION:Craft Center
URL:https://leisureknoll.org/calendar/bridge/2025-11-12/
END:VEVENT
BEGIN:VEVENT
DTSTART;TZID=America/New_York:20251112T184500
DTEND;TZID=America/New_York:20251112T204500
DTSTAMP:20260423T053754
CREATED:20210505T022532Z
LAST-MODIFIED:20260109T031152Z
UID:10019457-1762973100-1762980300@leisureknoll.org
SUMMARY:Dominoes
DESCRIPTION:Recreation Hall
URL:https://leisureknoll.org/calendar/dominoes/2025-11-12/
END:VEVENT
BEGIN:VEVENT
DTSTART;TZID=America/New_York:20251113T090000
DTEND;TZID=America/New_York:20251113T110000
DTSTAMP:20260423T053754
CREATED:20210416T003116Z
LAST-MODIFIED:20260109T025549Z
UID:10018062-1763024400-1763031600@leisureknoll.org
SUMMARY:Wood Shop
DESCRIPTION:
URL:https://leisureknoll.org/calendar/wood-shop/2025-11-13/
END:VEVENT
BEGIN:VEVENT
DTSTART;TZID=America/New_York:20251113T130000
DTEND;TZID=America/New_York:20251113T150000
DTSTAMP:20260423T053754
CREATED:20231012T025517Z
LAST-MODIFIED:20260109T025947Z
UID:10018402-1763038800-1763046000@leisureknoll.org
SUMMARY:Canasta
DESCRIPTION:Craft Center
URL:https://leisureknoll.org/calendar/bridge-canasta-2/2025-11-13/
END:VEVENT
BEGIN:VEVENT
DTSTART;TZID=America/New_York:20251114T090000
DTEND;TZID=America/New_York:20251114T110000
DTSTAMP:20260423T053754
CREATED:20210416T003116Z
LAST-MODIFIED:20260109T025549Z
UID:10018063-1763110800-1763118000@leisureknoll.org
SUMMARY:Wood Shop
DESCRIPTION:
URL:https://leisureknoll.org/calendar/wood-shop/2025-11-14/
END:VEVENT
END:VCALENDAR