BEGIN:VCALENDAR
VERSION:2.0
PRODID:-//Leisure Knoll - ECPv6.15.20//NONSGML v1.0//EN
CALSCALE:GREGORIAN
METHOD:PUBLISH
X-ORIGINAL-URL:https://leisureknoll.org
X-WR-CALDESC:Events for Leisure Knoll
REFRESH-INTERVAL;VALUE=DURATION:PT1H
X-Robots-Tag:noindex
X-PUBLISHED-TTL:PT1H
BEGIN:VTIMEZONE
TZID:America/New_York
BEGIN:DAYLIGHT
TZOFFSETFROM:-0500
TZOFFSETTO:-0400
TZNAME:EDT
DTSTART:20240310T070000
END:DAYLIGHT
BEGIN:STANDARD
TZOFFSETFROM:-0400
TZOFFSETTO:-0500
TZNAME:EST
DTSTART:20241103T060000
END:STANDARD
BEGIN:DAYLIGHT
TZOFFSETFROM:-0500
TZOFFSETTO:-0400
TZNAME:EDT
DTSTART:20250309T070000
END:DAYLIGHT
BEGIN:STANDARD
TZOFFSETFROM:-0400
TZOFFSETTO:-0500
TZNAME:EST
DTSTART:20251102T060000
END:STANDARD
BEGIN:DAYLIGHT
TZOFFSETFROM:-0500
TZOFFSETTO:-0400
TZNAME:EDT
DTSTART:20260308T070000
END:DAYLIGHT
BEGIN:STANDARD
TZOFFSETFROM:-0400
TZOFFSETTO:-0500
TZNAME:EST
DTSTART:20261101T060000
END:STANDARD
END:VTIMEZONE
BEGIN:VEVENT
DTSTART;TZID=America/New_York:20251027T090000
DTEND;TZID=America/New_York:20251027T110000
DTSTAMP:20260423T054419
CREATED:20210416T003116Z
LAST-MODIFIED:20260109T025549Z
UID:10018049-1761555600-1761562800@leisureknoll.org
SUMMARY:Wood Shop
DESCRIPTION:
URL:https://leisureknoll.org/calendar/wood-shop/2025-10-27/
END:VEVENT
BEGIN:VEVENT
DTSTART;TZID=America/New_York:20251028T090000
DTEND;TZID=America/New_York:20251028T110000
DTSTAMP:20260423T054419
CREATED:20210416T003116Z
LAST-MODIFIED:20260109T025549Z
UID:10018050-1761642000-1761649200@leisureknoll.org
SUMMARY:Wood Shop
DESCRIPTION:
URL:https://leisureknoll.org/calendar/wood-shop/2025-10-28/
END:VEVENT
BEGIN:VEVENT
DTSTART;TZID=America/New_York:20251029T090000
DTEND;TZID=America/New_York:20251029T110000
DTSTAMP:20260423T054419
CREATED:20210416T003116Z
LAST-MODIFIED:20260109T025549Z
UID:10018051-1761728400-1761735600@leisureknoll.org
SUMMARY:Wood Shop
DESCRIPTION:
URL:https://leisureknoll.org/calendar/wood-shop/2025-10-29/
END:VEVENT
BEGIN:VEVENT
DTSTART;TZID=America/New_York:20251029T130000
DTEND;TZID=America/New_York:20251029T150000
DTSTAMP:20260423T054419
CREATED:20210416T005743Z
LAST-MODIFIED:20260109T030323Z
UID:10019250-1761742800-1761750000@leisureknoll.org
SUMMARY:Bridge
DESCRIPTION:Craft Center
URL:https://leisureknoll.org/calendar/bridge/2025-10-29/
END:VEVENT
BEGIN:VEVENT
DTSTART;TZID=America/New_York:20251029T184500
DTEND;TZID=America/New_York:20251029T204500
DTSTAMP:20260423T054419
CREATED:20210505T022532Z
LAST-MODIFIED:20260109T031152Z
UID:10019455-1761763500-1761770700@leisureknoll.org
SUMMARY:Dominoes
DESCRIPTION:Recreation Hall
URL:https://leisureknoll.org/calendar/dominoes/2025-10-29/
END:VEVENT
BEGIN:VEVENT
DTSTART;TZID=America/New_York:20251030T090000
DTEND;TZID=America/New_York:20251030T110000
DTSTAMP:20260423T054419
CREATED:20210416T003116Z
LAST-MODIFIED:20260109T025549Z
UID:10018052-1761814800-1761822000@leisureknoll.org
SUMMARY:Wood Shop
DESCRIPTION:
URL:https://leisureknoll.org/calendar/wood-shop/2025-10-30/
END:VEVENT
BEGIN:VEVENT
DTSTART;TZID=America/New_York:20251030T130000
DTEND;TZID=America/New_York:20251030T150000
DTSTAMP:20260423T054419
CREATED:20231012T025517Z
LAST-MODIFIED:20260109T025947Z
UID:10018400-1761829200-1761836400@leisureknoll.org
SUMMARY:Canasta
DESCRIPTION:Craft Center
URL:https://leisureknoll.org/calendar/bridge-canasta-2/2025-10-30/
END:VEVENT
BEGIN:VEVENT
DTSTART;TZID=America/New_York:20251031T090000
DTEND;TZID=America/New_York:20251031T110000
DTSTAMP:20260423T054419
CREATED:20210416T003116Z
LAST-MODIFIED:20260109T025549Z
UID:10018053-1761901200-1761908400@leisureknoll.org
SUMMARY:Wood Shop
DESCRIPTION:
URL:https://leisureknoll.org/calendar/wood-shop/2025-10-31/
END:VEVENT
END:VCALENDAR