BEGIN:VCALENDAR
VERSION:2.0
PRODID:-//Leisure Knoll - ECPv6.15.20//NONSGML v1.0//EN
CALSCALE:GREGORIAN
METHOD:PUBLISH
X-WR-CALNAME:Leisure Knoll
X-ORIGINAL-URL:https://leisureknoll.org
X-WR-CALDESC:Events for Leisure Knoll
REFRESH-INTERVAL;VALUE=DURATION:PT1H
X-Robots-Tag:noindex
X-PUBLISHED-TTL:PT1H
BEGIN:VTIMEZONE
TZID:America/New_York
BEGIN:DAYLIGHT
TZOFFSETFROM:-0500
TZOFFSETTO:-0400
TZNAME:EDT
DTSTART:20220313T070000
END:DAYLIGHT
BEGIN:STANDARD
TZOFFSETFROM:-0400
TZOFFSETTO:-0500
TZNAME:EST
DTSTART:20221106T060000
END:STANDARD
BEGIN:DAYLIGHT
TZOFFSETFROM:-0500
TZOFFSETTO:-0400
TZNAME:EDT
DTSTART:20230312T070000
END:DAYLIGHT
BEGIN:STANDARD
TZOFFSETFROM:-0400
TZOFFSETTO:-0500
TZNAME:EST
DTSTART:20231105T060000
END:STANDARD
BEGIN:DAYLIGHT
TZOFFSETFROM:-0500
TZOFFSETTO:-0400
TZNAME:EDT
DTSTART:20240310T070000
END:DAYLIGHT
BEGIN:STANDARD
TZOFFSETFROM:-0400
TZOFFSETTO:-0500
TZNAME:EST
DTSTART:20241103T060000
END:STANDARD
END:VTIMEZONE
BEGIN:VEVENT
DTSTART;TZID=America/New_York:20231016T090000
DTEND;TZID=America/New_York:20231016T110000
DTSTAMP:20260421T170534
CREATED:20210416T003116Z
LAST-MODIFIED:20260109T025549Z
UID:10009820-1697446800-1697454000@leisureknoll.org
SUMMARY:Wood Shop
DESCRIPTION:
URL:https://leisureknoll.org/calendar/wood-shop/2023-10-16/
END:VEVENT
BEGIN:VEVENT
DTSTART;TZID=America/New_York:20231016T130000
DTEND;TZID=America/New_York:20231016T150000
DTSTAMP:20260421T170534
CREATED:20210416T003503Z
LAST-MODIFIED:20240929T182527Z
UID:10010433-1697461200-1697468400@leisureknoll.org
SUMMARY:Billiards
DESCRIPTION:Recreation Center\, every day except Sunday
URL:https://leisureknoll.org/calendar/billiards/2023-10-16/
END:VEVENT
BEGIN:VEVENT
DTSTART;TZID=America/New_York:20231016T180000
DTEND;TZID=America/New_York:20231016T200000
DTSTAMP:20260421T170534
CREATED:20210702T034900Z
LAST-MODIFIED:20240707T191247Z
UID:10016819-1697479200-1697486400@leisureknoll.org
SUMMARY:Ladies Poker
DESCRIPTION:Craft Center
URL:https://leisureknoll.org/calendar/ladies-poker-2021-09-13/2023-10-16/
END:VEVENT
BEGIN:VEVENT
DTSTART;TZID=America/New_York:20231017T090000
DTEND;TZID=America/New_York:20231017T110000
DTSTAMP:20260421T170534
CREATED:20210416T003116Z
LAST-MODIFIED:20260109T025549Z
UID:10009821-1697533200-1697540400@leisureknoll.org
SUMMARY:Wood Shop
DESCRIPTION:
URL:https://leisureknoll.org/calendar/wood-shop/2023-10-17/
END:VEVENT
BEGIN:VEVENT
DTSTART;TZID=America/New_York:20231017T130000
DTEND;TZID=America/New_York:20231017T150000
DTSTAMP:20260421T170534
CREATED:20210416T003503Z
LAST-MODIFIED:20240929T182527Z
UID:10010434-1697547600-1697554800@leisureknoll.org
SUMMARY:Billiards
DESCRIPTION:Recreation Center\, every day except Sunday
URL:https://leisureknoll.org/calendar/billiards/2023-10-17/
END:VEVENT
BEGIN:VEVENT
DTSTART;TZID=America/New_York:20231018T090000
DTEND;TZID=America/New_York:20231018T110000
DTSTAMP:20260421T170534
CREATED:20210416T003116Z
LAST-MODIFIED:20260109T025549Z
UID:10009822-1697619600-1697626800@leisureknoll.org
SUMMARY:Wood Shop
DESCRIPTION:
URL:https://leisureknoll.org/calendar/wood-shop/2023-10-18/
END:VEVENT
BEGIN:VEVENT
DTSTART;TZID=America/New_York:20231018T113000
DTEND;TZID=America/New_York:20231018T143000
DTSTAMP:20260421T170534
CREATED:20230617T023550Z
LAST-MODIFIED:20230617T023550Z
UID:10010852-1697628600-1697639400@leisureknoll.org
SUMMARY:Men's Bowling
DESCRIPTION:@ 11:30am
URL:https://leisureknoll.org/calendar/mens-bowling-2021-09-15-2/2023-10-18/
END:VEVENT
BEGIN:VEVENT
DTSTART;TZID=America/New_York:20231018T130000
DTEND;TZID=America/New_York:20231018T150000
DTSTAMP:20260421T170534
CREATED:20210416T003503Z
LAST-MODIFIED:20240929T182527Z
UID:10010435-1697634000-1697641200@leisureknoll.org
SUMMARY:Billiards
DESCRIPTION:Recreation Center\, every day except Sunday
URL:https://leisureknoll.org/calendar/billiards/2023-10-18/
END:VEVENT
BEGIN:VEVENT
DTSTART;TZID=America/New_York:20231018T180000
DTEND;TZID=America/New_York:20231018T200000
DTSTAMP:20260421T170534
CREATED:20210416T005957Z
LAST-MODIFIED:20240929T182030Z
UID:10011008-1697652000-1697659200@leisureknoll.org
SUMMARY:Men's Poker
DESCRIPTION:Craft Center
URL:https://leisureknoll.org/calendar/mens-poker-2022-08-31/2023-10-18/
END:VEVENT
BEGIN:VEVENT
DTSTART;TZID=America/New_York:20231018T184500
DTEND;TZID=America/New_York:20231018T204500
DTSTAMP:20260421T170534
CREATED:20210505T022532Z
LAST-MODIFIED:20260109T031152Z
UID:10011060-1697654700-1697661900@leisureknoll.org
SUMMARY:Dominoes
DESCRIPTION:Recreation Hall
URL:https://leisureknoll.org/calendar/dominoes/2023-10-18/
END:VEVENT
BEGIN:VEVENT
DTSTART;TZID=America/New_York:20231019T090000
DTEND;TZID=America/New_York:20231019T110000
DTSTAMP:20260421T170534
CREATED:20210416T003116Z
LAST-MODIFIED:20260109T025549Z
UID:10009823-1697706000-1697713200@leisureknoll.org
SUMMARY:Wood Shop
DESCRIPTION:
URL:https://leisureknoll.org/calendar/wood-shop/2023-10-19/
END:VEVENT
BEGIN:VEVENT
DTSTART;TZID=America/New_York:20231019T130000
DTEND;TZID=America/New_York:20231019T150000
DTSTAMP:20260421T170535
CREATED:20210416T003503Z
LAST-MODIFIED:20240929T182527Z
UID:10010436-1697720400-1697727600@leisureknoll.org
SUMMARY:Billiards
DESCRIPTION:Recreation Center\, every day except Sunday
URL:https://leisureknoll.org/calendar/billiards/2023-10-19/
END:VEVENT
BEGIN:VEVENT
DTSTART;TZID=America/New_York:20231019T130000
DTEND;TZID=America/New_York:20231019T150000
DTSTAMP:20260421T170535
CREATED:20231012T025517Z
LAST-MODIFIED:20260109T025947Z
UID:10011216-1697720400-1697727600@leisureknoll.org
SUMMARY:Canasta
DESCRIPTION:Craft Center
URL:https://leisureknoll.org/calendar/bridge-canasta-2/2023-10-19/
END:VEVENT
BEGIN:VEVENT
DTSTART;TZID=America/New_York:20231019T183000
DTEND;TZID=America/New_York:20231019T203000
DTSTAMP:20260421T170535
CREATED:20210702T035015Z
LAST-MODIFIED:20230106T202125Z
UID:10011320-1697740200-1697747400@leisureknoll.org
SUMMARY:Men's Low Stakes Poker
DESCRIPTION:
URL:https://leisureknoll.org/calendar/mens-low-stakes-poker/2023-10-19/
END:VEVENT
BEGIN:VEVENT
DTSTART;TZID=America/New_York:20231020T090000
DTEND;TZID=America/New_York:20231020T110000
DTSTAMP:20260421T170535
CREATED:20210416T003116Z
LAST-MODIFIED:20260109T025549Z
UID:10009824-1697792400-1697799600@leisureknoll.org
SUMMARY:Wood Shop
DESCRIPTION:
URL:https://leisureknoll.org/calendar/wood-shop/2023-10-20/
END:VEVENT
BEGIN:VEVENT
DTSTART;TZID=America/New_York:20231020T130000
DTEND;TZID=America/New_York:20231020T150000
DTSTAMP:20260421T170535
CREATED:20210416T003503Z
LAST-MODIFIED:20240929T182527Z
UID:10010437-1697806800-1697814000@leisureknoll.org
SUMMARY:Billiards
DESCRIPTION:Recreation Center\, every day except Sunday
URL:https://leisureknoll.org/calendar/billiards/2023-10-20/
END:VEVENT
BEGIN:VEVENT
DTSTART;TZID=America/New_York:20231021T130000
DTEND;TZID=America/New_York:20231021T150000
DTSTAMP:20260421T170535
CREATED:20210416T003503Z
LAST-MODIFIED:20240929T182527Z
UID:10010438-1697893200-1697900400@leisureknoll.org
SUMMARY:Billiards
DESCRIPTION:Recreation Center\, every day except Sunday
URL:https://leisureknoll.org/calendar/billiards/2023-10-21/
END:VEVENT
END:VCALENDAR