BEGIN:VCALENDAR
VERSION:2.0
PRODID:-//Leisure Knoll - ECPv6.15.20//NONSGML v1.0//EN
CALSCALE:GREGORIAN
METHOD:PUBLISH
X-ORIGINAL-URL:https://leisureknoll.org
X-WR-CALDESC:Events for Leisure Knoll
REFRESH-INTERVAL;VALUE=DURATION:PT1H
X-Robots-Tag:noindex
X-PUBLISHED-TTL:PT1H
BEGIN:VTIMEZONE
TZID:America/New_York
BEGIN:DAYLIGHT
TZOFFSETFROM:-0500
TZOFFSETTO:-0400
TZNAME:EDT
DTSTART:20220313T070000
END:DAYLIGHT
BEGIN:STANDARD
TZOFFSETFROM:-0400
TZOFFSETTO:-0500
TZNAME:EST
DTSTART:20221106T060000
END:STANDARD
BEGIN:DAYLIGHT
TZOFFSETFROM:-0500
TZOFFSETTO:-0400
TZNAME:EDT
DTSTART:20230312T070000
END:DAYLIGHT
BEGIN:STANDARD
TZOFFSETFROM:-0400
TZOFFSETTO:-0500
TZNAME:EST
DTSTART:20231105T060000
END:STANDARD
BEGIN:DAYLIGHT
TZOFFSETFROM:-0500
TZOFFSETTO:-0400
TZNAME:EDT
DTSTART:20240310T070000
END:DAYLIGHT
BEGIN:STANDARD
TZOFFSETFROM:-0400
TZOFFSETTO:-0500
TZNAME:EST
DTSTART:20241103T060000
END:STANDARD
END:VTIMEZONE
BEGIN:VEVENT
DTSTART;TZID=America/New_York:20230911T090000
DTEND;TZID=America/New_York:20230911T110000
DTSTAMP:20260423T063822
CREATED:20210416T003116Z
LAST-MODIFIED:20260109T025549Z
UID:10009795-1694422800-1694430000@leisureknoll.org
SUMMARY:Wood Shop
DESCRIPTION:
URL:https://leisureknoll.org/calendar/wood-shop/2023-09-11/
END:VEVENT
BEGIN:VEVENT
DTSTART;TZID=America/New_York:20230911T130000
DTEND;TZID=America/New_York:20230911T150000
DTSTAMP:20260423T063822
CREATED:20210416T003503Z
LAST-MODIFIED:20240929T182527Z
UID:10010403-1694437200-1694444400@leisureknoll.org
SUMMARY:Billiards
DESCRIPTION:Recreation Center\, every day except Sunday
URL:https://leisureknoll.org/calendar/billiards/2023-09-11/
END:VEVENT
BEGIN:VEVENT
DTSTART;TZID=America/New_York:20230911T180000
DTEND;TZID=America/New_York:20230911T200000
DTSTAMP:20260423T063822
CREATED:20210702T034900Z
LAST-MODIFIED:20240707T191247Z
UID:10016814-1694455200-1694462400@leisureknoll.org
SUMMARY:Ladies Poker
DESCRIPTION:Craft Center
URL:https://leisureknoll.org/calendar/ladies-poker-2021-09-13/2023-09-11/
END:VEVENT
BEGIN:VEVENT
DTSTART;TZID=America/New_York:20230912T090000
DTEND;TZID=America/New_York:20230912T110000
DTSTAMP:20260423T063822
CREATED:20210416T003116Z
LAST-MODIFIED:20260109T025549Z
UID:10009796-1694509200-1694516400@leisureknoll.org
SUMMARY:Wood Shop
DESCRIPTION:
URL:https://leisureknoll.org/calendar/wood-shop/2023-09-12/
END:VEVENT
BEGIN:VEVENT
DTSTART;TZID=America/New_York:20230912T130000
DTEND;TZID=America/New_York:20230912T150000
DTSTAMP:20260423T063822
CREATED:20210416T003503Z
LAST-MODIFIED:20240929T182527Z
UID:10010404-1694523600-1694530800@leisureknoll.org
SUMMARY:Billiards
DESCRIPTION:Recreation Center\, every day except Sunday
URL:https://leisureknoll.org/calendar/billiards/2023-09-12/
END:VEVENT
BEGIN:VEVENT
DTSTART;TZID=America/New_York:20230913T090000
DTEND;TZID=America/New_York:20230913T110000
DTSTAMP:20260423T063822
CREATED:20210416T003116Z
LAST-MODIFIED:20260109T025549Z
UID:10009797-1694595600-1694602800@leisureknoll.org
SUMMARY:Wood Shop
DESCRIPTION:
URL:https://leisureknoll.org/calendar/wood-shop/2023-09-13/
END:VEVENT
BEGIN:VEVENT
DTSTART;TZID=America/New_York:20230913T113000
DTEND;TZID=America/New_York:20230913T143000
DTSTAMP:20260423T063822
CREATED:20230617T023550Z
LAST-MODIFIED:20230617T023550Z
UID:10010847-1694604600-1694615400@leisureknoll.org
SUMMARY:Men's Bowling
DESCRIPTION:@ 11:30am
URL:https://leisureknoll.org/calendar/mens-bowling-2021-09-15-2/2023-09-13/
END:VEVENT
BEGIN:VEVENT
DTSTART;TZID=America/New_York:20230913T130000
DTEND;TZID=America/New_York:20230913T150000
DTSTAMP:20260423T063822
CREATED:20210416T003503Z
LAST-MODIFIED:20240929T182527Z
UID:10010405-1694610000-1694617200@leisureknoll.org
SUMMARY:Billiards
DESCRIPTION:Recreation Center\, every day except Sunday
URL:https://leisureknoll.org/calendar/billiards/2023-09-13/
END:VEVENT
BEGIN:VEVENT
DTSTART;TZID=America/New_York:20230913T130000
DTEND;TZID=America/New_York:20230913T150000
DTSTAMP:20260423T063822
CREATED:20210416T005743Z
LAST-MODIFIED:20260109T030323Z
UID:10010899-1694610000-1694617200@leisureknoll.org
SUMMARY:Bridge
DESCRIPTION:Craft Center
URL:https://leisureknoll.org/calendar/bridge/2023-09-13/
END:VEVENT
BEGIN:VEVENT
DTSTART;TZID=America/New_York:20230913T180000
DTEND;TZID=America/New_York:20230913T200000
DTSTAMP:20260423T063822
CREATED:20210416T005957Z
LAST-MODIFIED:20240929T182030Z
UID:10011003-1694628000-1694635200@leisureknoll.org
SUMMARY:Men's Poker
DESCRIPTION:Craft Center
URL:https://leisureknoll.org/calendar/mens-poker-2022-08-31/2023-09-13/
END:VEVENT
BEGIN:VEVENT
DTSTART;TZID=America/New_York:20230913T184500
DTEND;TZID=America/New_York:20230913T204500
DTSTAMP:20260423T063822
CREATED:20210505T022532Z
LAST-MODIFIED:20260109T031152Z
UID:10011055-1694630700-1694637900@leisureknoll.org
SUMMARY:Dominoes
DESCRIPTION:Recreation Hall
URL:https://leisureknoll.org/calendar/dominoes/2023-09-13/
END:VEVENT
BEGIN:VEVENT
DTSTART;TZID=America/New_York:20230914T090000
DTEND;TZID=America/New_York:20230914T110000
DTSTAMP:20260423T063822
CREATED:20210416T003116Z
LAST-MODIFIED:20260109T025549Z
UID:10009798-1694682000-1694689200@leisureknoll.org
SUMMARY:Wood Shop
DESCRIPTION:
URL:https://leisureknoll.org/calendar/wood-shop/2023-09-14/
END:VEVENT
BEGIN:VEVENT
DTSTART;TZID=America/New_York:20230914T130000
DTEND;TZID=America/New_York:20230914T150000
DTSTAMP:20260423T063822
CREATED:20210416T003503Z
LAST-MODIFIED:20240929T182527Z
UID:10010406-1694696400-1694703600@leisureknoll.org
SUMMARY:Billiards
DESCRIPTION:Recreation Center\, every day except Sunday
URL:https://leisureknoll.org/calendar/billiards/2023-09-14/
END:VEVENT
BEGIN:VEVENT
DTSTART;TZID=America/New_York:20230914T130000
DTEND;TZID=America/New_York:20230914T150000
DTSTAMP:20260423T063822
CREATED:20210416T010104Z
LAST-MODIFIED:20230106T202026Z
UID:10011211-1694696400-1694703600@leisureknoll.org
SUMMARY:Bridge/Canasta
DESCRIPTION:Craft Center
URL:https://leisureknoll.org/calendar/bridge-canasta/2023-09-14/
END:VEVENT
BEGIN:VEVENT
DTSTART;TZID=America/New_York:20230914T183000
DTEND;TZID=America/New_York:20230914T203000
DTSTAMP:20260423T063822
CREATED:20210702T035015Z
LAST-MODIFIED:20230106T202125Z
UID:10011315-1694716200-1694723400@leisureknoll.org
SUMMARY:Men's Low Stakes Poker
DESCRIPTION:
URL:https://leisureknoll.org/calendar/mens-low-stakes-poker/2023-09-14/
END:VEVENT
BEGIN:VEVENT
DTSTART;TZID=America/New_York:20230915T090000
DTEND;TZID=America/New_York:20230915T110000
DTSTAMP:20260423T063822
CREATED:20210416T003116Z
LAST-MODIFIED:20260109T025549Z
UID:10009799-1694768400-1694775600@leisureknoll.org
SUMMARY:Wood Shop
DESCRIPTION:
URL:https://leisureknoll.org/calendar/wood-shop/2023-09-15/
END:VEVENT
BEGIN:VEVENT
DTSTART;TZID=America/New_York:20230915T130000
DTEND;TZID=America/New_York:20230915T150000
DTSTAMP:20260423T063822
CREATED:20210416T003503Z
LAST-MODIFIED:20240929T182527Z
UID:10010407-1694782800-1694790000@leisureknoll.org
SUMMARY:Billiards
DESCRIPTION:Recreation Center\, every day except Sunday
URL:https://leisureknoll.org/calendar/billiards/2023-09-15/
END:VEVENT
BEGIN:VEVENT
DTSTART;TZID=America/New_York:20230916T130000
DTEND;TZID=America/New_York:20230916T150000
DTSTAMP:20260423T063822
CREATED:20210416T003503Z
LAST-MODIFIED:20240929T182527Z
UID:10010408-1694869200-1694876400@leisureknoll.org
SUMMARY:Billiards
DESCRIPTION:Recreation Center\, every day except Sunday
URL:https://leisureknoll.org/calendar/billiards/2023-09-16/
END:VEVENT
END:VCALENDAR