BEGIN:VCALENDAR
VERSION:2.0
PRODID:-//Leisure Knoll - ECPv6.15.20//NONSGML v1.0//EN
CALSCALE:GREGORIAN
METHOD:PUBLISH
X-ORIGINAL-URL:https://leisureknoll.org
X-WR-CALDESC:Events for Leisure Knoll
REFRESH-INTERVAL;VALUE=DURATION:PT1H
X-Robots-Tag:noindex
X-PUBLISHED-TTL:PT1H
BEGIN:VTIMEZONE
TZID:America/New_York
BEGIN:DAYLIGHT
TZOFFSETFROM:-0500
TZOFFSETTO:-0400
TZNAME:EDT
DTSTART:20220313T070000
END:DAYLIGHT
BEGIN:STANDARD
TZOFFSETFROM:-0400
TZOFFSETTO:-0500
TZNAME:EST
DTSTART:20221106T060000
END:STANDARD
BEGIN:DAYLIGHT
TZOFFSETFROM:-0500
TZOFFSETTO:-0400
TZNAME:EDT
DTSTART:20230312T070000
END:DAYLIGHT
BEGIN:STANDARD
TZOFFSETFROM:-0400
TZOFFSETTO:-0500
TZNAME:EST
DTSTART:20231105T060000
END:STANDARD
BEGIN:DAYLIGHT
TZOFFSETFROM:-0500
TZOFFSETTO:-0400
TZNAME:EDT
DTSTART:20240310T070000
END:DAYLIGHT
BEGIN:STANDARD
TZOFFSETFROM:-0400
TZOFFSETTO:-0500
TZNAME:EST
DTSTART:20241103T060000
END:STANDARD
END:VTIMEZONE
BEGIN:VEVENT
DTSTART;TZID=America/New_York:20230814T090000
DTEND;TZID=America/New_York:20230814T110000
DTSTAMP:20260423T195119
CREATED:20210416T003116Z
LAST-MODIFIED:20260109T025549Z
UID:10009775-1692003600-1692010800@leisureknoll.org
SUMMARY:Wood Shop
DESCRIPTION:
URL:https://leisureknoll.org/calendar/wood-shop/2023-08-14/
END:VEVENT
BEGIN:VEVENT
DTSTART;TZID=America/New_York:20230814T123000
DTEND;TZID=America/New_York:20230814T143000
DTSTAMP:20260423T195119
CREATED:20210702T030121Z
LAST-MODIFIED:20230106T200950Z
UID:10010167-1692016200-1692023400@leisureknoll.org
SUMMARY:Mah Jongg
DESCRIPTION:@ Craft Center
URL:https://leisureknoll.org/calendar/mah-jongg-5/2023-08-14/
END:VEVENT
BEGIN:VEVENT
DTSTART;TZID=America/New_York:20230814T130000
DTEND;TZID=America/New_York:20230814T150000
DTSTAMP:20260423T195119
CREATED:20210416T003503Z
LAST-MODIFIED:20240929T182527Z
UID:10010379-1692018000-1692025200@leisureknoll.org
SUMMARY:Billiards
DESCRIPTION:Recreation Center\, every day except Sunday
URL:https://leisureknoll.org/calendar/billiards/2023-08-14/
END:VEVENT
BEGIN:VEVENT
DTSTART;TZID=America/New_York:20230814T180000
DTEND;TZID=America/New_York:20230814T200000
DTSTAMP:20260423T195119
CREATED:20210702T034900Z
LAST-MODIFIED:20240707T191247Z
UID:10016810-1692036000-1692043200@leisureknoll.org
SUMMARY:Ladies Poker
DESCRIPTION:Craft Center
URL:https://leisureknoll.org/calendar/ladies-poker-2021-09-13/2023-08-14/
END:VEVENT
BEGIN:VEVENT
DTSTART;TZID=America/New_York:20230815T090000
DTEND;TZID=America/New_York:20230815T110000
DTSTAMP:20260423T195119
CREATED:20210416T003116Z
LAST-MODIFIED:20260109T025549Z
UID:10009776-1692090000-1692097200@leisureknoll.org
SUMMARY:Wood Shop
DESCRIPTION:
URL:https://leisureknoll.org/calendar/wood-shop/2023-08-15/
END:VEVENT
BEGIN:VEVENT
DTSTART;TZID=America/New_York:20230815T130000
DTEND;TZID=America/New_York:20230815T150000
DTSTAMP:20260423T195120
CREATED:20210416T003503Z
LAST-MODIFIED:20240929T182527Z
UID:10010380-1692104400-1692111600@leisureknoll.org
SUMMARY:Billiards
DESCRIPTION:Recreation Center\, every day except Sunday
URL:https://leisureknoll.org/calendar/billiards/2023-08-15/
END:VEVENT
BEGIN:VEVENT
DTSTART;TZID=America/New_York:20230816T090000
DTEND;TZID=America/New_York:20230816T110000
DTSTAMP:20260423T195120
CREATED:20210416T003116Z
LAST-MODIFIED:20260109T025549Z
UID:10009777-1692176400-1692183600@leisureknoll.org
SUMMARY:Wood Shop
DESCRIPTION:
URL:https://leisureknoll.org/calendar/wood-shop/2023-08-16/
END:VEVENT
BEGIN:VEVENT
DTSTART;TZID=America/New_York:20230816T113000
DTEND;TZID=America/New_York:20230816T143000
DTSTAMP:20260423T195120
CREATED:20230617T023550Z
LAST-MODIFIED:20230617T023550Z
UID:10010843-1692185400-1692196200@leisureknoll.org
SUMMARY:Men's Bowling
DESCRIPTION:@ 11:30am
URL:https://leisureknoll.org/calendar/mens-bowling-2021-09-15-2/2023-08-16/
END:VEVENT
BEGIN:VEVENT
DTSTART;TZID=America/New_York:20230816T130000
DTEND;TZID=America/New_York:20230816T150000
DTSTAMP:20260423T195120
CREATED:20210416T003503Z
LAST-MODIFIED:20240929T182527Z
UID:10010381-1692190800-1692198000@leisureknoll.org
SUMMARY:Billiards
DESCRIPTION:Recreation Center\, every day except Sunday
URL:https://leisureknoll.org/calendar/billiards/2023-08-16/
END:VEVENT
BEGIN:VEVENT
DTSTART;TZID=America/New_York:20230816T130000
DTEND;TZID=America/New_York:20230816T150000
DTSTAMP:20260423T195120
CREATED:20210416T005743Z
LAST-MODIFIED:20260109T030323Z
UID:10010895-1692190800-1692198000@leisureknoll.org
SUMMARY:Bridge
DESCRIPTION:Craft Center
URL:https://leisureknoll.org/calendar/bridge/2023-08-16/
END:VEVENT
BEGIN:VEVENT
DTSTART;TZID=America/New_York:20230816T180000
DTEND;TZID=America/New_York:20230816T200000
DTSTAMP:20260423T195120
CREATED:20210416T005957Z
LAST-MODIFIED:20240929T182030Z
UID:10010999-1692208800-1692216000@leisureknoll.org
SUMMARY:Men's Poker
DESCRIPTION:Craft Center
URL:https://leisureknoll.org/calendar/mens-poker-2022-08-31/2023-08-16/
END:VEVENT
BEGIN:VEVENT
DTSTART;TZID=America/New_York:20230816T184500
DTEND;TZID=America/New_York:20230816T204500
DTSTAMP:20260423T195120
CREATED:20210505T022532Z
LAST-MODIFIED:20260109T031152Z
UID:10011051-1692211500-1692218700@leisureknoll.org
SUMMARY:Dominoes
DESCRIPTION:Recreation Hall
URL:https://leisureknoll.org/calendar/dominoes/2023-08-16/
END:VEVENT
BEGIN:VEVENT
DTSTART;TZID=America/New_York:20230817T090000
DTEND;TZID=America/New_York:20230817T110000
DTSTAMP:20260423T195120
CREATED:20210416T003116Z
LAST-MODIFIED:20260109T025549Z
UID:10009778-1692262800-1692270000@leisureknoll.org
SUMMARY:Wood Shop
DESCRIPTION:
URL:https://leisureknoll.org/calendar/wood-shop/2023-08-17/
END:VEVENT
BEGIN:VEVENT
DTSTART;TZID=America/New_York:20230817T130000
DTEND;TZID=America/New_York:20230817T150000
DTSTAMP:20260423T195120
CREATED:20210416T003503Z
LAST-MODIFIED:20240929T182527Z
UID:10010382-1692277200-1692284400@leisureknoll.org
SUMMARY:Billiards
DESCRIPTION:Recreation Center\, every day except Sunday
URL:https://leisureknoll.org/calendar/billiards/2023-08-17/
END:VEVENT
BEGIN:VEVENT
DTSTART;TZID=America/New_York:20230817T130000
DTEND;TZID=America/New_York:20230817T150000
DTSTAMP:20260423T195120
CREATED:20210416T010104Z
LAST-MODIFIED:20230106T202026Z
UID:10011207-1692277200-1692284400@leisureknoll.org
SUMMARY:Bridge/Canasta
DESCRIPTION:Craft Center
URL:https://leisureknoll.org/calendar/bridge-canasta/2023-08-17/
END:VEVENT
BEGIN:VEVENT
DTSTART;TZID=America/New_York:20230817T183000
DTEND;TZID=America/New_York:20230817T203000
DTSTAMP:20260423T195120
CREATED:20210702T035015Z
LAST-MODIFIED:20230106T202125Z
UID:10011311-1692297000-1692304200@leisureknoll.org
SUMMARY:Men's Low Stakes Poker
DESCRIPTION:
URL:https://leisureknoll.org/calendar/mens-low-stakes-poker/2023-08-17/
END:VEVENT
BEGIN:VEVENT
DTSTART;TZID=America/New_York:20230818T090000
DTEND;TZID=America/New_York:20230818T110000
DTSTAMP:20260423T195120
CREATED:20210416T003116Z
LAST-MODIFIED:20260109T025549Z
UID:10009779-1692349200-1692356400@leisureknoll.org
SUMMARY:Wood Shop
DESCRIPTION:
URL:https://leisureknoll.org/calendar/wood-shop/2023-08-18/
END:VEVENT
BEGIN:VEVENT
DTSTART;TZID=America/New_York:20230818T130000
DTEND;TZID=America/New_York:20230818T150000
DTSTAMP:20260423T195120
CREATED:20210416T003503Z
LAST-MODIFIED:20240929T182527Z
UID:10010383-1692363600-1692370800@leisureknoll.org
SUMMARY:Billiards
DESCRIPTION:Recreation Center\, every day except Sunday
URL:https://leisureknoll.org/calendar/billiards/2023-08-18/
END:VEVENT
BEGIN:VEVENT
DTSTART;TZID=America/New_York:20230819T130000
DTEND;TZID=America/New_York:20230819T150000
DTSTAMP:20260423T195120
CREATED:20210416T003503Z
LAST-MODIFIED:20240929T182527Z
UID:10010384-1692450000-1692457200@leisureknoll.org
SUMMARY:Billiards
DESCRIPTION:Recreation Center\, every day except Sunday
URL:https://leisureknoll.org/calendar/billiards/2023-08-19/
END:VEVENT
END:VCALENDAR