BEGIN:VCALENDAR
VERSION:2.0
PRODID:-//Leisure Knoll - ECPv6.15.20//NONSGML v1.0//EN
CALSCALE:GREGORIAN
METHOD:PUBLISH
X-WR-CALNAME:Leisure Knoll
X-ORIGINAL-URL:https://leisureknoll.org
X-WR-CALDESC:Events for Leisure Knoll
REFRESH-INTERVAL;VALUE=DURATION:PT1H
X-Robots-Tag:noindex
X-PUBLISHED-TTL:PT1H
BEGIN:VTIMEZONE
TZID:America/New_York
BEGIN:DAYLIGHT
TZOFFSETFROM:-0500
TZOFFSETTO:-0400
TZNAME:EDT
DTSTART:20220313T070000
END:DAYLIGHT
BEGIN:STANDARD
TZOFFSETFROM:-0400
TZOFFSETTO:-0500
TZNAME:EST
DTSTART:20221106T060000
END:STANDARD
BEGIN:DAYLIGHT
TZOFFSETFROM:-0500
TZOFFSETTO:-0400
TZNAME:EDT
DTSTART:20230312T070000
END:DAYLIGHT
BEGIN:STANDARD
TZOFFSETFROM:-0400
TZOFFSETTO:-0500
TZNAME:EST
DTSTART:20231105T060000
END:STANDARD
BEGIN:DAYLIGHT
TZOFFSETFROM:-0500
TZOFFSETTO:-0400
TZNAME:EDT
DTSTART:20240310T070000
END:DAYLIGHT
BEGIN:STANDARD
TZOFFSETFROM:-0400
TZOFFSETTO:-0500
TZNAME:EST
DTSTART:20241103T060000
END:STANDARD
END:VTIMEZONE
BEGIN:VEVENT
DTSTART;TZID=America/New_York:20230731T090000
DTEND;TZID=America/New_York:20230731T110000
DTSTAMP:20260424T023511
CREATED:20210416T003116Z
LAST-MODIFIED:20260109T025549Z
UID:10009765-1690794000-1690801200@leisureknoll.org
SUMMARY:Wood Shop
DESCRIPTION:
URL:https://leisureknoll.org/calendar/wood-shop/2023-07-31/
END:VEVENT
BEGIN:VEVENT
DTSTART;TZID=America/New_York:20230731T123000
DTEND;TZID=America/New_York:20230731T143000
DTSTAMP:20260424T023511
CREATED:20210702T030121Z
LAST-MODIFIED:20230106T200950Z
UID:10010165-1690806600-1690813800@leisureknoll.org
SUMMARY:Mah Jongg
DESCRIPTION:@ Craft Center
URL:https://leisureknoll.org/calendar/mah-jongg-5/2023-07-31/
END:VEVENT
BEGIN:VEVENT
DTSTART;TZID=America/New_York:20230731T130000
DTEND;TZID=America/New_York:20230731T150000
DTSTAMP:20260424T023511
CREATED:20210416T003503Z
LAST-MODIFIED:20240929T182527Z
UID:10010367-1690808400-1690815600@leisureknoll.org
SUMMARY:Billiards
DESCRIPTION:Recreation Center\, every day except Sunday
URL:https://leisureknoll.org/calendar/billiards/2023-07-31/
END:VEVENT
BEGIN:VEVENT
DTSTART;TZID=America/New_York:20230731T180000
DTEND;TZID=America/New_York:20230731T200000
DTSTAMP:20260424T023511
CREATED:20210702T034900Z
LAST-MODIFIED:20240707T191247Z
UID:10016808-1690826400-1690833600@leisureknoll.org
SUMMARY:Ladies Poker
DESCRIPTION:Craft Center
URL:https://leisureknoll.org/calendar/ladies-poker-2021-09-13/2023-07-31/
END:VEVENT
BEGIN:VEVENT
DTSTART;TZID=America/New_York:20230801T090000
DTEND;TZID=America/New_York:20230801T110000
DTSTAMP:20260424T023511
CREATED:20210416T003116Z
LAST-MODIFIED:20260109T025549Z
UID:10009766-1690880400-1690887600@leisureknoll.org
SUMMARY:Wood Shop
DESCRIPTION:
URL:https://leisureknoll.org/calendar/wood-shop/2023-08-01/
END:VEVENT
BEGIN:VEVENT
DTSTART;TZID=America/New_York:20230801T130000
DTEND;TZID=America/New_York:20230801T150000
DTSTAMP:20260424T023511
CREATED:20210416T003503Z
LAST-MODIFIED:20240929T182527Z
UID:10010368-1690894800-1690902000@leisureknoll.org
SUMMARY:Billiards
DESCRIPTION:Recreation Center\, every day except Sunday
URL:https://leisureknoll.org/calendar/billiards/2023-08-01/
END:VEVENT
BEGIN:VEVENT
DTSTART;TZID=America/New_York:20230802T090000
DTEND;TZID=America/New_York:20230802T110000
DTSTAMP:20260424T023511
CREATED:20210416T003116Z
LAST-MODIFIED:20260109T025549Z
UID:10009767-1690966800-1690974000@leisureknoll.org
SUMMARY:Wood Shop
DESCRIPTION:
URL:https://leisureknoll.org/calendar/wood-shop/2023-08-02/
END:VEVENT
BEGIN:VEVENT
DTSTART;TZID=America/New_York:20230802T113000
DTEND;TZID=America/New_York:20230802T143000
DTSTAMP:20260424T023511
CREATED:20230617T023550Z
LAST-MODIFIED:20230617T023550Z
UID:10010841-1690975800-1690986600@leisureknoll.org
SUMMARY:Men's Bowling
DESCRIPTION:@ 11:30am
URL:https://leisureknoll.org/calendar/mens-bowling-2021-09-15-2/2023-08-02/
END:VEVENT
BEGIN:VEVENT
DTSTART;TZID=America/New_York:20230802T130000
DTEND;TZID=America/New_York:20230802T150000
DTSTAMP:20260424T023511
CREATED:20210416T003503Z
LAST-MODIFIED:20240929T182527Z
UID:10010369-1690981200-1690988400@leisureknoll.org
SUMMARY:Billiards
DESCRIPTION:Recreation Center\, every day except Sunday
URL:https://leisureknoll.org/calendar/billiards/2023-08-02/
END:VEVENT
BEGIN:VEVENT
DTSTART;TZID=America/New_York:20230802T130000
DTEND;TZID=America/New_York:20230802T150000
DTSTAMP:20260424T023511
CREATED:20210416T005743Z
LAST-MODIFIED:20260109T030323Z
UID:10010893-1690981200-1690988400@leisureknoll.org
SUMMARY:Bridge
DESCRIPTION:Craft Center
URL:https://leisureknoll.org/calendar/bridge/2023-08-02/
END:VEVENT
BEGIN:VEVENT
DTSTART;TZID=America/New_York:20230802T180000
DTEND;TZID=America/New_York:20230802T200000
DTSTAMP:20260424T023511
CREATED:20210416T005957Z
LAST-MODIFIED:20240929T182030Z
UID:10010997-1690999200-1691006400@leisureknoll.org
SUMMARY:Men's Poker
DESCRIPTION:Craft Center
URL:https://leisureknoll.org/calendar/mens-poker-2022-08-31/2023-08-02/
END:VEVENT
BEGIN:VEVENT
DTSTART;TZID=America/New_York:20230802T184500
DTEND;TZID=America/New_York:20230802T204500
DTSTAMP:20260424T023511
CREATED:20210505T022532Z
LAST-MODIFIED:20260109T031152Z
UID:10011049-1691001900-1691009100@leisureknoll.org
SUMMARY:Dominoes
DESCRIPTION:Recreation Hall
URL:https://leisureknoll.org/calendar/dominoes/2023-08-02/
END:VEVENT
BEGIN:VEVENT
DTSTART;TZID=America/New_York:20230803T090000
DTEND;TZID=America/New_York:20230803T110000
DTSTAMP:20260424T023511
CREATED:20210416T003116Z
LAST-MODIFIED:20260109T025549Z
UID:10009768-1691053200-1691060400@leisureknoll.org
SUMMARY:Wood Shop
DESCRIPTION:
URL:https://leisureknoll.org/calendar/wood-shop/2023-08-03/
END:VEVENT
BEGIN:VEVENT
DTSTART;TZID=America/New_York:20230803T130000
DTEND;TZID=America/New_York:20230803T150000
DTSTAMP:20260424T023511
CREATED:20210416T003503Z
LAST-MODIFIED:20240929T182527Z
UID:10010370-1691067600-1691074800@leisureknoll.org
SUMMARY:Billiards
DESCRIPTION:Recreation Center\, every day except Sunday
URL:https://leisureknoll.org/calendar/billiards/2023-08-03/
END:VEVENT
BEGIN:VEVENT
DTSTART;TZID=America/New_York:20230803T130000
DTEND;TZID=America/New_York:20230803T150000
DTSTAMP:20260424T023511
CREATED:20210416T010104Z
LAST-MODIFIED:20230106T202026Z
UID:10011205-1691067600-1691074800@leisureknoll.org
SUMMARY:Bridge/Canasta
DESCRIPTION:Craft Center
URL:https://leisureknoll.org/calendar/bridge-canasta/2023-08-03/
END:VEVENT
BEGIN:VEVENT
DTSTART;TZID=America/New_York:20230803T183000
DTEND;TZID=America/New_York:20230803T203000
DTSTAMP:20260424T023511
CREATED:20210702T035015Z
LAST-MODIFIED:20230106T202125Z
UID:10011309-1691087400-1691094600@leisureknoll.org
SUMMARY:Men's Low Stakes Poker
DESCRIPTION:
URL:https://leisureknoll.org/calendar/mens-low-stakes-poker/2023-08-03/
END:VEVENT
BEGIN:VEVENT
DTSTART;TZID=America/New_York:20230804T090000
DTEND;TZID=America/New_York:20230804T110000
DTSTAMP:20260424T023511
CREATED:20210416T003116Z
LAST-MODIFIED:20260109T025549Z
UID:10009769-1691139600-1691146800@leisureknoll.org
SUMMARY:Wood Shop
DESCRIPTION:
URL:https://leisureknoll.org/calendar/wood-shop/2023-08-04/
END:VEVENT
BEGIN:VEVENT
DTSTART;TZID=America/New_York:20230804T130000
DTEND;TZID=America/New_York:20230804T150000
DTSTAMP:20260424T023511
CREATED:20210416T003503Z
LAST-MODIFIED:20240929T182527Z
UID:10010371-1691154000-1691161200@leisureknoll.org
SUMMARY:Billiards
DESCRIPTION:Recreation Center\, every day except Sunday
URL:https://leisureknoll.org/calendar/billiards/2023-08-04/
END:VEVENT
BEGIN:VEVENT
DTSTART;TZID=America/New_York:20230805T130000
DTEND;TZID=America/New_York:20230805T150000
DTSTAMP:20260424T023511
CREATED:20210416T003503Z
LAST-MODIFIED:20240929T182527Z
UID:10010372-1691240400-1691247600@leisureknoll.org
SUMMARY:Billiards
DESCRIPTION:Recreation Center\, every day except Sunday
URL:https://leisureknoll.org/calendar/billiards/2023-08-05/
END:VEVENT
END:VCALENDAR