BEGIN:VCALENDAR
VERSION:2.0
PRODID:-//Leisure Knoll - ECPv6.15.20//NONSGML v1.0//EN
CALSCALE:GREGORIAN
METHOD:PUBLISH
X-WR-CALNAME:Leisure Knoll
X-ORIGINAL-URL:https://leisureknoll.org
X-WR-CALDESC:Events for Leisure Knoll
REFRESH-INTERVAL;VALUE=DURATION:PT1H
X-Robots-Tag:noindex
X-PUBLISHED-TTL:PT1H
BEGIN:VTIMEZONE
TZID:America/New_York
BEGIN:DAYLIGHT
TZOFFSETFROM:-0500
TZOFFSETTO:-0400
TZNAME:EDT
DTSTART:20220313T070000
END:DAYLIGHT
BEGIN:STANDARD
TZOFFSETFROM:-0400
TZOFFSETTO:-0500
TZNAME:EST
DTSTART:20221106T060000
END:STANDARD
BEGIN:DAYLIGHT
TZOFFSETFROM:-0500
TZOFFSETTO:-0400
TZNAME:EDT
DTSTART:20230312T070000
END:DAYLIGHT
BEGIN:STANDARD
TZOFFSETFROM:-0400
TZOFFSETTO:-0500
TZNAME:EST
DTSTART:20231105T060000
END:STANDARD
BEGIN:DAYLIGHT
TZOFFSETFROM:-0500
TZOFFSETTO:-0400
TZNAME:EDT
DTSTART:20240310T070000
END:DAYLIGHT
BEGIN:STANDARD
TZOFFSETFROM:-0400
TZOFFSETTO:-0500
TZNAME:EST
DTSTART:20241103T060000
END:STANDARD
END:VTIMEZONE
BEGIN:VEVENT
DTSTART;TZID=America/New_York:20230529T090000
DTEND;TZID=America/New_York:20230529T110000
DTSTAMP:20260424T100056
CREATED:20210416T003116Z
LAST-MODIFIED:20260109T025549Z
UID:10009720-1685350800-1685358000@leisureknoll.org
SUMMARY:Wood Shop
DESCRIPTION:
URL:https://leisureknoll.org/calendar/wood-shop/2023-05-29/
END:VEVENT
BEGIN:VEVENT
DTSTART;TZID=America/New_York:20230529T123000
DTEND;TZID=America/New_York:20230529T143000
DTSTAMP:20260424T100056
CREATED:20210702T030121Z
LAST-MODIFIED:20230106T200950Z
UID:10010156-1685363400-1685370600@leisureknoll.org
SUMMARY:Mah Jongg
DESCRIPTION:@ Craft Center
URL:https://leisureknoll.org/calendar/mah-jongg-5/2023-05-29/
END:VEVENT
BEGIN:VEVENT
DTSTART;TZID=America/New_York:20230529T130000
DTEND;TZID=America/New_York:20230529T150000
DTSTAMP:20260424T100056
CREATED:20210416T003503Z
LAST-MODIFIED:20240929T182527Z
UID:10010313-1685365200-1685372400@leisureknoll.org
SUMMARY:Billiards
DESCRIPTION:Recreation Center\, every day except Sunday
URL:https://leisureknoll.org/calendar/billiards/2023-05-29/
END:VEVENT
BEGIN:VEVENT
DTSTART;TZID=America/New_York:20230529T180000
DTEND;TZID=America/New_York:20230529T200000
DTSTAMP:20260424T100056
CREATED:20210702T034900Z
LAST-MODIFIED:20240707T191247Z
UID:10016799-1685383200-1685390400@leisureknoll.org
SUMMARY:Ladies Poker
DESCRIPTION:Craft Center
URL:https://leisureknoll.org/calendar/ladies-poker-2021-09-13/2023-05-29/
END:VEVENT
BEGIN:VEVENT
DTSTART;TZID=America/New_York:20230530T090000
DTEND;TZID=America/New_York:20230530T110000
DTSTAMP:20260424T100056
CREATED:20210416T003116Z
LAST-MODIFIED:20260109T025549Z
UID:10009721-1685437200-1685444400@leisureknoll.org
SUMMARY:Wood Shop
DESCRIPTION:
URL:https://leisureknoll.org/calendar/wood-shop/2023-05-30/
END:VEVENT
BEGIN:VEVENT
DTSTART;TZID=America/New_York:20230530T130000
DTEND;TZID=America/New_York:20230530T150000
DTSTAMP:20260424T100056
CREATED:20210416T003503Z
LAST-MODIFIED:20240929T182527Z
UID:10010314-1685451600-1685458800@leisureknoll.org
SUMMARY:Billiards
DESCRIPTION:Recreation Center\, every day except Sunday
URL:https://leisureknoll.org/calendar/billiards/2023-05-30/
END:VEVENT
BEGIN:VEVENT
DTSTART;TZID=America/New_York:20230531T090000
DTEND;TZID=America/New_York:20230531T110000
DTSTAMP:20260424T100056
CREATED:20210416T003116Z
LAST-MODIFIED:20260109T025549Z
UID:10009722-1685523600-1685530800@leisureknoll.org
SUMMARY:Wood Shop
DESCRIPTION:
URL:https://leisureknoll.org/calendar/wood-shop/2023-05-31/
END:VEVENT
BEGIN:VEVENT
DTSTART;TZID=America/New_York:20230531T113000
DTEND;TZID=America/New_York:20230531T143000
DTSTAMP:20260424T100056
CREATED:20210416T005344Z
LAST-MODIFIED:20230106T201617Z
UID:10010832-1685532600-1685543400@leisureknoll.org
SUMMARY:Men's & Mixers Bowling
DESCRIPTION:
URL:https://leisureknoll.org/calendar/mens-bowling-2021-09-15/2023-05-31/
END:VEVENT
BEGIN:VEVENT
DTSTART;TZID=America/New_York:20230531T130000
DTEND;TZID=America/New_York:20230531T150000
DTSTAMP:20260424T100056
CREATED:20210416T003503Z
LAST-MODIFIED:20240929T182527Z
UID:10010315-1685538000-1685545200@leisureknoll.org
SUMMARY:Billiards
DESCRIPTION:Recreation Center\, every day except Sunday
URL:https://leisureknoll.org/calendar/billiards/2023-05-31/
END:VEVENT
BEGIN:VEVENT
DTSTART;TZID=America/New_York:20230531T130000
DTEND;TZID=America/New_York:20230531T150000
DTSTAMP:20260424T100056
CREATED:20210416T005743Z
LAST-MODIFIED:20260109T030323Z
UID:10010884-1685538000-1685545200@leisureknoll.org
SUMMARY:Bridge
DESCRIPTION:Craft Center
URL:https://leisureknoll.org/calendar/bridge/2023-05-31/
END:VEVENT
BEGIN:VEVENT
DTSTART;TZID=America/New_York:20230531T180000
DTEND;TZID=America/New_York:20230531T200000
DTSTAMP:20260424T100056
CREATED:20210416T005957Z
LAST-MODIFIED:20240929T182030Z
UID:10010988-1685556000-1685563200@leisureknoll.org
SUMMARY:Men's Poker
DESCRIPTION:Craft Center
URL:https://leisureknoll.org/calendar/mens-poker-2022-08-31/2023-05-31/
END:VEVENT
BEGIN:VEVENT
DTSTART;TZID=America/New_York:20230531T184500
DTEND;TZID=America/New_York:20230531T204500
DTSTAMP:20260424T100056
CREATED:20210505T022532Z
LAST-MODIFIED:20260109T031152Z
UID:10011040-1685558700-1685565900@leisureknoll.org
SUMMARY:Dominoes
DESCRIPTION:Recreation Hall
URL:https://leisureknoll.org/calendar/dominoes/2023-05-31/
END:VEVENT
BEGIN:VEVENT
DTSTART;TZID=America/New_York:20230601T090000
DTEND;TZID=America/New_York:20230601T110000
DTSTAMP:20260424T100056
CREATED:20210416T003116Z
LAST-MODIFIED:20260109T025549Z
UID:10009723-1685610000-1685617200@leisureknoll.org
SUMMARY:Wood Shop
DESCRIPTION:
URL:https://leisureknoll.org/calendar/wood-shop/2023-06-01/
END:VEVENT
BEGIN:VEVENT
DTSTART;TZID=America/New_York:20230601T130000
DTEND;TZID=America/New_York:20230601T150000
DTSTAMP:20260424T100056
CREATED:20210416T003503Z
LAST-MODIFIED:20240929T182527Z
UID:10010316-1685624400-1685631600@leisureknoll.org
SUMMARY:Billiards
DESCRIPTION:Recreation Center\, every day except Sunday
URL:https://leisureknoll.org/calendar/billiards/2023-06-01/
END:VEVENT
BEGIN:VEVENT
DTSTART;TZID=America/New_York:20230601T130000
DTEND;TZID=America/New_York:20230601T150000
DTSTAMP:20260424T100056
CREATED:20210416T010104Z
LAST-MODIFIED:20230106T202026Z
UID:10011196-1685624400-1685631600@leisureknoll.org
SUMMARY:Bridge/Canasta
DESCRIPTION:Craft Center
URL:https://leisureknoll.org/calendar/bridge-canasta/2023-06-01/
END:VEVENT
BEGIN:VEVENT
DTSTART;TZID=America/New_York:20230601T183000
DTEND;TZID=America/New_York:20230601T203000
DTSTAMP:20260424T100056
CREATED:20210702T035015Z
LAST-MODIFIED:20230106T202125Z
UID:10011300-1685644200-1685651400@leisureknoll.org
SUMMARY:Men's Low Stakes Poker
DESCRIPTION:
URL:https://leisureknoll.org/calendar/mens-low-stakes-poker/2023-06-01/
END:VEVENT
BEGIN:VEVENT
DTSTART;TZID=America/New_York:20230602T090000
DTEND;TZID=America/New_York:20230602T110000
DTSTAMP:20260424T100056
CREATED:20210416T003116Z
LAST-MODIFIED:20260109T025549Z
UID:10009724-1685696400-1685703600@leisureknoll.org
SUMMARY:Wood Shop
DESCRIPTION:
URL:https://leisureknoll.org/calendar/wood-shop/2023-06-02/
END:VEVENT
BEGIN:VEVENT
DTSTART;TZID=America/New_York:20230602T130000
DTEND;TZID=America/New_York:20230602T150000
DTSTAMP:20260424T100056
CREATED:20210416T003503Z
LAST-MODIFIED:20240929T182527Z
UID:10010317-1685710800-1685718000@leisureknoll.org
SUMMARY:Billiards
DESCRIPTION:Recreation Center\, every day except Sunday
URL:https://leisureknoll.org/calendar/billiards/2023-06-02/
END:VEVENT
BEGIN:VEVENT
DTSTART;TZID=America/New_York:20230603T130000
DTEND;TZID=America/New_York:20230603T150000
DTSTAMP:20260424T100056
CREATED:20210416T003503Z
LAST-MODIFIED:20240929T182527Z
UID:10010318-1685797200-1685804400@leisureknoll.org
SUMMARY:Billiards
DESCRIPTION:Recreation Center\, every day except Sunday
URL:https://leisureknoll.org/calendar/billiards/2023-06-03/
END:VEVENT
END:VCALENDAR