BEGIN:VCALENDAR
VERSION:2.0
PRODID:-//Leisure Knoll - ECPv6.15.20//NONSGML v1.0//EN
CALSCALE:GREGORIAN
METHOD:PUBLISH
X-WR-CALNAME:Leisure Knoll
X-ORIGINAL-URL:https://leisureknoll.org
X-WR-CALDESC:Events for Leisure Knoll
REFRESH-INTERVAL;VALUE=DURATION:PT1H
X-Robots-Tag:noindex
X-PUBLISHED-TTL:PT1H
BEGIN:VTIMEZONE
TZID:America/New_York
BEGIN:DAYLIGHT
TZOFFSETFROM:-0500
TZOFFSETTO:-0400
TZNAME:EDT
DTSTART:20220313T070000
END:DAYLIGHT
BEGIN:STANDARD
TZOFFSETFROM:-0400
TZOFFSETTO:-0500
TZNAME:EST
DTSTART:20221106T060000
END:STANDARD
BEGIN:DAYLIGHT
TZOFFSETFROM:-0500
TZOFFSETTO:-0400
TZNAME:EDT
DTSTART:20230312T070000
END:DAYLIGHT
BEGIN:STANDARD
TZOFFSETFROM:-0400
TZOFFSETTO:-0500
TZNAME:EST
DTSTART:20231105T060000
END:STANDARD
BEGIN:DAYLIGHT
TZOFFSETFROM:-0500
TZOFFSETTO:-0400
TZNAME:EDT
DTSTART:20240310T070000
END:DAYLIGHT
BEGIN:STANDARD
TZOFFSETFROM:-0400
TZOFFSETTO:-0500
TZNAME:EST
DTSTART:20241103T060000
END:STANDARD
END:VTIMEZONE
BEGIN:VEVENT
DTSTART;TZID=America/New_York:20230727T090000
DTEND;TZID=America/New_York:20230727T110000
DTSTAMP:20260424T023607
CREATED:20210416T003116Z
LAST-MODIFIED:20260109T025549Z
UID:10009763-1690448400-1690455600@leisureknoll.org
SUMMARY:Wood Shop
DESCRIPTION:
URL:https://leisureknoll.org/calendar/wood-shop/2023-07-27/
END:VEVENT
BEGIN:VEVENT
DTSTART;TZID=America/New_York:20230727T130000
DTEND;TZID=America/New_York:20230727T150000
DTSTAMP:20260424T023607
CREATED:20210416T003503Z
LAST-MODIFIED:20240929T182527Z
UID:10010364-1690462800-1690470000@leisureknoll.org
SUMMARY:Billiards
DESCRIPTION:Recreation Center\, every day except Sunday
URL:https://leisureknoll.org/calendar/billiards/2023-07-27/
END:VEVENT
BEGIN:VEVENT
DTSTART;TZID=America/New_York:20230727T130000
DTEND;TZID=America/New_York:20230727T150000
DTSTAMP:20260424T023607
CREATED:20210416T010104Z
LAST-MODIFIED:20230106T202026Z
UID:10011204-1690462800-1690470000@leisureknoll.org
SUMMARY:Bridge/Canasta
DESCRIPTION:Craft Center
URL:https://leisureknoll.org/calendar/bridge-canasta/2023-07-27/
END:VEVENT
BEGIN:VEVENT
DTSTART;TZID=America/New_York:20230727T183000
DTEND;TZID=America/New_York:20230727T203000
DTSTAMP:20260424T023607
CREATED:20210702T035015Z
LAST-MODIFIED:20230106T202125Z
UID:10011308-1690482600-1690489800@leisureknoll.org
SUMMARY:Men's Low Stakes Poker
DESCRIPTION:
URL:https://leisureknoll.org/calendar/mens-low-stakes-poker/2023-07-27/
END:VEVENT
END:VCALENDAR