BEGIN:VCALENDAR
VERSION:2.0
PRODID:-//Leisure Knoll - ECPv6.15.20//NONSGML v1.0//EN
CALSCALE:GREGORIAN
METHOD:PUBLISH
X-ORIGINAL-URL:https://leisureknoll.org
X-WR-CALDESC:Events for Leisure Knoll
REFRESH-INTERVAL;VALUE=DURATION:PT1H
X-Robots-Tag:noindex
X-PUBLISHED-TTL:PT1H
BEGIN:VTIMEZONE
TZID:America/New_York
BEGIN:DAYLIGHT
TZOFFSETFROM:-0500
TZOFFSETTO:-0400
TZNAME:EDT
DTSTART:20220313T070000
END:DAYLIGHT
BEGIN:STANDARD
TZOFFSETFROM:-0400
TZOFFSETTO:-0500
TZNAME:EST
DTSTART:20221106T060000
END:STANDARD
BEGIN:DAYLIGHT
TZOFFSETFROM:-0500
TZOFFSETTO:-0400
TZNAME:EDT
DTSTART:20230312T070000
END:DAYLIGHT
BEGIN:STANDARD
TZOFFSETFROM:-0400
TZOFFSETTO:-0500
TZNAME:EST
DTSTART:20231105T060000
END:STANDARD
BEGIN:DAYLIGHT
TZOFFSETFROM:-0500
TZOFFSETTO:-0400
TZNAME:EDT
DTSTART:20240310T070000
END:DAYLIGHT
BEGIN:STANDARD
TZOFFSETFROM:-0400
TZOFFSETTO:-0500
TZNAME:EST
DTSTART:20241103T060000
END:STANDARD
END:VTIMEZONE
BEGIN:VEVENT
DTSTART;TZID=America/New_York:20231201T090000
DTEND;TZID=America/New_York:20231201T110000
DTSTAMP:20260420T064758
CREATED:20210416T003116Z
LAST-MODIFIED:20260109T025549Z
UID:10009854-1701421200-1701428400@leisureknoll.org
SUMMARY:Wood Shop
DESCRIPTION:
URL:https://leisureknoll.org/calendar/wood-shop/2023-12-01/
END:VEVENT
BEGIN:VEVENT
DTSTART;TZID=America/New_York:20231201T130000
DTEND;TZID=America/New_York:20231201T150000
DTSTAMP:20260420T064758
CREATED:20210416T003503Z
LAST-MODIFIED:20240929T182527Z
UID:10010473-1701435600-1701442800@leisureknoll.org
SUMMARY:Billiards
DESCRIPTION:Recreation Center\, every day except Sunday
URL:https://leisureknoll.org/calendar/billiards/2023-12-01/
END:VEVENT
BEGIN:VEVENT
DTSTART;TZID=America/New_York:20231202T130000
DTEND;TZID=America/New_York:20231202T150000
DTSTAMP:20260420T064758
CREATED:20210416T003503Z
LAST-MODIFIED:20240929T182527Z
UID:10010474-1701522000-1701529200@leisureknoll.org
SUMMARY:Billiards
DESCRIPTION:Recreation Center\, every day except Sunday
URL:https://leisureknoll.org/calendar/billiards/2023-12-02/
END:VEVENT
BEGIN:VEVENT
DTSTART;TZID=America/New_York:20231204T090000
DTEND;TZID=America/New_York:20231204T110000
DTSTAMP:20260420T064758
CREATED:20210416T003116Z
LAST-MODIFIED:20260109T025549Z
UID:10009855-1701680400-1701687600@leisureknoll.org
SUMMARY:Wood Shop
DESCRIPTION:
URL:https://leisureknoll.org/calendar/wood-shop/2023-12-04/
END:VEVENT
BEGIN:VEVENT
DTSTART;TZID=America/New_York:20231204T130000
DTEND;TZID=America/New_York:20231204T150000
DTSTAMP:20260420T064758
CREATED:20210416T003503Z
LAST-MODIFIED:20240929T182527Z
UID:10010475-1701694800-1701702000@leisureknoll.org
SUMMARY:Billiards
DESCRIPTION:Recreation Center\, every day except Sunday
URL:https://leisureknoll.org/calendar/billiards/2023-12-04/
END:VEVENT
BEGIN:VEVENT
DTSTART;TZID=America/New_York:20231204T180000
DTEND;TZID=America/New_York:20231204T200000
DTSTAMP:20260420T064758
CREATED:20210702T034900Z
LAST-MODIFIED:20240707T191247Z
UID:10016826-1701712800-1701720000@leisureknoll.org
SUMMARY:Ladies Poker
DESCRIPTION:Craft Center
URL:https://leisureknoll.org/calendar/ladies-poker-2021-09-13/2023-12-04/
END:VEVENT
BEGIN:VEVENT
DTSTART;TZID=America/New_York:20231205T090000
DTEND;TZID=America/New_York:20231205T110000
DTSTAMP:20260420T064758
CREATED:20210416T003116Z
LAST-MODIFIED:20260109T025549Z
UID:10009856-1701766800-1701774000@leisureknoll.org
SUMMARY:Wood Shop
DESCRIPTION:
URL:https://leisureknoll.org/calendar/wood-shop/2023-12-05/
END:VEVENT
BEGIN:VEVENT
DTSTART;TZID=America/New_York:20231205T130000
DTEND;TZID=America/New_York:20231205T150000
DTSTAMP:20260420T064758
CREATED:20210416T003503Z
LAST-MODIFIED:20240929T182527Z
UID:10010476-1701781200-1701788400@leisureknoll.org
SUMMARY:Billiards
DESCRIPTION:Recreation Center\, every day except Sunday
URL:https://leisureknoll.org/calendar/billiards/2023-12-05/
END:VEVENT
BEGIN:VEVENT
DTSTART;TZID=America/New_York:20231206T090000
DTEND;TZID=America/New_York:20231206T110000
DTSTAMP:20260420T064758
CREATED:20210416T003116Z
LAST-MODIFIED:20260109T025549Z
UID:10009857-1701853200-1701860400@leisureknoll.org
SUMMARY:Wood Shop
DESCRIPTION:
URL:https://leisureknoll.org/calendar/wood-shop/2023-12-06/
END:VEVENT
BEGIN:VEVENT
DTSTART;TZID=America/New_York:20231206T113000
DTEND;TZID=America/New_York:20231206T143000
DTSTAMP:20260420T064758
CREATED:20230617T023550Z
LAST-MODIFIED:20230617T023550Z
UID:10010859-1701862200-1701873000@leisureknoll.org
SUMMARY:Men's Bowling
DESCRIPTION:@ 11:30am
URL:https://leisureknoll.org/calendar/mens-bowling-2021-09-15-2/2023-12-06/
END:VEVENT
BEGIN:VEVENT
DTSTART;TZID=America/New_York:20231206T130000
DTEND;TZID=America/New_York:20231206T150000
DTSTAMP:20260420T064758
CREATED:20210416T003503Z
LAST-MODIFIED:20240929T182527Z
UID:10010477-1701867600-1701874800@leisureknoll.org
SUMMARY:Billiards
DESCRIPTION:Recreation Center\, every day except Sunday
URL:https://leisureknoll.org/calendar/billiards/2023-12-06/
END:VEVENT
BEGIN:VEVENT
DTSTART;TZID=America/New_York:20231206T130000
DTEND;TZID=America/New_York:20231206T150000
DTSTAMP:20260420T064758
CREATED:20210416T005743Z
LAST-MODIFIED:20260109T030323Z
UID:10014621-1701867600-1701874800@leisureknoll.org
SUMMARY:Bridge
DESCRIPTION:Craft Center
URL:https://leisureknoll.org/calendar/bridge/2023-12-06/
END:VEVENT
BEGIN:VEVENT
DTSTART;TZID=America/New_York:20231206T180000
DTEND;TZID=America/New_York:20231206T200000
DTSTAMP:20260420T064758
CREATED:20210416T005957Z
LAST-MODIFIED:20240929T182030Z
UID:10011015-1701885600-1701892800@leisureknoll.org
SUMMARY:Men's Poker
DESCRIPTION:Craft Center
URL:https://leisureknoll.org/calendar/mens-poker-2022-08-31/2023-12-06/
END:VEVENT
BEGIN:VEVENT
DTSTART;TZID=America/New_York:20231206T184500
DTEND;TZID=America/New_York:20231206T204500
DTSTAMP:20260420T064758
CREATED:20210505T022532Z
LAST-MODIFIED:20260109T031152Z
UID:10011067-1701888300-1701895500@leisureknoll.org
SUMMARY:Dominoes
DESCRIPTION:Recreation Hall
URL:https://leisureknoll.org/calendar/dominoes/2023-12-06/
END:VEVENT
BEGIN:VEVENT
DTSTART;TZID=America/New_York:20231207T090000
DTEND;TZID=America/New_York:20231207T110000
DTSTAMP:20260420T064758
CREATED:20210416T003116Z
LAST-MODIFIED:20260109T025549Z
UID:10009858-1701939600-1701946800@leisureknoll.org
SUMMARY:Wood Shop
DESCRIPTION:
URL:https://leisureknoll.org/calendar/wood-shop/2023-12-07/
END:VEVENT
BEGIN:VEVENT
DTSTART;TZID=America/New_York:20231207T130000
DTEND;TZID=America/New_York:20231207T150000
DTSTAMP:20260420T064758
CREATED:20210416T003503Z
LAST-MODIFIED:20240929T182527Z
UID:10010478-1701954000-1701961200@leisureknoll.org
SUMMARY:Billiards
DESCRIPTION:Recreation Center\, every day except Sunday
URL:https://leisureknoll.org/calendar/billiards/2023-12-07/
END:VEVENT
BEGIN:VEVENT
DTSTART;TZID=America/New_York:20231207T130000
DTEND;TZID=America/New_York:20231207T150000
DTSTAMP:20260420T064758
CREATED:20231012T025517Z
LAST-MODIFIED:20260109T025947Z
UID:10011223-1701954000-1701961200@leisureknoll.org
SUMMARY:Canasta
DESCRIPTION:Craft Center
URL:https://leisureknoll.org/calendar/bridge-canasta-2/2023-12-07/
END:VEVENT
BEGIN:VEVENT
DTSTART;TZID=America/New_York:20231207T183000
DTEND;TZID=America/New_York:20231207T203000
DTSTAMP:20260420T064758
CREATED:20210702T035015Z
LAST-MODIFIED:20230106T202125Z
UID:10011327-1701973800-1701981000@leisureknoll.org
SUMMARY:Men's Low Stakes Poker
DESCRIPTION:
URL:https://leisureknoll.org/calendar/mens-low-stakes-poker/2023-12-07/
END:VEVENT
BEGIN:VEVENT
DTSTART;TZID=America/New_York:20231208T090000
DTEND;TZID=America/New_York:20231208T110000
DTSTAMP:20260420T064758
CREATED:20210416T003116Z
LAST-MODIFIED:20260109T025549Z
UID:10009859-1702026000-1702033200@leisureknoll.org
SUMMARY:Wood Shop
DESCRIPTION:
URL:https://leisureknoll.org/calendar/wood-shop/2023-12-08/
END:VEVENT
BEGIN:VEVENT
DTSTART;TZID=America/New_York:20231208T130000
DTEND;TZID=America/New_York:20231208T150000
DTSTAMP:20260420T064758
CREATED:20210416T003503Z
LAST-MODIFIED:20240929T182527Z
UID:10010479-1702040400-1702047600@leisureknoll.org
SUMMARY:Billiards
DESCRIPTION:Recreation Center\, every day except Sunday
URL:https://leisureknoll.org/calendar/billiards/2023-12-08/
END:VEVENT
BEGIN:VEVENT
DTSTART;TZID=America/New_York:20231209T130000
DTEND;TZID=America/New_York:20231209T150000
DTSTAMP:20260420T064758
CREATED:20210416T003503Z
LAST-MODIFIED:20240929T182527Z
UID:10010480-1702126800-1702134000@leisureknoll.org
SUMMARY:Billiards
DESCRIPTION:Recreation Center\, every day except Sunday
URL:https://leisureknoll.org/calendar/billiards/2023-12-09/
END:VEVENT
BEGIN:VEVENT
DTSTART;TZID=America/New_York:20231211T090000
DTEND;TZID=America/New_York:20231211T110000
DTSTAMP:20260420T064758
CREATED:20210416T003116Z
LAST-MODIFIED:20260109T025549Z
UID:10009860-1702285200-1702292400@leisureknoll.org
SUMMARY:Wood Shop
DESCRIPTION:
URL:https://leisureknoll.org/calendar/wood-shop/2023-12-11/
END:VEVENT
BEGIN:VEVENT
DTSTART;TZID=America/New_York:20231211T130000
DTEND;TZID=America/New_York:20231211T150000
DTSTAMP:20260420T064758
CREATED:20210416T003503Z
LAST-MODIFIED:20240929T182527Z
UID:10010481-1702299600-1702306800@leisureknoll.org
SUMMARY:Billiards
DESCRIPTION:Recreation Center\, every day except Sunday
URL:https://leisureknoll.org/calendar/billiards/2023-12-11/
END:VEVENT
BEGIN:VEVENT
DTSTART;TZID=America/New_York:20231211T180000
DTEND;TZID=America/New_York:20231211T200000
DTSTAMP:20260420T064758
CREATED:20210702T034900Z
LAST-MODIFIED:20240707T191247Z
UID:10016827-1702317600-1702324800@leisureknoll.org
SUMMARY:Ladies Poker
DESCRIPTION:Craft Center
URL:https://leisureknoll.org/calendar/ladies-poker-2021-09-13/2023-12-11/
END:VEVENT
BEGIN:VEVENT
DTSTART;TZID=America/New_York:20231212T090000
DTEND;TZID=America/New_York:20231212T110000
DTSTAMP:20260420T064758
CREATED:20210416T003116Z
LAST-MODIFIED:20260109T025549Z
UID:10009861-1702371600-1702378800@leisureknoll.org
SUMMARY:Wood Shop
DESCRIPTION:
URL:https://leisureknoll.org/calendar/wood-shop/2023-12-12/
END:VEVENT
BEGIN:VEVENT
DTSTART;TZID=America/New_York:20231212T130000
DTEND;TZID=America/New_York:20231212T150000
DTSTAMP:20260420T064758
CREATED:20210416T003503Z
LAST-MODIFIED:20240929T182527Z
UID:10010482-1702386000-1702393200@leisureknoll.org
SUMMARY:Billiards
DESCRIPTION:Recreation Center\, every day except Sunday
URL:https://leisureknoll.org/calendar/billiards/2023-12-12/
END:VEVENT
BEGIN:VEVENT
DTSTART;TZID=America/New_York:20231213T090000
DTEND;TZID=America/New_York:20231213T110000
DTSTAMP:20260420T064758
CREATED:20210416T003116Z
LAST-MODIFIED:20260109T025549Z
UID:10009862-1702458000-1702465200@leisureknoll.org
SUMMARY:Wood Shop
DESCRIPTION:
URL:https://leisureknoll.org/calendar/wood-shop/2023-12-13/
END:VEVENT
BEGIN:VEVENT
DTSTART;TZID=America/New_York:20231213T113000
DTEND;TZID=America/New_York:20231213T143000
DTSTAMP:20260420T064758
CREATED:20230617T023550Z
LAST-MODIFIED:20230617T023550Z
UID:10010860-1702467000-1702477800@leisureknoll.org
SUMMARY:Men's Bowling
DESCRIPTION:@ 11:30am
URL:https://leisureknoll.org/calendar/mens-bowling-2021-09-15-2/2023-12-13/
END:VEVENT
BEGIN:VEVENT
DTSTART;TZID=America/New_York:20231213T130000
DTEND;TZID=America/New_York:20231213T150000
DTSTAMP:20260420T064758
CREATED:20210416T003503Z
LAST-MODIFIED:20240929T182527Z
UID:10010483-1702472400-1702479600@leisureknoll.org
SUMMARY:Billiards
DESCRIPTION:Recreation Center\, every day except Sunday
URL:https://leisureknoll.org/calendar/billiards/2023-12-13/
END:VEVENT
BEGIN:VEVENT
DTSTART;TZID=America/New_York:20231213T130000
DTEND;TZID=America/New_York:20231213T150000
DTSTAMP:20260420T064758
CREATED:20210416T005743Z
LAST-MODIFIED:20260109T030323Z
UID:10014622-1702472400-1702479600@leisureknoll.org
SUMMARY:Bridge
DESCRIPTION:Craft Center
URL:https://leisureknoll.org/calendar/bridge/2023-12-13/
END:VEVENT
END:VCALENDAR