BEGIN:VCALENDAR
VERSION:2.0
PRODID:-//Leisure Knoll - ECPv6.15.20//NONSGML v1.0//EN
CALSCALE:GREGORIAN
METHOD:PUBLISH
X-WR-CALNAME:Leisure Knoll
X-ORIGINAL-URL:https://leisureknoll.org
X-WR-CALDESC:Events for Leisure Knoll
REFRESH-INTERVAL;VALUE=DURATION:PT1H
X-Robots-Tag:noindex
X-PUBLISHED-TTL:PT1H
BEGIN:VTIMEZONE
TZID:America/New_York
BEGIN:DAYLIGHT
TZOFFSETFROM:-0500
TZOFFSETTO:-0400
TZNAME:EDT
DTSTART:20220313T070000
END:DAYLIGHT
BEGIN:STANDARD
TZOFFSETFROM:-0400
TZOFFSETTO:-0500
TZNAME:EST
DTSTART:20221106T060000
END:STANDARD
BEGIN:DAYLIGHT
TZOFFSETFROM:-0500
TZOFFSETTO:-0400
TZNAME:EDT
DTSTART:20230312T070000
END:DAYLIGHT
BEGIN:STANDARD
TZOFFSETFROM:-0400
TZOFFSETTO:-0500
TZNAME:EST
DTSTART:20231105T060000
END:STANDARD
BEGIN:DAYLIGHT
TZOFFSETFROM:-0500
TZOFFSETTO:-0400
TZNAME:EDT
DTSTART:20240310T070000
END:DAYLIGHT
BEGIN:STANDARD
TZOFFSETFROM:-0400
TZOFFSETTO:-0500
TZNAME:EST
DTSTART:20241103T060000
END:STANDARD
END:VTIMEZONE
BEGIN:VEVENT
DTSTART;TZID=America/New_York:20231016T190000
DTEND;TZID=America/New_York:20231016T210000
DTSTAMP:20260422T191952
CREATED:20231012T024712Z
LAST-MODIFIED:20231128T012856Z
UID:10013256-1697482800-1697490000@leisureknoll.org
SUMMARY:Bunco Night
DESCRIPTION:@7pm Rec Center \nLKA Residents Only
URL:https://leisureknoll.org/calendar/bunco-night-5/2023-10-16/
END:VEVENT
BEGIN:VEVENT
DTSTART;VALUE=DATE:20231017
DTEND;VALUE=DATE:20231018
DTSTAMP:20260422T191952
CREATED:20210416T001302Z
LAST-MODIFIED:20251215T033850Z
UID:10009540-1697500800-1697587199@leisureknoll.org
SUMMARY:Garbage Pick Up
DESCRIPTION:GARBAGE P/U -WINTERS BROS. WASTE – 631-491-4923\nGarbage pick up Tues. & Fri. except holidays Confirm Bulk P/U (on Thursday) with Winters Brothers
URL:https://leisureknoll.org/calendar/garbage-pick-up-fri/2023-10-17/
END:VEVENT
BEGIN:VEVENT
DTSTART;TZID=America/New_York:20231017T090000
DTEND;TZID=America/New_York:20231017T110000
DTSTAMP:20260422T191952
CREATED:20210416T003116Z
LAST-MODIFIED:20260109T025549Z
UID:10009821-1697533200-1697540400@leisureknoll.org
SUMMARY:Wood Shop
DESCRIPTION:
URL:https://leisureknoll.org/calendar/wood-shop/2023-10-17/
END:VEVENT
BEGIN:VEVENT
DTSTART;TZID=America/New_York:20231017T093000
DTEND;TZID=America/New_York:20231017T103000
DTSTAMP:20260422T191952
CREATED:20230312T040136Z
LAST-MODIFIED:20231128T012323Z
UID:10012485-1697535000-1697538600@leisureknoll.org
SUMMARY:Ladies Tennis
DESCRIPTION:
URL:https://leisureknoll.org/calendar/ladies-tennis-4/2023-10-17/
END:VEVENT
BEGIN:VEVENT
DTSTART;TZID=America/New_York:20231017T110000
DTEND;TZID=America/New_York:20231017T120000
DTSTAMP:20260422T191952
CREATED:20221202T030602Z
LAST-MODIFIED:20260109T025858Z
UID:10009999-1697540400-1697544000@leisureknoll.org
SUMMARY:Ping Pong
DESCRIPTION:11am @ Recreation Hall
URL:https://leisureknoll.org/calendar/ping-pong/2023-10-17/
END:VEVENT
BEGIN:VEVENT
DTSTART;TZID=America/New_York:20231017T123000
DTEND;TZID=America/New_York:20231017T163000
DTSTAMP:20260422T191952
CREATED:20210415T030726Z
LAST-MODIFIED:20240114T192346Z
UID:10010644-1697545800-1697560200@leisureknoll.org
SUMMARY:Bus to Yaphank & Middle Island
DESCRIPTION:Bus to Wal-Mart Yaphank/King Kullen Middle Island shopping center. \nLeaves Leisure Knoll at 12:30pm and returns 4:30pm.
URL:https://leisureknoll.org/calendar/bus-to-middle-island/2023-10-17/
END:VEVENT
BEGIN:VEVENT
DTSTART;TZID=America/New_York:20231017T130000
DTEND;TZID=America/New_York:20231017T150000
DTSTAMP:20260422T191952
CREATED:20210416T003503Z
LAST-MODIFIED:20240929T182527Z
UID:10010434-1697547600-1697554800@leisureknoll.org
SUMMARY:Billiards
DESCRIPTION:Recreation Center\, every day except Sunday
URL:https://leisureknoll.org/calendar/billiards/2023-10-17/
END:VEVENT
BEGIN:VEVENT
DTSTART;TZID=America/New_York:20231017T130000
DTEND;TZID=America/New_York:20231017T163000
DTSTAMP:20260422T191952
CREATED:20230312T032638Z
LAST-MODIFIED:20240929T181808Z
UID:10011719-1697547600-1697560200@leisureknoll.org
SUMMARY:Rummikub
DESCRIPTION:Craft Center \n1-4:30pm
URL:https://leisureknoll.org/calendar/rummikub-2-2/2023-10-17/
END:VEVENT
BEGIN:VEVENT
DTSTART;TZID=America/New_York:20231017T183000
DTEND;TZID=America/New_York:20231017T203000
DTSTAMP:20260422T191952
CREATED:20210702T033018Z
LAST-MODIFIED:20230501T195018Z
UID:10010748-1697567400-1697574600@leisureknoll.org
SUMMARY:Mixed Card Game
DESCRIPTION:Craft Center
URL:https://leisureknoll.org/calendar/guys-gals-card-game/2023-10-17/
END:VEVENT
BEGIN:VEVENT
DTSTART;VALUE=DATE:20231018
DTEND;VALUE=DATE:20231019
DTSTAMP:20260422T191952
CREATED:20210416T002146Z
LAST-MODIFIED:20250607T015435Z
UID:10021182-1697587200-1697673599@leisureknoll.org
SUMMARY:Recycling - Cans & Plastic
DESCRIPTION:Cans and plastic
URL:https://leisureknoll.org/calendar/recycling-cans-plastic-2022-10-05/
END:VEVENT
BEGIN:VEVENT
DTSTART;VALUE=DATE:20231018
DTEND;VALUE=DATE:20231019
DTSTAMP:20260422T191952
CREATED:20210416T002146Z
LAST-MODIFIED:20250607T015436Z
UID:10021288-1697587200-1697673599@leisureknoll.org
SUMMARY:Recycling - Cans & Plastic
DESCRIPTION:Cans and plastic
URL:https://leisureknoll.org/calendar/recycling-cans-plastic-2022-10-19/
END:VEVENT
BEGIN:VEVENT
DTSTART;VALUE=DATE:20231018
DTEND;VALUE=DATE:20231019
DTSTAMP:20260422T191952
CREATED:20210416T002146Z
LAST-MODIFIED:20250607T015433Z
UID:10020525-1697587200-1697673599@leisureknoll.org
SUMMARY:Recycling - Cans & Plastic
DESCRIPTION:Cans and plastic
URL:https://leisureknoll.org/calendar/recycling-cans-plastic-2022-06-29/
END:VEVENT
BEGIN:VEVENT
DTSTART;VALUE=DATE:20231018
DTEND;VALUE=DATE:20231019
DTSTAMP:20260422T191952
CREATED:20210416T002146Z
LAST-MODIFIED:20250607T015436Z
UID:10021393-1697587200-1697673599@leisureknoll.org
SUMMARY:Recycling - Cans & Plastic
DESCRIPTION:Cans and plastic
URL:https://leisureknoll.org/calendar/recycling-cans-plastic-2022-11-02/
END:VEVENT
BEGIN:VEVENT
DTSTART;VALUE=DATE:20231018
DTEND;VALUE=DATE:20231019
DTSTAMP:20260422T191952
CREATED:20210416T002146Z
LAST-MODIFIED:20250607T015434Z
UID:10020637-1697587200-1697673599@leisureknoll.org
SUMMARY:Recycling - Cans & Plastic
DESCRIPTION:Cans and plastic
URL:https://leisureknoll.org/calendar/recycling-cans-plastic-2022-07-13/
END:VEVENT
BEGIN:VEVENT
DTSTART;VALUE=DATE:20231018
DTEND;VALUE=DATE:20231019
DTSTAMP:20260422T191952
CREATED:20210416T002146Z
LAST-MODIFIED:20250608T235413Z
UID:10021497-1697587200-1697673599@leisureknoll.org
SUMMARY:Recycling - Cans & Plastic
DESCRIPTION:Cans and plastic
URL:https://leisureknoll.org/calendar/recycling-cans-plastic-2022-11-16/
END:VEVENT
BEGIN:VEVENT
DTSTART;VALUE=DATE:20231018
DTEND;VALUE=DATE:20231019
DTSTAMP:20260422T191952
CREATED:20210416T002146Z
LAST-MODIFIED:20250607T015434Z
UID:10020748-1697587200-1697673599@leisureknoll.org
SUMMARY:Recycling - Cans & Plastic
DESCRIPTION:Cans and plastic
URL:https://leisureknoll.org/calendar/recycling-cans-plastic-2022-07-27/
END:VEVENT
BEGIN:VEVENT
DTSTART;VALUE=DATE:20231018
DTEND;VALUE=DATE:20231019
DTSTAMP:20260422T191952
CREATED:20210416T002146Z
LAST-MODIFIED:20250608T235414Z
UID:10021600-1697587200-1697673599@leisureknoll.org
SUMMARY:Recycling - Cans & Plastic
DESCRIPTION:Cans and plastic
URL:https://leisureknoll.org/calendar/recycling-cans-plastic-2022-11-30/
END:VEVENT
BEGIN:VEVENT
DTSTART;VALUE=DATE:20231018
DTEND;VALUE=DATE:20231019
DTSTAMP:20260422T191952
CREATED:20210416T002146Z
LAST-MODIFIED:20250607T015435Z
UID:10020858-1697587200-1697673599@leisureknoll.org
SUMMARY:Recycling - Cans & Plastic
DESCRIPTION:Cans and plastic
URL:https://leisureknoll.org/calendar/recycling-cans-plastic-2022-08-10/
END:VEVENT
BEGIN:VEVENT
DTSTART;VALUE=DATE:20231018
DTEND;VALUE=DATE:20231019
DTSTAMP:20260422T191952
CREATED:20210416T002146Z
LAST-MODIFIED:20250608T235414Z
UID:10021702-1697587200-1697673599@leisureknoll.org
SUMMARY:Recycling - Cans & Plastic
DESCRIPTION:Cans and plastic
URL:https://leisureknoll.org/calendar/recycling-cans-plastic-2022-12-14/
END:VEVENT
BEGIN:VEVENT
DTSTART;VALUE=DATE:20231018
DTEND;VALUE=DATE:20231019
DTSTAMP:20260422T191952
CREATED:20210416T002146Z
LAST-MODIFIED:20250607T015435Z
UID:10020967-1697587200-1697673599@leisureknoll.org
SUMMARY:Recycling - Cans & Plastic
DESCRIPTION:Cans and plastic
URL:https://leisureknoll.org/calendar/recycling-cans-plastic-2022-08-24/
END:VEVENT
BEGIN:VEVENT
DTSTART;VALUE=DATE:20231018
DTEND;VALUE=DATE:20231019
DTSTAMP:20260422T191952
CREATED:20210416T002146Z
LAST-MODIFIED:20250608T235414Z
UID:10021803-1697587200-1697673599@leisureknoll.org
SUMMARY:Recycling - Cans & Plastic
DESCRIPTION:Cans and plastic
URL:https://leisureknoll.org/calendar/recycling-cans-plastic-2022-12-28/
END:VEVENT
BEGIN:VEVENT
DTSTART;VALUE=DATE:20231018
DTEND;VALUE=DATE:20231019
DTSTAMP:20260422T191952
CREATED:20210416T002146Z
LAST-MODIFIED:20250607T015435Z
UID:10021075-1697587200-1697673599@leisureknoll.org
SUMMARY:Recycling - Cans & Plastic
DESCRIPTION:Cans and plastic
URL:https://leisureknoll.org/calendar/recycling-cans-plastic-2022-09-21/
END:VEVENT
BEGIN:VEVENT
DTSTART;TZID=America/New_York:20231018T090000
DTEND;TZID=America/New_York:20231018T100000
DTSTAMP:20260422T191952
CREATED:20230312T035839Z
LAST-MODIFIED:20231128T012444Z
UID:10012227-1697619600-1697623200@leisureknoll.org
SUMMARY:Tennis Club
DESCRIPTION:
URL:https://leisureknoll.org/calendar/tennis-club/2023-10-18/
END:VEVENT
BEGIN:VEVENT
DTSTART;TZID=America/New_York:20231018T090000
DTEND;TZID=America/New_York:20231018T110000
DTSTAMP:20260422T191952
CREATED:20210416T003116Z
LAST-MODIFIED:20260109T025549Z
UID:10009822-1697619600-1697626800@leisureknoll.org
SUMMARY:Wood Shop
DESCRIPTION:
URL:https://leisureknoll.org/calendar/wood-shop/2023-10-18/
END:VEVENT
BEGIN:VEVENT
DTSTART;TZID=America/New_York:20231018T093000
DTEND;TZID=America/New_York:20231018T113000
DTSTAMP:20260422T191952
CREATED:20210901T030231Z
LAST-MODIFIED:20260109T030159Z
UID:10010800-1697621400-1697628600@leisureknoll.org
SUMMARY:Art Club
DESCRIPTION:Craft Room
URL:https://leisureknoll.org/calendar/art-club/2023-10-18/
END:VEVENT
BEGIN:VEVENT
DTSTART;TZID=America/New_York:20231018T100000
DTEND;TZID=America/New_York:20231018T110000
DTSTAMP:20260422T191952
CREATED:20220301T013856Z
LAST-MODIFIED:20250101T175615Z
UID:10010114-1697623200-1697626800@leisureknoll.org
SUMMARY:Slimnastics
DESCRIPTION:Recreation Hall
URL:https://leisureknoll.org/calendar/slimnastics-5/2023-10-18/
END:VEVENT
BEGIN:VEVENT
DTSTART;TZID=America/New_York:20231018T113000
DTEND;TZID=America/New_York:20231018T133000
DTSTAMP:20260422T191952
CREATED:20230909T172751Z
LAST-MODIFIED:20240307T040407Z
UID:10013158-1697628600-1697635800@leisureknoll.org
SUMMARY:Ladies Bowling
DESCRIPTION:11:30am
URL:https://leisureknoll.org/calendar/ladies-bowling/2023-10-18/
END:VEVENT
BEGIN:VEVENT
DTSTART;TZID=America/New_York:20231018T113000
DTEND;TZID=America/New_York:20231018T143000
DTSTAMP:20260422T191952
CREATED:20230617T023550Z
LAST-MODIFIED:20230617T023550Z
UID:10010852-1697628600-1697639400@leisureknoll.org
SUMMARY:Men's Bowling
DESCRIPTION:@ 11:30am
URL:https://leisureknoll.org/calendar/mens-bowling-2021-09-15-2/2023-10-18/
END:VEVENT
BEGIN:VEVENT
DTSTART;TZID=America/New_York:20231018T130000
DTEND;TZID=America/New_York:20231018T150000
DTSTAMP:20260422T191952
CREATED:20210416T003503Z
LAST-MODIFIED:20240929T182527Z
UID:10010435-1697634000-1697641200@leisureknoll.org
SUMMARY:Billiards
DESCRIPTION:Recreation Center\, every day except Sunday
URL:https://leisureknoll.org/calendar/billiards/2023-10-18/
END:VEVENT
BEGIN:VEVENT
DTSTART;TZID=America/New_York:20231018T143000
DTEND;TZID=America/New_York:20231018T160000
DTSTAMP:20260422T191952
CREATED:20230630T031357Z
LAST-MODIFIED:20231128T012532Z
UID:10012813-1697639400-1697644800@leisureknoll.org
SUMMARY:Pickleball Club
DESCRIPTION:@ 2:30pm
URL:https://leisureknoll.org/calendar/pickleball-club/2023-10-18/
END:VEVENT
END:VCALENDAR