BEGIN:VCALENDAR
VERSION:2.0
PRODID:-//Leisure Knoll - ECPv6.15.20//NONSGML v1.0//EN
CALSCALE:GREGORIAN
METHOD:PUBLISH
X-WR-CALNAME:Leisure Knoll
X-ORIGINAL-URL:https://leisureknoll.org
X-WR-CALDESC:Events for Leisure Knoll
REFRESH-INTERVAL;VALUE=DURATION:PT1H
X-Robots-Tag:noindex
X-PUBLISHED-TTL:PT1H
BEGIN:VTIMEZONE
TZID:America/New_York
BEGIN:DAYLIGHT
TZOFFSETFROM:-0500
TZOFFSETTO:-0400
TZNAME:EDT
DTSTART:20220313T070000
END:DAYLIGHT
BEGIN:STANDARD
TZOFFSETFROM:-0400
TZOFFSETTO:-0500
TZNAME:EST
DTSTART:20221106T060000
END:STANDARD
BEGIN:DAYLIGHT
TZOFFSETFROM:-0500
TZOFFSETTO:-0400
TZNAME:EDT
DTSTART:20230312T070000
END:DAYLIGHT
BEGIN:STANDARD
TZOFFSETFROM:-0400
TZOFFSETTO:-0500
TZNAME:EST
DTSTART:20231105T060000
END:STANDARD
BEGIN:DAYLIGHT
TZOFFSETFROM:-0500
TZOFFSETTO:-0400
TZNAME:EDT
DTSTART:20240310T070000
END:DAYLIGHT
BEGIN:STANDARD
TZOFFSETFROM:-0400
TZOFFSETTO:-0500
TZNAME:EST
DTSTART:20241103T060000
END:STANDARD
END:VTIMEZONE
BEGIN:VEVENT
DTSTART;TZID=America/New_York:20230920T184500
DTEND;TZID=America/New_York:20230920T204500
DTSTAMP:20260422T232153
CREATED:20210505T022532Z
LAST-MODIFIED:20260109T031152Z
UID:10011056-1695235500-1695242700@leisureknoll.org
SUMMARY:Dominoes
DESCRIPTION:Recreation Hall
URL:https://leisureknoll.org/calendar/dominoes/2023-09-20/
END:VEVENT
BEGIN:VEVENT
DTSTART;TZID=America/New_York:20230921T090000
DTEND;TZID=America/New_York:20230921T110000
DTSTAMP:20260422T232153
CREATED:20210416T003116Z
LAST-MODIFIED:20260109T025549Z
UID:10009803-1695286800-1695294000@leisureknoll.org
SUMMARY:Wood Shop
DESCRIPTION:
URL:https://leisureknoll.org/calendar/wood-shop/2023-09-21/
END:VEVENT
BEGIN:VEVENT
DTSTART;TZID=America/New_York:20230921T093000
DTEND;TZID=America/New_York:20230921T103000
DTSTAMP:20260422T232153
CREATED:20230312T040136Z
LAST-MODIFIED:20231128T012323Z
UID:10012478-1695288600-1695292200@leisureknoll.org
SUMMARY:Ladies Tennis
DESCRIPTION:
URL:https://leisureknoll.org/calendar/ladies-tennis-4/2023-09-21/
END:VEVENT
BEGIN:VEVENT
DTSTART;TZID=America/New_York:20230921T100000
DTEND;TZID=America/New_York:20230921T130000
DTSTAMP:20260422T232153
CREATED:20210415T031404Z
LAST-MODIFIED:20240114T192421Z
UID:10011108-1695290400-1695301200@leisureknoll.org
SUMMARY:Bus to Port Jefferson Station
DESCRIPTION:Bus to Port Jefferson Station\, Meat Farms\, Shop Rite\, TJ Max shopping center. \nLeaves Leisure Knoll at 10:00 am.
URL:https://leisureknoll.org/calendar/bus-to-port-jefferson-station/2023-09-21/
END:VEVENT
BEGIN:VEVENT
DTSTART;TZID=America/New_York:20230921T101500
DTEND;TZID=America/New_York:20230921T113000
DTSTAMP:20260422T232153
CREATED:20230312T032913Z
LAST-MODIFIED:20230312T032913Z
UID:10011160-1695291300-1695295800@leisureknoll.org
SUMMARY:Bible Study
DESCRIPTION:@ Craft Center
URL:https://leisureknoll.org/calendar/bible-study-2/2023-09-21/
END:VEVENT
BEGIN:VEVENT
DTSTART;TZID=America/New_York:20230921T110000
DTEND;TZID=America/New_York:20230921T120000
DTSTAMP:20260422T232153
CREATED:20221202T030602Z
LAST-MODIFIED:20260109T025858Z
UID:10009988-1695294000-1695297600@leisureknoll.org
SUMMARY:Ping Pong
DESCRIPTION:11am @ Recreation Hall
URL:https://leisureknoll.org/calendar/ping-pong/2023-09-21/
END:VEVENT
BEGIN:VEVENT
DTSTART;TZID=America/New_York:20230921T130000
DTEND;TZID=America/New_York:20230921T150000
DTSTAMP:20260422T232153
CREATED:20210416T003503Z
LAST-MODIFIED:20240929T182527Z
UID:10010412-1695301200-1695308400@leisureknoll.org
SUMMARY:Billiards
DESCRIPTION:Recreation Center\, every day except Sunday
URL:https://leisureknoll.org/calendar/billiards/2023-09-21/
END:VEVENT
BEGIN:VEVENT
DTSTART;TZID=America/New_York:20230921T130000
DTEND;TZID=America/New_York:20230921T150000
DTSTAMP:20260422T232153
CREATED:20210416T010104Z
LAST-MODIFIED:20230106T202026Z
UID:10011212-1695301200-1695308400@leisureknoll.org
SUMMARY:Bridge/Canasta
DESCRIPTION:Craft Center
URL:https://leisureknoll.org/calendar/bridge-canasta/2023-09-21/
END:VEVENT
BEGIN:VEVENT
DTSTART;TZID=America/New_York:20230921T183000
DTEND;TZID=America/New_York:20230921T203000
DTSTAMP:20260422T232153
CREATED:20210702T035015Z
LAST-MODIFIED:20230106T202125Z
UID:10011316-1695321000-1695328200@leisureknoll.org
SUMMARY:Men's Low Stakes Poker
DESCRIPTION:
URL:https://leisureknoll.org/calendar/mens-low-stakes-poker/2023-09-21/
END:VEVENT
BEGIN:VEVENT
DTSTART;TZID=America/New_York:20230921T183000
DTEND;TZID=America/New_York:20230921T203000
DTSTAMP:20260422T232153
CREATED:20230630T032653Z
LAST-MODIFIED:20230630T032653Z
UID:10011264-1695321000-1695328200@leisureknoll.org
SUMMARY:Mixed Games Poker
DESCRIPTION:Craft Center
URL:https://leisureknoll.org/calendar/ladies-poker-2-2/2023-09-21/
END:VEVENT
BEGIN:VEVENT
DTSTART;TZID=America/New_York:20230921T190000
DTEND;TZID=America/New_York:20230921T210000
DTSTAMP:20260422T232153
CREATED:20230312T032808Z
LAST-MODIFIED:20231104T195522Z
UID:10011368-1695322800-1695330000@leisureknoll.org
SUMMARY:Game Night
DESCRIPTION:BYO \n@ 7pm
URL:https://leisureknoll.org/calendar/game-night-2-2/2023-09-21/
END:VEVENT
BEGIN:VEVENT
DTSTART;VALUE=DATE:20230922
DTEND;VALUE=DATE:20230923
DTSTAMP:20260422T232153
CREATED:20210416T001302Z
LAST-MODIFIED:20251215T033850Z
UID:10009533-1695340800-1695427199@leisureknoll.org
SUMMARY:Garbage Pick Up
DESCRIPTION:GARBAGE P/U -WINTERS BROS. WASTE – 631-491-4923\nGarbage pick up Tues. & Fri. except holidays Confirm Bulk P/U (on Thursday) with Winters Brothers
URL:https://leisureknoll.org/calendar/garbage-pick-up-fri/2023-09-22/
END:VEVENT
BEGIN:VEVENT
DTSTART;VALUE=DATE:20230922
DTEND;VALUE=DATE:20230923
DTSTAMP:20260422T232153
CREATED:20230901T001701Z
LAST-MODIFIED:20230901T001701Z
UID:10013134-1695340800-1695427199@leisureknoll.org
SUMMARY:Fall Begins
DESCRIPTION:
URL:https://leisureknoll.org/calendar/fall-begins-3/
END:VEVENT
BEGIN:VEVENT
DTSTART;TZID=America/New_York:20230922T090000
DTEND;TZID=America/New_York:20230922T100000
DTSTAMP:20260422T232153
CREATED:20230312T035839Z
LAST-MODIFIED:20231128T012444Z
UID:10012212-1695373200-1695376800@leisureknoll.org
SUMMARY:Tennis Club
DESCRIPTION:
URL:https://leisureknoll.org/calendar/tennis-club/2023-09-22/
END:VEVENT
BEGIN:VEVENT
DTSTART;TZID=America/New_York:20230922T090000
DTEND;TZID=America/New_York:20230922T110000
DTSTAMP:20260422T232153
CREATED:20210416T003116Z
LAST-MODIFIED:20260109T025549Z
UID:10009804-1695373200-1695380400@leisureknoll.org
SUMMARY:Wood Shop
DESCRIPTION:
URL:https://leisureknoll.org/calendar/wood-shop/2023-09-22/
END:VEVENT
BEGIN:VEVENT
DTSTART;TZID=America/New_York:20230922T093000
DTEND;TZID=America/New_York:20230922T103000
DTSTAMP:20260422T232153
CREATED:20211209T023315Z
LAST-MODIFIED:20250101T175700Z
UID:10011477-1695375000-1695378600@leisureknoll.org
SUMMARY:Slimnastics
DESCRIPTION:9:30am @ Craft Center
URL:https://leisureknoll.org/calendar/slimnastics-4/2023-09-22/
END:VEVENT
BEGIN:VEVENT
DTSTART;TZID=America/New_York:20230922T130000
DTEND;TZID=America/New_York:20230922T150000
DTSTAMP:20260422T232153
CREATED:20210416T003503Z
LAST-MODIFIED:20240929T182527Z
UID:10010413-1695387600-1695394800@leisureknoll.org
SUMMARY:Billiards
DESCRIPTION:Recreation Center\, every day except Sunday
URL:https://leisureknoll.org/calendar/billiards/2023-09-22/
END:VEVENT
BEGIN:VEVENT
DTSTART;TZID=America/New_York:20230922T130000
DTEND;TZID=America/New_York:20230922T150000
DTSTAMP:20260422T232153
CREATED:20220602T022125Z
LAST-MODIFIED:20241106T040502Z
UID:10011529-1695387600-1695394800@leisureknoll.org
SUMMARY:Women's Card Game
DESCRIPTION:Craft Center @ 1pm
URL:https://leisureknoll.org/calendar/womens-card-game/2023-09-22/
END:VEVENT
BEGIN:VEVENT
DTSTART;TZID=America/New_York:20230922T143000
DTEND;TZID=America/New_York:20230922T160000
DTSTAMP:20260422T232153
CREATED:20230630T031357Z
LAST-MODIFIED:20231128T012532Z
UID:10012802-1695393000-1695398400@leisureknoll.org
SUMMARY:Pickleball Club
DESCRIPTION:@ 2:30pm
URL:https://leisureknoll.org/calendar/pickleball-club/2023-09-22/
END:VEVENT
BEGIN:VEVENT
DTSTART;TZID=America/New_York:20230922T180000
DTEND;TZID=America/New_York:20230922T200000
DTSTAMP:20260422T232153
CREATED:20221204T045026Z
LAST-MODIFIED:20221204T045026Z
UID:10009443-1695405600-1695412800@leisureknoll.org
SUMMARY:Texas Hold'em
DESCRIPTION:6pm @ Craft Center
URL:https://leisureknoll.org/calendar/texas-holdem-2/2023-09-22/
END:VEVENT
BEGIN:VEVENT
DTSTART;TZID=America/New_York:20230923T090000
DTEND;TZID=America/New_York:20230923T100000
DTSTAMP:20260422T232153
CREATED:20230312T035839Z
LAST-MODIFIED:20231128T012444Z
UID:10012213-1695459600-1695463200@leisureknoll.org
SUMMARY:Tennis Club
DESCRIPTION:
URL:https://leisureknoll.org/calendar/tennis-club/2023-09-23/
END:VEVENT
BEGIN:VEVENT
DTSTART;TZID=America/New_York:20230923T103000
DTEND;TZID=America/New_York:20230923T113000
DTSTAMP:20260422T232153
CREATED:20230901T001932Z
LAST-MODIFIED:20230901T001932Z
UID:10013137-1695465000-1695468600@leisureknoll.org
SUMMARY:Ent. Comm. Ticket Sale Fall Dinner
DESCRIPTION:10:30-11:30am Craft Center
URL:https://leisureknoll.org/calendar/ent-comm-ticket-sale-fall-dinner/
END:VEVENT
BEGIN:VEVENT
DTSTART;TZID=America/New_York:20230923T130000
DTEND;TZID=America/New_York:20230923T150000
DTSTAMP:20260422T232153
CREATED:20210416T003503Z
LAST-MODIFIED:20240929T182527Z
UID:10010414-1695474000-1695481200@leisureknoll.org
SUMMARY:Billiards
DESCRIPTION:Recreation Center\, every day except Sunday
URL:https://leisureknoll.org/calendar/billiards/2023-09-23/
END:VEVENT
BEGIN:VEVENT
DTSTART;TZID=America/New_York:20230924T130000
DTEND;TZID=America/New_York:20230924T150000
DTSTAMP:20260422T232153
CREATED:20230901T002846Z
LAST-MODIFIED:20230901T002846Z
UID:10013144-1695560400-1695567600@leisureknoll.org
SUMMARY:American Legion Aux. Ticket Sale Trivia Night at The Derby
DESCRIPTION:American Legion Aux. Ticket Sale Trivia Night at The Derby @ 1-3pm Craft Center
URL:https://leisureknoll.org/calendar/american-legion-aux-ticket-sale-trivia-night-at-the-derby/
END:VEVENT
BEGIN:VEVENT
DTSTART;TZID=America/New_York:20230924T180000
DTEND;TZID=America/New_York:20230924T230000
DTSTAMP:20260422T232153
CREATED:20230312T033638Z
LAST-MODIFIED:20231104T200551Z
UID:10013147-1695578400-1695596400@leisureknoll.org
SUMMARY:Texas Hold'Em Poker
DESCRIPTION:6-11pm @ Craft Center 2
URL:https://leisureknoll.org/calendar/texas-holdem-poker-9/2023-09-24/
END:VEVENT
BEGIN:VEVENT
DTSTART;TZID=America/New_York:20230925T090000
DTEND;TZID=America/New_York:20230925T100000
DTSTAMP:20260422T232153
CREATED:20230312T035839Z
LAST-MODIFIED:20231128T012444Z
UID:10012214-1695632400-1695636000@leisureknoll.org
SUMMARY:Tennis Club
DESCRIPTION:
URL:https://leisureknoll.org/calendar/tennis-club/2023-09-25/
END:VEVENT
BEGIN:VEVENT
DTSTART;TZID=America/New_York:20230925T090000
DTEND;TZID=America/New_York:20230925T110000
DTSTAMP:20260422T232153
CREATED:20210416T003116Z
LAST-MODIFIED:20260109T025549Z
UID:10009805-1695632400-1695639600@leisureknoll.org
SUMMARY:Wood Shop
DESCRIPTION:
URL:https://leisureknoll.org/calendar/wood-shop/2023-09-25/
END:VEVENT
BEGIN:VEVENT
DTSTART;TZID=America/New_York:20230925T100000
DTEND;TZID=America/New_York:20230925T110000
DTSTAMP:20260422T232153
CREATED:20220301T013856Z
LAST-MODIFIED:20250101T175615Z
UID:10010107-1695636000-1695639600@leisureknoll.org
SUMMARY:Slimnastics
DESCRIPTION:Recreation Hall
URL:https://leisureknoll.org/calendar/slimnastics-5/2023-09-25/
END:VEVENT
BEGIN:VEVENT
DTSTART;TZID=America/New_York:20230925T110000
DTEND;TZID=America/New_York:20230925T120000
DTSTAMP:20260422T232153
CREATED:20221202T030602Z
LAST-MODIFIED:20260109T025858Z
UID:10009989-1695639600-1695643200@leisureknoll.org
SUMMARY:Ping Pong
DESCRIPTION:11am @ Recreation Hall
URL:https://leisureknoll.org/calendar/ping-pong/2023-09-25/
END:VEVENT
BEGIN:VEVENT
DTSTART;TZID=America/New_York:20230925T120000
DTEND;TZID=America/New_York:20230925T133000
DTSTAMP:20260422T232153
CREATED:20230630T031224Z
LAST-MODIFIED:20260109T030045Z
UID:10012700-1695643200-1695648600@leisureknoll.org
SUMMARY:Canasta
DESCRIPTION:12pm @ Craft Center
URL:https://leisureknoll.org/calendar/canasta/2023-09-25/
END:VEVENT
END:VCALENDAR