BEGIN:VCALENDAR
VERSION:2.0
PRODID:-//Leisure Knoll - ECPv6.15.20//NONSGML v1.0//EN
CALSCALE:GREGORIAN
METHOD:PUBLISH
X-ORIGINAL-URL:https://leisureknoll.org
X-WR-CALDESC:Events for Leisure Knoll
REFRESH-INTERVAL;VALUE=DURATION:PT1H
X-Robots-Tag:noindex
X-PUBLISHED-TTL:PT1H
BEGIN:VTIMEZONE
TZID:America/New_York
BEGIN:DAYLIGHT
TZOFFSETFROM:-0500
TZOFFSETTO:-0400
TZNAME:EDT
DTSTART:20220313T070000
END:DAYLIGHT
BEGIN:STANDARD
TZOFFSETFROM:-0400
TZOFFSETTO:-0500
TZNAME:EST
DTSTART:20221106T060000
END:STANDARD
BEGIN:DAYLIGHT
TZOFFSETFROM:-0500
TZOFFSETTO:-0400
TZNAME:EDT
DTSTART:20230312T070000
END:DAYLIGHT
BEGIN:STANDARD
TZOFFSETFROM:-0400
TZOFFSETTO:-0500
TZNAME:EST
DTSTART:20231105T060000
END:STANDARD
BEGIN:DAYLIGHT
TZOFFSETFROM:-0500
TZOFFSETTO:-0400
TZNAME:EDT
DTSTART:20240310T070000
END:DAYLIGHT
BEGIN:STANDARD
TZOFFSETFROM:-0400
TZOFFSETTO:-0500
TZNAME:EST
DTSTART:20241103T060000
END:STANDARD
END:VTIMEZONE
BEGIN:VEVENT
DTSTART;TZID=America/New_York:20230912T093000
DTEND;TZID=America/New_York:20230912T103000
DTSTAMP:20260422T182212
CREATED:20230312T040136Z
LAST-MODIFIED:20231128T012323Z
UID:10012475-1694511000-1694514600@leisureknoll.org
SUMMARY:Ladies Tennis
DESCRIPTION:
URL:https://leisureknoll.org/calendar/ladies-tennis-4/2023-09-12/
END:VEVENT
BEGIN:VEVENT
DTSTART;TZID=America/New_York:20230912T110000
DTEND;TZID=America/New_York:20230912T120000
DTSTAMP:20260422T182212
CREATED:20221202T030602Z
LAST-MODIFIED:20260109T025858Z
UID:10009984-1694516400-1694520000@leisureknoll.org
SUMMARY:Ping Pong
DESCRIPTION:11am @ Recreation Hall
URL:https://leisureknoll.org/calendar/ping-pong/2023-09-12/
END:VEVENT
BEGIN:VEVENT
DTSTART;TZID=America/New_York:20230912T123000
DTEND;TZID=America/New_York:20230912T163000
DTSTAMP:20260422T182212
CREATED:20210415T030726Z
LAST-MODIFIED:20240114T192346Z
UID:10010639-1694521800-1694536200@leisureknoll.org
SUMMARY:Bus to Yaphank & Middle Island
DESCRIPTION:Bus to Wal-Mart Yaphank/King Kullen Middle Island shopping center. \nLeaves Leisure Knoll at 12:30pm and returns 4:30pm.
URL:https://leisureknoll.org/calendar/bus-to-middle-island/2023-09-12/
END:VEVENT
BEGIN:VEVENT
DTSTART;TZID=America/New_York:20230912T130000
DTEND;TZID=America/New_York:20230912T150000
DTSTAMP:20260422T182212
CREATED:20210416T003503Z
LAST-MODIFIED:20240929T182527Z
UID:10010404-1694523600-1694530800@leisureknoll.org
SUMMARY:Billiards
DESCRIPTION:Recreation Center\, every day except Sunday
URL:https://leisureknoll.org/calendar/billiards/2023-09-12/
END:VEVENT
BEGIN:VEVENT
DTSTART;TZID=America/New_York:20230912T130000
DTEND;TZID=America/New_York:20230912T163000
DTSTAMP:20260422T182212
CREATED:20230312T032638Z
LAST-MODIFIED:20240929T181808Z
UID:10011714-1694523600-1694536200@leisureknoll.org
SUMMARY:Rummikub
DESCRIPTION:Craft Center \n1-4:30pm
URL:https://leisureknoll.org/calendar/rummikub-2-2/2023-09-12/
END:VEVENT
BEGIN:VEVENT
DTSTART;TZID=America/New_York:20230912T183000
DTEND;TZID=America/New_York:20230912T203000
DTSTAMP:20260422T182212
CREATED:20210702T033018Z
LAST-MODIFIED:20230501T195018Z
UID:10010743-1694543400-1694550600@leisureknoll.org
SUMMARY:Mixed Card Game
DESCRIPTION:Craft Center
URL:https://leisureknoll.org/calendar/guys-gals-card-game/2023-09-12/
END:VEVENT
BEGIN:VEVENT
DTSTART;TZID=America/New_York:20230912T190000
DTEND;TZID=America/New_York:20230912T203000
DTSTAMP:20260422T182212
CREATED:20230901T002620Z
LAST-MODIFIED:20230901T002620Z
UID:10013142-1694545200-1694550600@leisureknoll.org
SUMMARY:American Legion Ladies Aux. Mtg.
DESCRIPTION:American Legion Ladies Aux. Mtg @ 7pm RC
URL:https://leisureknoll.org/calendar/american-legion-ladies-aux-mtg-3/
END:VEVENT
BEGIN:VEVENT
DTSTART;VALUE=DATE:20230913
DTEND;VALUE=DATE:20230914
DTSTAMP:20260422T182212
CREATED:20210416T002329Z
LAST-MODIFIED:20250101T172802Z
UID:10009580-1694563200-1694649599@leisureknoll.org
SUMMARY:Recycling - Paper
DESCRIPTION:Paper
URL:https://leisureknoll.org/calendar/recycling-paper/2023-09-13/
END:VEVENT
BEGIN:VEVENT
DTSTART;TZID=America/New_York:20230913T090000
DTEND;TZID=America/New_York:20230913T100000
DTSTAMP:20260422T182212
CREATED:20230312T035839Z
LAST-MODIFIED:20231128T012444Z
UID:10012207-1694595600-1694599200@leisureknoll.org
SUMMARY:Tennis Club
DESCRIPTION:
URL:https://leisureknoll.org/calendar/tennis-club/2023-09-13/
END:VEVENT
BEGIN:VEVENT
DTSTART;TZID=America/New_York:20230913T090000
DTEND;TZID=America/New_York:20230913T110000
DTSTAMP:20260422T182212
CREATED:20210416T003116Z
LAST-MODIFIED:20260109T025549Z
UID:10009797-1694595600-1694602800@leisureknoll.org
SUMMARY:Wood Shop
DESCRIPTION:
URL:https://leisureknoll.org/calendar/wood-shop/2023-09-13/
END:VEVENT
BEGIN:VEVENT
DTSTART;TZID=America/New_York:20230913T093000
DTEND;TZID=America/New_York:20230913T113000
DTSTAMP:20260422T182212
CREATED:20210901T030231Z
LAST-MODIFIED:20260109T030159Z
UID:10010795-1694597400-1694604600@leisureknoll.org
SUMMARY:Art Club
DESCRIPTION:Craft Room
URL:https://leisureknoll.org/calendar/art-club/2023-09-13/
END:VEVENT
BEGIN:VEVENT
DTSTART;TZID=America/New_York:20230913T100000
DTEND;TZID=America/New_York:20230913T110000
DTSTAMP:20260422T182212
CREATED:20220301T013856Z
LAST-MODIFIED:20250101T175615Z
UID:10010104-1694599200-1694602800@leisureknoll.org
SUMMARY:Slimnastics
DESCRIPTION:Recreation Hall
URL:https://leisureknoll.org/calendar/slimnastics-5/2023-09-13/
END:VEVENT
BEGIN:VEVENT
DTSTART;TZID=America/New_York:20230913T113000
DTEND;TZID=America/New_York:20230913T133000
DTSTAMP:20260422T182212
CREATED:20230909T172751Z
LAST-MODIFIED:20240307T040407Z
UID:10013153-1694604600-1694611800@leisureknoll.org
SUMMARY:Ladies Bowling
DESCRIPTION:11:30am
URL:https://leisureknoll.org/calendar/ladies-bowling/2023-09-13/
END:VEVENT
BEGIN:VEVENT
DTSTART;TZID=America/New_York:20230913T113000
DTEND;TZID=America/New_York:20230913T143000
DTSTAMP:20260422T182212
CREATED:20230617T023550Z
LAST-MODIFIED:20230617T023550Z
UID:10010847-1694604600-1694615400@leisureknoll.org
SUMMARY:Men's Bowling
DESCRIPTION:@ 11:30am
URL:https://leisureknoll.org/calendar/mens-bowling-2021-09-15-2/2023-09-13/
END:VEVENT
BEGIN:VEVENT
DTSTART;TZID=America/New_York:20230913T130000
DTEND;TZID=America/New_York:20230913T150000
DTSTAMP:20260422T182212
CREATED:20210416T003503Z
LAST-MODIFIED:20240929T182527Z
UID:10010405-1694610000-1694617200@leisureknoll.org
SUMMARY:Billiards
DESCRIPTION:Recreation Center\, every day except Sunday
URL:https://leisureknoll.org/calendar/billiards/2023-09-13/
END:VEVENT
BEGIN:VEVENT
DTSTART;TZID=America/New_York:20230913T130000
DTEND;TZID=America/New_York:20230913T150000
DTSTAMP:20260422T182212
CREATED:20210416T005743Z
LAST-MODIFIED:20260109T030323Z
UID:10010899-1694610000-1694617200@leisureknoll.org
SUMMARY:Bridge
DESCRIPTION:Craft Center
URL:https://leisureknoll.org/calendar/bridge/2023-09-13/
END:VEVENT
BEGIN:VEVENT
DTSTART;TZID=America/New_York:20230913T143000
DTEND;TZID=America/New_York:20230913T160000
DTSTAMP:20260422T182212
CREATED:20230630T031357Z
LAST-MODIFIED:20231128T012532Z
UID:10012798-1694615400-1694620800@leisureknoll.org
SUMMARY:Pickleball Club
DESCRIPTION:@ 2:30pm
URL:https://leisureknoll.org/calendar/pickleball-club/2023-09-13/
END:VEVENT
BEGIN:VEVENT
DTSTART;TZID=America/New_York:20230913T170000
DTEND;TZID=America/New_York:20230913T190000
DTSTAMP:20260422T182212
CREATED:20230901T001617Z
LAST-MODIFIED:20230901T001617Z
UID:10013131-1694624400-1694631600@leisureknoll.org
SUMMARY:Bocce
DESCRIPTION:5pm
URL:https://leisureknoll.org/calendar/bocce-4/2023-09-13/
END:VEVENT
BEGIN:VEVENT
DTSTART;TZID=America/New_York:20230913T180000
DTEND;TZID=America/New_York:20230913T200000
DTSTAMP:20260422T182212
CREATED:20210416T005957Z
LAST-MODIFIED:20240929T182030Z
UID:10011003-1694628000-1694635200@leisureknoll.org
SUMMARY:Men's Poker
DESCRIPTION:Craft Center
URL:https://leisureknoll.org/calendar/mens-poker-2022-08-31/2023-09-13/
END:VEVENT
BEGIN:VEVENT
DTSTART;TZID=America/New_York:20230913T184500
DTEND;TZID=America/New_York:20230913T204500
DTSTAMP:20260422T182212
CREATED:20210505T022532Z
LAST-MODIFIED:20260109T031152Z
UID:10011055-1694630700-1694637900@leisureknoll.org
SUMMARY:Dominoes
DESCRIPTION:Recreation Hall
URL:https://leisureknoll.org/calendar/dominoes/2023-09-13/
END:VEVENT
BEGIN:VEVENT
DTSTART;TZID=America/New_York:20230914T090000
DTEND;TZID=America/New_York:20230914T110000
DTSTAMP:20260422T182212
CREATED:20210416T003116Z
LAST-MODIFIED:20260109T025549Z
UID:10009798-1694682000-1694689200@leisureknoll.org
SUMMARY:Wood Shop
DESCRIPTION:
URL:https://leisureknoll.org/calendar/wood-shop/2023-09-14/
END:VEVENT
BEGIN:VEVENT
DTSTART;TZID=America/New_York:20230914T093000
DTEND;TZID=America/New_York:20230914T103000
DTSTAMP:20260422T182212
CREATED:20230312T040136Z
LAST-MODIFIED:20231128T012323Z
UID:10012476-1694683800-1694687400@leisureknoll.org
SUMMARY:Ladies Tennis
DESCRIPTION:
URL:https://leisureknoll.org/calendar/ladies-tennis-4/2023-09-14/
END:VEVENT
BEGIN:VEVENT
DTSTART;TZID=America/New_York:20230914T100000
DTEND;TZID=America/New_York:20230914T130000
DTSTAMP:20260422T182212
CREATED:20210415T031404Z
LAST-MODIFIED:20240114T192421Z
UID:10011107-1694685600-1694696400@leisureknoll.org
SUMMARY:Bus to Port Jefferson Station
DESCRIPTION:Bus to Port Jefferson Station\, Meat Farms\, Shop Rite\, TJ Max shopping center. \nLeaves Leisure Knoll at 10:00 am.
URL:https://leisureknoll.org/calendar/bus-to-port-jefferson-station/2023-09-14/
END:VEVENT
BEGIN:VEVENT
DTSTART;TZID=America/New_York:20230914T101500
DTEND;TZID=America/New_York:20230914T113000
DTSTAMP:20260422T182212
CREATED:20230312T032913Z
LAST-MODIFIED:20230312T032913Z
UID:10011159-1694686500-1694691000@leisureknoll.org
SUMMARY:Bible Study
DESCRIPTION:@ Craft Center
URL:https://leisureknoll.org/calendar/bible-study-2/2023-09-14/
END:VEVENT
BEGIN:VEVENT
DTSTART;TZID=America/New_York:20230914T110000
DTEND;TZID=America/New_York:20230914T120000
DTSTAMP:20260422T182212
CREATED:20221202T030602Z
LAST-MODIFIED:20260109T025858Z
UID:10009985-1694689200-1694692800@leisureknoll.org
SUMMARY:Ping Pong
DESCRIPTION:11am @ Recreation Hall
URL:https://leisureknoll.org/calendar/ping-pong/2023-09-14/
END:VEVENT
BEGIN:VEVENT
DTSTART;TZID=America/New_York:20230914T130000
DTEND;TZID=America/New_York:20230914T150000
DTSTAMP:20260422T182212
CREATED:20210416T003503Z
LAST-MODIFIED:20240929T182527Z
UID:10010406-1694696400-1694703600@leisureknoll.org
SUMMARY:Billiards
DESCRIPTION:Recreation Center\, every day except Sunday
URL:https://leisureknoll.org/calendar/billiards/2023-09-14/
END:VEVENT
BEGIN:VEVENT
DTSTART;TZID=America/New_York:20230914T130000
DTEND;TZID=America/New_York:20230914T150000
DTSTAMP:20260422T182212
CREATED:20210416T010104Z
LAST-MODIFIED:20230106T202026Z
UID:10011211-1694696400-1694703600@leisureknoll.org
SUMMARY:Bridge/Canasta
DESCRIPTION:Craft Center
URL:https://leisureknoll.org/calendar/bridge-canasta/2023-09-14/
END:VEVENT
BEGIN:VEVENT
DTSTART;TZID=America/New_York:20230914T183000
DTEND;TZID=America/New_York:20230914T203000
DTSTAMP:20260422T182212
CREATED:20210702T035015Z
LAST-MODIFIED:20230106T202125Z
UID:10011315-1694716200-1694723400@leisureknoll.org
SUMMARY:Men's Low Stakes Poker
DESCRIPTION:
URL:https://leisureknoll.org/calendar/mens-low-stakes-poker/2023-09-14/
END:VEVENT
BEGIN:VEVENT
DTSTART;TZID=America/New_York:20230914T183000
DTEND;TZID=America/New_York:20230914T203000
DTSTAMP:20260422T182212
CREATED:20230630T032653Z
LAST-MODIFIED:20230630T032653Z
UID:10011263-1694716200-1694723400@leisureknoll.org
SUMMARY:Mixed Games Poker
DESCRIPTION:Craft Center
URL:https://leisureknoll.org/calendar/ladies-poker-2-2/2023-09-14/
END:VEVENT
BEGIN:VEVENT
DTSTART;TZID=America/New_York:20230914T190000
DTEND;TZID=America/New_York:20230914T210000
DTSTAMP:20260422T182212
CREATED:20230312T032808Z
LAST-MODIFIED:20231104T195522Z
UID:10011367-1694718000-1694725200@leisureknoll.org
SUMMARY:Game Night
DESCRIPTION:BYO \n@ 7pm
URL:https://leisureknoll.org/calendar/game-night-2-2/2023-09-14/
END:VEVENT
END:VCALENDAR