BEGIN:VCALENDAR
VERSION:2.0
PRODID:-//Leisure Knoll - ECPv6.15.20//NONSGML v1.0//EN
CALSCALE:GREGORIAN
METHOD:PUBLISH
X-ORIGINAL-URL:https://leisureknoll.org
X-WR-CALDESC:Events for Leisure Knoll
REFRESH-INTERVAL;VALUE=DURATION:PT1H
X-Robots-Tag:noindex
X-PUBLISHED-TTL:PT1H
BEGIN:VTIMEZONE
TZID:America/New_York
BEGIN:DAYLIGHT
TZOFFSETFROM:-0500
TZOFFSETTO:-0400
TZNAME:EDT
DTSTART:20220313T070000
END:DAYLIGHT
BEGIN:STANDARD
TZOFFSETFROM:-0400
TZOFFSETTO:-0500
TZNAME:EST
DTSTART:20221106T060000
END:STANDARD
BEGIN:DAYLIGHT
TZOFFSETFROM:-0500
TZOFFSETTO:-0400
TZNAME:EDT
DTSTART:20230312T070000
END:DAYLIGHT
BEGIN:STANDARD
TZOFFSETFROM:-0400
TZOFFSETTO:-0500
TZNAME:EST
DTSTART:20231105T060000
END:STANDARD
BEGIN:DAYLIGHT
TZOFFSETFROM:-0500
TZOFFSETTO:-0400
TZNAME:EDT
DTSTART:20240310T070000
END:DAYLIGHT
BEGIN:STANDARD
TZOFFSETFROM:-0400
TZOFFSETTO:-0500
TZNAME:EST
DTSTART:20241103T060000
END:STANDARD
END:VTIMEZONE
BEGIN:VEVENT
DTSTART;TZID=America/New_York:20230906T113000
DTEND;TZID=America/New_York:20230906T143000
DTSTAMP:20260422T182159
CREATED:20230617T023550Z
LAST-MODIFIED:20230617T023550Z
UID:10010846-1693999800-1694010600@leisureknoll.org
SUMMARY:Men's Bowling
DESCRIPTION:@ 11:30am
URL:https://leisureknoll.org/calendar/mens-bowling-2021-09-15-2/2023-09-06/
END:VEVENT
BEGIN:VEVENT
DTSTART;TZID=America/New_York:20230906T130000
DTEND;TZID=America/New_York:20230906T150000
DTSTAMP:20260422T182200
CREATED:20210416T003503Z
LAST-MODIFIED:20240929T182527Z
UID:10010399-1694005200-1694012400@leisureknoll.org
SUMMARY:Billiards
DESCRIPTION:Recreation Center\, every day except Sunday
URL:https://leisureknoll.org/calendar/billiards/2023-09-06/
END:VEVENT
BEGIN:VEVENT
DTSTART;TZID=America/New_York:20230906T130000
DTEND;TZID=America/New_York:20230906T150000
DTSTAMP:20260422T182200
CREATED:20210416T005743Z
LAST-MODIFIED:20260109T030323Z
UID:10010898-1694005200-1694012400@leisureknoll.org
SUMMARY:Bridge
DESCRIPTION:Craft Center
URL:https://leisureknoll.org/calendar/bridge/2023-09-06/
END:VEVENT
BEGIN:VEVENT
DTSTART;TZID=America/New_York:20230906T143000
DTEND;TZID=America/New_York:20230906T160000
DTSTAMP:20260422T182200
CREATED:20230630T031357Z
LAST-MODIFIED:20231128T012532Z
UID:10012795-1694010600-1694016000@leisureknoll.org
SUMMARY:Pickleball Club
DESCRIPTION:@ 2:30pm
URL:https://leisureknoll.org/calendar/pickleball-club/2023-09-06/
END:VEVENT
BEGIN:VEVENT
DTSTART;TZID=America/New_York:20230906T170000
DTEND;TZID=America/New_York:20230906T190000
DTSTAMP:20260422T182200
CREATED:20230901T001617Z
LAST-MODIFIED:20230901T001617Z
UID:10013130-1694019600-1694026800@leisureknoll.org
SUMMARY:Bocce
DESCRIPTION:5pm
URL:https://leisureknoll.org/calendar/bocce-4/2023-09-06/2/
END:VEVENT
BEGIN:VEVENT
DTSTART;TZID=America/New_York:20230906T180000
DTEND;TZID=America/New_York:20230906T200000
DTSTAMP:20260422T182200
CREATED:20210416T005957Z
LAST-MODIFIED:20240929T182030Z
UID:10011002-1694023200-1694030400@leisureknoll.org
SUMMARY:Men's Poker
DESCRIPTION:Craft Center
URL:https://leisureknoll.org/calendar/mens-poker-2022-08-31/2023-09-06/
END:VEVENT
BEGIN:VEVENT
DTSTART;TZID=America/New_York:20230906T180000
DTEND;TZID=America/New_York:20230906T200000
DTSTAMP:20260422T182200
CREATED:20230901T002521Z
LAST-MODIFIED:20230901T002521Z
UID:10013141-1694023200-1694030400@leisureknoll.org
SUMMARY:Bocce Players Pizza Party
DESCRIPTION:6pm @ Rec Center
URL:https://leisureknoll.org/calendar/bocce-players-pizza-party/
END:VEVENT
BEGIN:VEVENT
DTSTART;TZID=America/New_York:20230906T184500
DTEND;TZID=America/New_York:20230906T204500
DTSTAMP:20260422T182200
CREATED:20210505T022532Z
LAST-MODIFIED:20260109T031152Z
UID:10011054-1694025900-1694033100@leisureknoll.org
SUMMARY:Dominoes
DESCRIPTION:Recreation Hall
URL:https://leisureknoll.org/calendar/dominoes/2023-09-06/
END:VEVENT
BEGIN:VEVENT
DTSTART;TZID=America/New_York:20230907T090000
DTEND;TZID=America/New_York:20230907T110000
DTSTAMP:20260422T182200
CREATED:20210416T003116Z
LAST-MODIFIED:20260109T025549Z
UID:10009793-1694077200-1694084400@leisureknoll.org
SUMMARY:Wood Shop
DESCRIPTION:
URL:https://leisureknoll.org/calendar/wood-shop/2023-09-07/
END:VEVENT
BEGIN:VEVENT
DTSTART;TZID=America/New_York:20230907T093000
DTEND;TZID=America/New_York:20230907T103000
DTSTAMP:20260422T182200
CREATED:20230312T040136Z
LAST-MODIFIED:20231128T012323Z
UID:10012474-1694079000-1694082600@leisureknoll.org
SUMMARY:Ladies Tennis
DESCRIPTION:
URL:https://leisureknoll.org/calendar/ladies-tennis-4/2023-09-07/
END:VEVENT
BEGIN:VEVENT
DTSTART;TZID=America/New_York:20230907T100000
DTEND;TZID=America/New_York:20230907T130000
DTSTAMP:20260422T182200
CREATED:20210415T031404Z
LAST-MODIFIED:20240114T192421Z
UID:10011106-1694080800-1694091600@leisureknoll.org
SUMMARY:Bus to Port Jefferson Station
DESCRIPTION:Bus to Port Jefferson Station\, Meat Farms\, Shop Rite\, TJ Max shopping center. \nLeaves Leisure Knoll at 10:00 am.
URL:https://leisureknoll.org/calendar/bus-to-port-jefferson-station/2023-09-07/
END:VEVENT
BEGIN:VEVENT
DTSTART;TZID=America/New_York:20230907T101500
DTEND;TZID=America/New_York:20230907T113000
DTSTAMP:20260422T182200
CREATED:20230312T032913Z
LAST-MODIFIED:20230312T032913Z
UID:10011158-1694081700-1694086200@leisureknoll.org
SUMMARY:Bible Study
DESCRIPTION:@ Craft Center
URL:https://leisureknoll.org/calendar/bible-study-2/2023-09-07/
END:VEVENT
BEGIN:VEVENT
DTSTART;TZID=America/New_York:20230907T110000
DTEND;TZID=America/New_York:20230907T120000
DTSTAMP:20260422T182200
CREATED:20221202T030602Z
LAST-MODIFIED:20260109T025858Z
UID:10009982-1694084400-1694088000@leisureknoll.org
SUMMARY:Ping Pong
DESCRIPTION:11am @ Recreation Hall
URL:https://leisureknoll.org/calendar/ping-pong/2023-09-07/
END:VEVENT
BEGIN:VEVENT
DTSTART;TZID=America/New_York:20230907T130000
DTEND;TZID=America/New_York:20230907T150000
DTSTAMP:20260422T182200
CREATED:20210416T003503Z
LAST-MODIFIED:20240929T182527Z
UID:10010400-1694091600-1694098800@leisureknoll.org
SUMMARY:Billiards
DESCRIPTION:Recreation Center\, every day except Sunday
URL:https://leisureknoll.org/calendar/billiards/2023-09-07/
END:VEVENT
BEGIN:VEVENT
DTSTART;TZID=America/New_York:20230907T130000
DTEND;TZID=America/New_York:20230907T150000
DTSTAMP:20260422T182200
CREATED:20210416T010104Z
LAST-MODIFIED:20230106T202026Z
UID:10011210-1694091600-1694098800@leisureknoll.org
SUMMARY:Bridge/Canasta
DESCRIPTION:Craft Center
URL:https://leisureknoll.org/calendar/bridge-canasta/2023-09-07/
END:VEVENT
BEGIN:VEVENT
DTSTART;TZID=America/New_York:20230907T183000
DTEND;TZID=America/New_York:20230907T203000
DTSTAMP:20260422T182200
CREATED:20210702T035015Z
LAST-MODIFIED:20230106T202125Z
UID:10011314-1694111400-1694118600@leisureknoll.org
SUMMARY:Men's Low Stakes Poker
DESCRIPTION:
URL:https://leisureknoll.org/calendar/mens-low-stakes-poker/2023-09-07/
END:VEVENT
BEGIN:VEVENT
DTSTART;TZID=America/New_York:20230907T183000
DTEND;TZID=America/New_York:20230907T203000
DTSTAMP:20260422T182200
CREATED:20230630T032653Z
LAST-MODIFIED:20230630T032653Z
UID:10011262-1694111400-1694118600@leisureknoll.org
SUMMARY:Mixed Games Poker
DESCRIPTION:Craft Center
URL:https://leisureknoll.org/calendar/ladies-poker-2-2/2023-09-07/
END:VEVENT
BEGIN:VEVENT
DTSTART;TZID=America/New_York:20230907T190000
DTEND;TZID=America/New_York:20230907T200000
DTSTAMP:20260422T182200
CREATED:20230630T034352Z
LAST-MODIFIED:20230901T005250Z
UID:10013151-1694113200-1694116800@leisureknoll.org
SUMMARY:Travel Club Meeting
DESCRIPTION:7pm @ Rec Center
URL:https://leisureknoll.org/calendar/travel-club-meeting-12/2023-09-07/
END:VEVENT
BEGIN:VEVENT
DTSTART;TZID=America/New_York:20230907T190000
DTEND;TZID=America/New_York:20230907T210000
DTSTAMP:20260422T182200
CREATED:20230312T032808Z
LAST-MODIFIED:20231104T195522Z
UID:10011366-1694113200-1694120400@leisureknoll.org
SUMMARY:Game Night
DESCRIPTION:BYO \n@ 7pm
URL:https://leisureknoll.org/calendar/game-night-2-2/2023-09-07/
END:VEVENT
BEGIN:VEVENT
DTSTART;VALUE=DATE:20230908
DTEND;VALUE=DATE:20230909
DTSTAMP:20260422T182200
CREATED:20210416T001302Z
LAST-MODIFIED:20251215T033850Z
UID:10009529-1694131200-1694217599@leisureknoll.org
SUMMARY:Garbage Pick Up
DESCRIPTION:GARBAGE P/U -WINTERS BROS. WASTE – 631-491-4923\nGarbage pick up Tues. & Fri. except holidays Confirm Bulk P/U (on Thursday) with Winters Brothers
URL:https://leisureknoll.org/calendar/garbage-pick-up-fri/2023-09-08/
END:VEVENT
BEGIN:VEVENT
DTSTART;VALUE=DATE:20230908
DTEND;VALUE=DATE:20230909
DTSTAMP:20260422T182200
CREATED:20230901T004333Z
LAST-MODIFIED:20230901T004333Z
UID:10013148-1694131200-1694217599@leisureknoll.org
SUMMARY:No Bus
DESCRIPTION:No Bus
URL:https://leisureknoll.org/calendar/no-bus/
END:VEVENT
BEGIN:VEVENT
DTSTART;TZID=America/New_York:20230908T090000
DTEND;TZID=America/New_York:20230908T100000
DTSTAMP:20260422T182200
CREATED:20230312T035839Z
LAST-MODIFIED:20231128T012444Z
UID:10012204-1694163600-1694167200@leisureknoll.org
SUMMARY:Tennis Club
DESCRIPTION:
URL:https://leisureknoll.org/calendar/tennis-club/2023-09-08/
END:VEVENT
BEGIN:VEVENT
DTSTART;TZID=America/New_York:20230908T090000
DTEND;TZID=America/New_York:20230908T110000
DTSTAMP:20260422T182200
CREATED:20210416T003116Z
LAST-MODIFIED:20260109T025549Z
UID:10009794-1694163600-1694170800@leisureknoll.org
SUMMARY:Wood Shop
DESCRIPTION:
URL:https://leisureknoll.org/calendar/wood-shop/2023-09-08/
END:VEVENT
BEGIN:VEVENT
DTSTART;TZID=America/New_York:20230908T093000
DTEND;TZID=America/New_York:20230908T103000
DTSTAMP:20260422T182200
CREATED:20211209T023315Z
LAST-MODIFIED:20250101T175700Z
UID:10011475-1694165400-1694169000@leisureknoll.org
SUMMARY:Slimnastics
DESCRIPTION:9:30am @ Craft Center
URL:https://leisureknoll.org/calendar/slimnastics-4/2023-09-08/
END:VEVENT
BEGIN:VEVENT
DTSTART;TZID=America/New_York:20230908T130000
DTEND;TZID=America/New_York:20230908T150000
DTSTAMP:20260422T182200
CREATED:20210416T003503Z
LAST-MODIFIED:20240929T182527Z
UID:10010401-1694178000-1694185200@leisureknoll.org
SUMMARY:Billiards
DESCRIPTION:Recreation Center\, every day except Sunday
URL:https://leisureknoll.org/calendar/billiards/2023-09-08/
END:VEVENT
BEGIN:VEVENT
DTSTART;TZID=America/New_York:20230908T130000
DTEND;TZID=America/New_York:20230908T150000
DTSTAMP:20260422T182200
CREATED:20220602T022125Z
LAST-MODIFIED:20241106T040502Z
UID:10011527-1694178000-1694185200@leisureknoll.org
SUMMARY:Women's Card Game
DESCRIPTION:Craft Center @ 1pm
URL:https://leisureknoll.org/calendar/womens-card-game/2023-09-08/
END:VEVENT
BEGIN:VEVENT
DTSTART;TZID=America/New_York:20230908T143000
DTEND;TZID=America/New_York:20230908T160000
DTSTAMP:20260422T182200
CREATED:20230630T031357Z
LAST-MODIFIED:20231128T012532Z
UID:10012796-1694183400-1694188800@leisureknoll.org
SUMMARY:Pickleball Club
DESCRIPTION:@ 2:30pm
URL:https://leisureknoll.org/calendar/pickleball-club/2023-09-08/
END:VEVENT
BEGIN:VEVENT
DTSTART;TZID=America/New_York:20230908T180000
DTEND;TZID=America/New_York:20230908T200000
DTSTAMP:20260422T182200
CREATED:20221204T045026Z
LAST-MODIFIED:20221204T045026Z
UID:10009441-1694196000-1694203200@leisureknoll.org
SUMMARY:Texas Hold'em
DESCRIPTION:6pm @ Craft Center
URL:https://leisureknoll.org/calendar/texas-holdem-2/2023-09-08/
END:VEVENT
BEGIN:VEVENT
DTSTART;TZID=America/New_York:20230909T090000
DTEND;TZID=America/New_York:20230909T100000
DTSTAMP:20260422T182200
CREATED:20230312T035839Z
LAST-MODIFIED:20231128T012444Z
UID:10012205-1694250000-1694253600@leisureknoll.org
SUMMARY:Tennis Club
DESCRIPTION:
URL:https://leisureknoll.org/calendar/tennis-club/2023-09-09/
END:VEVENT
BEGIN:VEVENT
DTSTART;TZID=America/New_York:20230909T110000
DTEND;TZID=America/New_York:20230909T120000
DTSTAMP:20260422T182200
CREATED:20230901T004924Z
LAST-MODIFIED:20240804T173127Z
UID:10013150-1694257200-1694260800@leisureknoll.org
SUMMARY:Leisure Readers
DESCRIPTION:Leisure Readers | 11am @ Craft Center
URL:https://leisureknoll.org/calendar/leisure-readers-8/2023-09-09/
END:VEVENT
END:VCALENDAR