BEGIN:VCALENDAR
VERSION:2.0
PRODID:-//Leisure Knoll - ECPv6.15.20//NONSGML v1.0//EN
CALSCALE:GREGORIAN
METHOD:PUBLISH
X-ORIGINAL-URL:https://leisureknoll.org
X-WR-CALDESC:Events for Leisure Knoll
REFRESH-INTERVAL;VALUE=DURATION:PT1H
X-Robots-Tag:noindex
X-PUBLISHED-TTL:PT1H
BEGIN:VTIMEZONE
TZID:America/New_York
BEGIN:DAYLIGHT
TZOFFSETFROM:-0500
TZOFFSETTO:-0400
TZNAME:EDT
DTSTART:20220313T070000
END:DAYLIGHT
BEGIN:STANDARD
TZOFFSETFROM:-0400
TZOFFSETTO:-0500
TZNAME:EST
DTSTART:20221106T060000
END:STANDARD
BEGIN:DAYLIGHT
TZOFFSETFROM:-0500
TZOFFSETTO:-0400
TZNAME:EDT
DTSTART:20230312T070000
END:DAYLIGHT
BEGIN:STANDARD
TZOFFSETFROM:-0400
TZOFFSETTO:-0500
TZNAME:EST
DTSTART:20231105T060000
END:STANDARD
BEGIN:DAYLIGHT
TZOFFSETFROM:-0500
TZOFFSETTO:-0400
TZNAME:EDT
DTSTART:20240310T070000
END:DAYLIGHT
BEGIN:STANDARD
TZOFFSETFROM:-0400
TZOFFSETTO:-0500
TZNAME:EST
DTSTART:20241103T060000
END:STANDARD
END:VTIMEZONE
BEGIN:VEVENT
DTSTART;TZID=America/New_York:20230918T120000
DTEND;TZID=America/New_York:20230918T133000
DTSTAMP:20260422T182212
CREATED:20230630T031224Z
LAST-MODIFIED:20260109T030045Z
UID:10012699-1695038400-1695043800@leisureknoll.org
SUMMARY:Canasta
DESCRIPTION:12pm @ Craft Center
URL:https://leisureknoll.org/calendar/canasta/2023-09-18/
END:VEVENT
BEGIN:VEVENT
DTSTART;TZID=America/New_York:20230918T130000
DTEND;TZID=America/New_York:20230918T150000
DTSTAMP:20260422T182212
CREATED:20210416T003503Z
LAST-MODIFIED:20240929T182527Z
UID:10010409-1695042000-1695049200@leisureknoll.org
SUMMARY:Billiards
DESCRIPTION:Recreation Center\, every day except Sunday
URL:https://leisureknoll.org/calendar/billiards/2023-09-18/
END:VEVENT
BEGIN:VEVENT
DTSTART;TZID=America/New_York:20230918T143000
DTEND;TZID=America/New_York:20230918T160000
DTSTAMP:20260422T182212
CREATED:20230630T031357Z
LAST-MODIFIED:20231128T012532Z
UID:10012800-1695047400-1695052800@leisureknoll.org
SUMMARY:Pickleball Club
DESCRIPTION:@ 2:30pm
URL:https://leisureknoll.org/calendar/pickleball-club/2023-09-18/
END:VEVENT
BEGIN:VEVENT
DTSTART;TZID=America/New_York:20230918T180000
DTEND;TZID=America/New_York:20230918T200000
DTSTAMP:20260422T182212
CREATED:20210702T034900Z
LAST-MODIFIED:20240707T191247Z
UID:10016815-1695060000-1695067200@leisureknoll.org
SUMMARY:Ladies Poker
DESCRIPTION:Craft Center
URL:https://leisureknoll.org/calendar/ladies-poker-2021-09-13/2023-09-18/
END:VEVENT
BEGIN:VEVENT
DTSTART;VALUE=DATE:20230919
DTEND;VALUE=DATE:20230920
DTSTAMP:20260422T182212
CREATED:20210416T001302Z
LAST-MODIFIED:20251215T033850Z
UID:10009532-1695081600-1695167999@leisureknoll.org
SUMMARY:Garbage Pick Up
DESCRIPTION:GARBAGE P/U -WINTERS BROS. WASTE – 631-491-4923\nGarbage pick up Tues. & Fri. except holidays Confirm Bulk P/U (on Thursday) with Winters Brothers
URL:https://leisureknoll.org/calendar/garbage-pick-up-fri/2023-09-19/
END:VEVENT
BEGIN:VEVENT
DTSTART;TZID=America/New_York:20230919T090000
DTEND;TZID=America/New_York:20230919T110000
DTSTAMP:20260422T182212
CREATED:20210416T003116Z
LAST-MODIFIED:20260109T025549Z
UID:10009801-1695114000-1695121200@leisureknoll.org
SUMMARY:Wood Shop
DESCRIPTION:
URL:https://leisureknoll.org/calendar/wood-shop/2023-09-19/
END:VEVENT
BEGIN:VEVENT
DTSTART;TZID=America/New_York:20230919T093000
DTEND;TZID=America/New_York:20230919T103000
DTSTAMP:20260422T182212
CREATED:20230312T040136Z
LAST-MODIFIED:20231128T012323Z
UID:10012477-1695115800-1695119400@leisureknoll.org
SUMMARY:Ladies Tennis
DESCRIPTION:
URL:https://leisureknoll.org/calendar/ladies-tennis-4/2023-09-19/
END:VEVENT
BEGIN:VEVENT
DTSTART;TZID=America/New_York:20230919T110000
DTEND;TZID=America/New_York:20230919T120000
DTSTAMP:20260422T182212
CREATED:20221202T030602Z
LAST-MODIFIED:20260109T025858Z
UID:10009987-1695121200-1695124800@leisureknoll.org
SUMMARY:Ping Pong
DESCRIPTION:11am @ Recreation Hall
URL:https://leisureknoll.org/calendar/ping-pong/2023-09-19/
END:VEVENT
BEGIN:VEVENT
DTSTART;TZID=America/New_York:20230919T123000
DTEND;TZID=America/New_York:20230919T163000
DTSTAMP:20260422T182212
CREATED:20210415T030726Z
LAST-MODIFIED:20240114T192346Z
UID:10010640-1695126600-1695141000@leisureknoll.org
SUMMARY:Bus to Yaphank & Middle Island
DESCRIPTION:Bus to Wal-Mart Yaphank/King Kullen Middle Island shopping center. \nLeaves Leisure Knoll at 12:30pm and returns 4:30pm.
URL:https://leisureknoll.org/calendar/bus-to-middle-island/2023-09-19/
END:VEVENT
BEGIN:VEVENT
DTSTART;TZID=America/New_York:20230919T130000
DTEND;TZID=America/New_York:20230919T150000
DTSTAMP:20260422T182212
CREATED:20210416T003503Z
LAST-MODIFIED:20240929T182527Z
UID:10010410-1695128400-1695135600@leisureknoll.org
SUMMARY:Billiards
DESCRIPTION:Recreation Center\, every day except Sunday
URL:https://leisureknoll.org/calendar/billiards/2023-09-19/
END:VEVENT
BEGIN:VEVENT
DTSTART;TZID=America/New_York:20230919T130000
DTEND;TZID=America/New_York:20230919T163000
DTSTAMP:20260422T182212
CREATED:20230312T032638Z
LAST-MODIFIED:20240929T181808Z
UID:10011715-1695128400-1695141000@leisureknoll.org
SUMMARY:Rummikub
DESCRIPTION:Craft Center \n1-4:30pm
URL:https://leisureknoll.org/calendar/rummikub-2-2/2023-09-19/
END:VEVENT
BEGIN:VEVENT
DTSTART;TZID=America/New_York:20230919T183000
DTEND;TZID=America/New_York:20230919T203000
DTSTAMP:20260422T182212
CREATED:20210702T033018Z
LAST-MODIFIED:20230501T195018Z
UID:10010744-1695148200-1695155400@leisureknoll.org
SUMMARY:Mixed Card Game
DESCRIPTION:Craft Center
URL:https://leisureknoll.org/calendar/guys-gals-card-game/2023-09-19/
END:VEVENT
BEGIN:VEVENT
DTSTART;VALUE=DATE:20230920
DTEND;VALUE=DATE:20230921
DTSTAMP:20260422T182213
CREATED:20210416T002146Z
LAST-MODIFIED:20250607T015435Z
UID:10020856-1695168000-1695254399@leisureknoll.org
SUMMARY:Recycling - Cans & Plastic
DESCRIPTION:Cans and plastic
URL:https://leisureknoll.org/calendar/recycling-cans-plastic-2022-08-10/
END:VEVENT
BEGIN:VEVENT
DTSTART;VALUE=DATE:20230920
DTEND;VALUE=DATE:20230921
DTSTAMP:20260422T182213
CREATED:20210416T002146Z
LAST-MODIFIED:20250608T235414Z
UID:10021700-1695168000-1695254399@leisureknoll.org
SUMMARY:Recycling - Cans & Plastic
DESCRIPTION:Cans and plastic
URL:https://leisureknoll.org/calendar/recycling-cans-plastic-2022-12-14/
END:VEVENT
BEGIN:VEVENT
DTSTART;VALUE=DATE:20230920
DTEND;VALUE=DATE:20230921
DTSTAMP:20260422T182213
CREATED:20210416T002146Z
LAST-MODIFIED:20250607T015435Z
UID:10021180-1695168000-1695254399@leisureknoll.org
SUMMARY:Recycling - Cans & Plastic
DESCRIPTION:Cans and plastic
URL:https://leisureknoll.org/calendar/recycling-cans-plastic-2022-10-05/
END:VEVENT
BEGIN:VEVENT
DTSTART;VALUE=DATE:20230920
DTEND;VALUE=DATE:20230921
DTSTAMP:20260422T182213
CREATED:20210416T002146Z
LAST-MODIFIED:20250607T015434Z
UID:10020635-1695168000-1695254399@leisureknoll.org
SUMMARY:Recycling - Cans & Plastic
DESCRIPTION:Cans and plastic
URL:https://leisureknoll.org/calendar/recycling-cans-plastic-2022-07-13/
END:VEVENT
BEGIN:VEVENT
DTSTART;VALUE=DATE:20230920
DTEND;VALUE=DATE:20230921
DTSTAMP:20260422T182213
CREATED:20210416T002146Z
LAST-MODIFIED:20250608T235413Z
UID:10021495-1695168000-1695254399@leisureknoll.org
SUMMARY:Recycling - Cans & Plastic
DESCRIPTION:Cans and plastic
URL:https://leisureknoll.org/calendar/recycling-cans-plastic-2022-11-16/
END:VEVENT
BEGIN:VEVENT
DTSTART;VALUE=DATE:20230920
DTEND;VALUE=DATE:20230921
DTSTAMP:20260422T182213
CREATED:20210416T002146Z
LAST-MODIFIED:20250607T015435Z
UID:10020965-1695168000-1695254399@leisureknoll.org
SUMMARY:Recycling - Cans & Plastic
DESCRIPTION:Cans and plastic
URL:https://leisureknoll.org/calendar/recycling-cans-plastic-2022-08-24/
END:VEVENT
BEGIN:VEVENT
DTSTART;VALUE=DATE:20230920
DTEND;VALUE=DATE:20230921
DTSTAMP:20260422T182213
CREATED:20210416T002146Z
LAST-MODIFIED:20250608T235414Z
UID:10021801-1695168000-1695254399@leisureknoll.org
SUMMARY:Recycling - Cans & Plastic
DESCRIPTION:Cans and plastic
URL:https://leisureknoll.org/calendar/recycling-cans-plastic-2022-12-28/
END:VEVENT
BEGIN:VEVENT
DTSTART;VALUE=DATE:20230920
DTEND;VALUE=DATE:20230921
DTSTAMP:20260422T182213
CREATED:20210416T002146Z
LAST-MODIFIED:20250607T015436Z
UID:10021286-1695168000-1695254399@leisureknoll.org
SUMMARY:Recycling - Cans & Plastic
DESCRIPTION:Cans and plastic
URL:https://leisureknoll.org/calendar/recycling-cans-plastic-2022-10-19/
END:VEVENT
BEGIN:VEVENT
DTSTART;VALUE=DATE:20230920
DTEND;VALUE=DATE:20230921
DTSTAMP:20260422T182213
CREATED:20210416T002146Z
LAST-MODIFIED:20250607T015434Z
UID:10020746-1695168000-1695254399@leisureknoll.org
SUMMARY:Recycling - Cans & Plastic
DESCRIPTION:Cans and plastic
URL:https://leisureknoll.org/calendar/recycling-cans-plastic-2022-07-27/
END:VEVENT
BEGIN:VEVENT
DTSTART;VALUE=DATE:20230920
DTEND;VALUE=DATE:20230921
DTSTAMP:20260422T182213
CREATED:20210416T002146Z
LAST-MODIFIED:20250608T235414Z
UID:10021598-1695168000-1695254399@leisureknoll.org
SUMMARY:Recycling - Cans & Plastic
DESCRIPTION:Cans and plastic
URL:https://leisureknoll.org/calendar/recycling-cans-plastic-2022-11-30/
END:VEVENT
BEGIN:VEVENT
DTSTART;VALUE=DATE:20230920
DTEND;VALUE=DATE:20230921
DTSTAMP:20260422T182213
CREATED:20210416T002146Z
LAST-MODIFIED:20250607T015435Z
UID:10021073-1695168000-1695254399@leisureknoll.org
SUMMARY:Recycling - Cans & Plastic
DESCRIPTION:Cans and plastic
URL:https://leisureknoll.org/calendar/recycling-cans-plastic-2022-09-21/
END:VEVENT
BEGIN:VEVENT
DTSTART;VALUE=DATE:20230920
DTEND;VALUE=DATE:20230921
DTSTAMP:20260422T182213
CREATED:20210416T002146Z
LAST-MODIFIED:20250607T015436Z
UID:10021391-1695168000-1695254399@leisureknoll.org
SUMMARY:Recycling - Cans & Plastic
DESCRIPTION:Cans and plastic
URL:https://leisureknoll.org/calendar/recycling-cans-plastic-2022-11-02/
END:VEVENT
BEGIN:VEVENT
DTSTART;VALUE=DATE:20230920
DTEND;VALUE=DATE:20230921
DTSTAMP:20260422T182213
CREATED:20210416T002146Z
LAST-MODIFIED:20250607T015433Z
UID:10020523-1695168000-1695254399@leisureknoll.org
SUMMARY:Recycling - Cans & Plastic
DESCRIPTION:Cans and plastic
URL:https://leisureknoll.org/calendar/recycling-cans-plastic-2022-06-29/
END:VEVENT
BEGIN:VEVENT
DTSTART;TZID=America/New_York:20230920T090000
DTEND;TZID=America/New_York:20230920T100000
DTSTAMP:20260422T182213
CREATED:20230312T035839Z
LAST-MODIFIED:20231128T012444Z
UID:10012211-1695200400-1695204000@leisureknoll.org
SUMMARY:Tennis Club
DESCRIPTION:
URL:https://leisureknoll.org/calendar/tennis-club/2023-09-20/
END:VEVENT
BEGIN:VEVENT
DTSTART;TZID=America/New_York:20230920T090000
DTEND;TZID=America/New_York:20230920T110000
DTSTAMP:20260422T182213
CREATED:20210416T003116Z
LAST-MODIFIED:20260109T025549Z
UID:10009802-1695200400-1695207600@leisureknoll.org
SUMMARY:Wood Shop
DESCRIPTION:
URL:https://leisureknoll.org/calendar/wood-shop/2023-09-20/
END:VEVENT
BEGIN:VEVENT
DTSTART;TZID=America/New_York:20230920T093000
DTEND;TZID=America/New_York:20230920T113000
DTSTAMP:20260422T182213
CREATED:20210901T030231Z
LAST-MODIFIED:20260109T030159Z
UID:10010796-1695202200-1695209400@leisureknoll.org
SUMMARY:Art Club
DESCRIPTION:Craft Room
URL:https://leisureknoll.org/calendar/art-club/2023-09-20/
END:VEVENT
BEGIN:VEVENT
DTSTART;TZID=America/New_York:20230920T100000
DTEND;TZID=America/New_York:20230920T110000
DTSTAMP:20260422T182213
CREATED:20220301T013856Z
LAST-MODIFIED:20250101T175615Z
UID:10010106-1695204000-1695207600@leisureknoll.org
SUMMARY:Slimnastics
DESCRIPTION:Recreation Hall
URL:https://leisureknoll.org/calendar/slimnastics-5/2023-09-20/
END:VEVENT
BEGIN:VEVENT
DTSTART;TZID=America/New_York:20230920T113000
DTEND;TZID=America/New_York:20230920T133000
DTSTAMP:20260422T182213
CREATED:20230909T172751Z
LAST-MODIFIED:20240307T040407Z
UID:10013154-1695209400-1695216600@leisureknoll.org
SUMMARY:Ladies Bowling
DESCRIPTION:11:30am
URL:https://leisureknoll.org/calendar/ladies-bowling/2023-09-20/
END:VEVENT
END:VCALENDAR