BEGIN:VCALENDAR
VERSION:2.0
PRODID:-//Leisure Knoll - ECPv6.15.20//NONSGML v1.0//EN
CALSCALE:GREGORIAN
METHOD:PUBLISH
X-WR-CALNAME:Leisure Knoll
X-ORIGINAL-URL:https://leisureknoll.org
X-WR-CALDESC:Events for Leisure Knoll
REFRESH-INTERVAL;VALUE=DURATION:PT1H
X-Robots-Tag:noindex
X-PUBLISHED-TTL:PT1H
BEGIN:VTIMEZONE
TZID:America/New_York
BEGIN:DAYLIGHT
TZOFFSETFROM:-0500
TZOFFSETTO:-0400
TZNAME:EDT
DTSTART:20220313T070000
END:DAYLIGHT
BEGIN:STANDARD
TZOFFSETFROM:-0400
TZOFFSETTO:-0500
TZNAME:EST
DTSTART:20221106T060000
END:STANDARD
BEGIN:DAYLIGHT
TZOFFSETFROM:-0500
TZOFFSETTO:-0400
TZNAME:EDT
DTSTART:20230312T070000
END:DAYLIGHT
BEGIN:STANDARD
TZOFFSETFROM:-0400
TZOFFSETTO:-0500
TZNAME:EST
DTSTART:20231105T060000
END:STANDARD
BEGIN:DAYLIGHT
TZOFFSETFROM:-0500
TZOFFSETTO:-0400
TZNAME:EDT
DTSTART:20240310T070000
END:DAYLIGHT
BEGIN:STANDARD
TZOFFSETFROM:-0400
TZOFFSETTO:-0500
TZNAME:EST
DTSTART:20241103T060000
END:STANDARD
END:VTIMEZONE
BEGIN:VEVENT
DTSTART;TZID=America/New_York:20230824T130000
DTEND;TZID=America/New_York:20230824T150000
DTSTAMP:20260422T182029
CREATED:20210416T003503Z
LAST-MODIFIED:20240929T182527Z
UID:10010388-1692882000-1692889200@leisureknoll.org
SUMMARY:Billiards
DESCRIPTION:Recreation Center\, every day except Sunday
URL:https://leisureknoll.org/calendar/billiards/2023-08-24/
END:VEVENT
BEGIN:VEVENT
DTSTART;TZID=America/New_York:20230824T130000
DTEND;TZID=America/New_York:20230824T150000
DTSTAMP:20260422T182030
CREATED:20210416T010104Z
LAST-MODIFIED:20230106T202026Z
UID:10011208-1692882000-1692889200@leisureknoll.org
SUMMARY:Bridge/Canasta
DESCRIPTION:Craft Center
URL:https://leisureknoll.org/calendar/bridge-canasta/2023-08-24/
END:VEVENT
BEGIN:VEVENT
DTSTART;TZID=America/New_York:20230824T183000
DTEND;TZID=America/New_York:20230824T203000
DTSTAMP:20260422T182030
CREATED:20210702T035015Z
LAST-MODIFIED:20230106T202125Z
UID:10011312-1692901800-1692909000@leisureknoll.org
SUMMARY:Men's Low Stakes Poker
DESCRIPTION:
URL:https://leisureknoll.org/calendar/mens-low-stakes-poker/2023-08-24/
END:VEVENT
BEGIN:VEVENT
DTSTART;TZID=America/New_York:20230824T183000
DTEND;TZID=America/New_York:20230824T203000
DTSTAMP:20260422T182030
CREATED:20230630T032653Z
LAST-MODIFIED:20230630T032653Z
UID:10011260-1692901800-1692909000@leisureknoll.org
SUMMARY:Mixed Games Poker
DESCRIPTION:Craft Center
URL:https://leisureknoll.org/calendar/ladies-poker-2-2/2023-08-24/
END:VEVENT
BEGIN:VEVENT
DTSTART;TZID=America/New_York:20230824T190000
DTEND;TZID=America/New_York:20230824T210000
DTSTAMP:20260422T182030
CREATED:20230312T032808Z
LAST-MODIFIED:20231104T195522Z
UID:10011364-1692903600-1692910800@leisureknoll.org
SUMMARY:Game Night
DESCRIPTION:BYO \n@ 7pm
URL:https://leisureknoll.org/calendar/game-night-2-2/2023-08-24/
END:VEVENT
BEGIN:VEVENT
DTSTART;VALUE=DATE:20230825
DTEND;VALUE=DATE:20230826
DTSTAMP:20260422T182030
CREATED:20210416T001302Z
LAST-MODIFIED:20251215T033850Z
UID:10009525-1692921600-1693007999@leisureknoll.org
SUMMARY:Garbage Pick Up
DESCRIPTION:GARBAGE P/U -WINTERS BROS. WASTE – 631-491-4923\nGarbage pick up Tues. & Fri. except holidays Confirm Bulk P/U (on Thursday) with Winters Brothers
URL:https://leisureknoll.org/calendar/garbage-pick-up-fri/2023-08-25/
END:VEVENT
BEGIN:VEVENT
DTSTART;TZID=America/New_York:20230825T090000
DTEND;TZID=America/New_York:20230825T100000
DTSTAMP:20260422T182030
CREATED:20230312T035839Z
LAST-MODIFIED:20231128T012444Z
UID:10012196-1692954000-1692957600@leisureknoll.org
SUMMARY:Tennis Club
DESCRIPTION:
URL:https://leisureknoll.org/calendar/tennis-club/2023-08-25/
END:VEVENT
BEGIN:VEVENT
DTSTART;TZID=America/New_York:20230825T090000
DTEND;TZID=America/New_York:20230825T110000
DTSTAMP:20260422T182030
CREATED:20210416T003116Z
LAST-MODIFIED:20260109T025549Z
UID:10009784-1692954000-1692961200@leisureknoll.org
SUMMARY:Wood Shop
DESCRIPTION:
URL:https://leisureknoll.org/calendar/wood-shop/2023-08-25/
END:VEVENT
BEGIN:VEVENT
DTSTART;TZID=America/New_York:20230825T093000
DTEND;TZID=America/New_York:20230825T103000
DTSTAMP:20260422T182030
CREATED:20211209T023315Z
LAST-MODIFIED:20250101T175700Z
UID:10011473-1692955800-1692959400@leisureknoll.org
SUMMARY:Slimnastics
DESCRIPTION:9:30am @ Craft Center
URL:https://leisureknoll.org/calendar/slimnastics-4/2023-08-25/
END:VEVENT
BEGIN:VEVENT
DTSTART;TZID=America/New_York:20230825T130000
DTEND;TZID=America/New_York:20230825T150000
DTSTAMP:20260422T182030
CREATED:20210416T003503Z
LAST-MODIFIED:20240929T182527Z
UID:10010389-1692968400-1692975600@leisureknoll.org
SUMMARY:Billiards
DESCRIPTION:Recreation Center\, every day except Sunday
URL:https://leisureknoll.org/calendar/billiards/2023-08-25/
END:VEVENT
BEGIN:VEVENT
DTSTART;TZID=America/New_York:20230825T130000
DTEND;TZID=America/New_York:20230825T150000
DTSTAMP:20260422T182030
CREATED:20220602T022125Z
LAST-MODIFIED:20241106T040502Z
UID:10011525-1692968400-1692975600@leisureknoll.org
SUMMARY:Women's Card Game
DESCRIPTION:Craft Center @ 1pm
URL:https://leisureknoll.org/calendar/womens-card-game/2023-08-25/
END:VEVENT
BEGIN:VEVENT
DTSTART;TZID=America/New_York:20230825T143000
DTEND;TZID=America/New_York:20230825T160000
DTSTAMP:20260422T182030
CREATED:20230630T031357Z
LAST-MODIFIED:20231128T012532Z
UID:10012790-1692973800-1692979200@leisureknoll.org
SUMMARY:Pickleball Club
DESCRIPTION:@ 2:30pm
URL:https://leisureknoll.org/calendar/pickleball-club/2023-08-25/
END:VEVENT
BEGIN:VEVENT
DTSTART;TZID=America/New_York:20230825T180000
DTEND;TZID=America/New_York:20230825T200000
DTSTAMP:20260422T182030
CREATED:20221204T045026Z
LAST-MODIFIED:20221204T045026Z
UID:10009439-1692986400-1692993600@leisureknoll.org
SUMMARY:Texas Hold'em
DESCRIPTION:6pm @ Craft Center
URL:https://leisureknoll.org/calendar/texas-holdem-2/2023-08-25/
END:VEVENT
BEGIN:VEVENT
DTSTART;TZID=America/New_York:20230825T190000
DTEND;TZID=America/New_York:20230825T210000
DTSTAMP:20260422T182030
CREATED:20230209T024948Z
LAST-MODIFIED:20230901T001345Z
UID:10011421-1692990000-1692997200@leisureknoll.org
SUMMARY:Corn Hole League
DESCRIPTION:7pm @ Rec Hall
URL:https://leisureknoll.org/calendar/corn-hole-league-2/2023-08-25/
END:VEVENT
BEGIN:VEVENT
DTSTART;VALUE=DATE:20230826
DTEND;VALUE=DATE:20230827
DTSTAMP:20260422T182030
CREATED:20230805T013342Z
LAST-MODIFIED:20230805T013342Z
UID:10013005-1693008000-1693094399@leisureknoll.org
SUMMARY:National Dog Day
DESCRIPTION:
URL:https://leisureknoll.org/calendar/national-dog-day-2/
END:VEVENT
BEGIN:VEVENT
DTSTART;TZID=America/New_York:20230826T090000
DTEND;TZID=America/New_York:20230826T100000
DTSTAMP:20260422T182030
CREATED:20230312T035839Z
LAST-MODIFIED:20231128T012444Z
UID:10012197-1693040400-1693044000@leisureknoll.org
SUMMARY:Tennis Club
DESCRIPTION:
URL:https://leisureknoll.org/calendar/tennis-club/2023-08-26/
END:VEVENT
BEGIN:VEVENT
DTSTART;TZID=America/New_York:20230826T130000
DTEND;TZID=America/New_York:20230826T150000
DTSTAMP:20260422T182030
CREATED:20210416T003503Z
LAST-MODIFIED:20240929T182527Z
UID:10010390-1693054800-1693062000@leisureknoll.org
SUMMARY:Billiards
DESCRIPTION:Recreation Center\, every day except Sunday
URL:https://leisureknoll.org/calendar/billiards/2023-08-26/
END:VEVENT
BEGIN:VEVENT
DTSTART;TZID=America/New_York:20230827T180000
DTEND;TZID=America/New_York:20230827T230000
DTSTAMP:20260422T182030
CREATED:20230312T033638Z
LAST-MODIFIED:20231104T200551Z
UID:10013010-1693159200-1693177200@leisureknoll.org
SUMMARY:Texas Hold'Em Poker
DESCRIPTION:6-11pm @ Craft Center 2
URL:https://leisureknoll.org/calendar/texas-holdem-poker-9/2023-08-27/
END:VEVENT
BEGIN:VEVENT
DTSTART;TZID=America/New_York:20230828T090000
DTEND;TZID=America/New_York:20230828T100000
DTSTAMP:20260422T182030
CREATED:20230312T035839Z
LAST-MODIFIED:20231128T012444Z
UID:10012198-1693213200-1693216800@leisureknoll.org
SUMMARY:Tennis Club
DESCRIPTION:
URL:https://leisureknoll.org/calendar/tennis-club/2023-08-28/
END:VEVENT
BEGIN:VEVENT
DTSTART;TZID=America/New_York:20230828T090000
DTEND;TZID=America/New_York:20230828T110000
DTSTAMP:20260422T182030
CREATED:20210416T003116Z
LAST-MODIFIED:20260109T025549Z
UID:10009785-1693213200-1693220400@leisureknoll.org
SUMMARY:Wood Shop
DESCRIPTION:
URL:https://leisureknoll.org/calendar/wood-shop/2023-08-28/
END:VEVENT
BEGIN:VEVENT
DTSTART;TZID=America/New_York:20230828T100000
DTEND;TZID=America/New_York:20230828T110000
DTSTAMP:20260422T182030
CREATED:20220301T013856Z
LAST-MODIFIED:20250101T175615Z
UID:10010099-1693216800-1693220400@leisureknoll.org
SUMMARY:Slimnastics
DESCRIPTION:Recreation Hall
URL:https://leisureknoll.org/calendar/slimnastics-5/2023-08-28/
END:VEVENT
BEGIN:VEVENT
DTSTART;TZID=America/New_York:20230828T110000
DTEND;TZID=America/New_York:20230828T120000
DTSTAMP:20260422T182030
CREATED:20221202T030602Z
LAST-MODIFIED:20260109T025858Z
UID:10009977-1693220400-1693224000@leisureknoll.org
SUMMARY:Ping Pong
DESCRIPTION:11am @ Recreation Hall
URL:https://leisureknoll.org/calendar/ping-pong/2023-08-28/
END:VEVENT
BEGIN:VEVENT
DTSTART;TZID=America/New_York:20230828T120000
DTEND;TZID=America/New_York:20230828T133000
DTSTAMP:20260422T182030
CREATED:20230630T031224Z
LAST-MODIFIED:20260109T030045Z
UID:10012696-1693224000-1693229400@leisureknoll.org
SUMMARY:Canasta
DESCRIPTION:12pm @ Craft Center
URL:https://leisureknoll.org/calendar/canasta/2023-08-28/
END:VEVENT
BEGIN:VEVENT
DTSTART;TZID=America/New_York:20230828T123000
DTEND;TZID=America/New_York:20230828T143000
DTSTAMP:20260422T182030
CREATED:20210702T030121Z
LAST-MODIFIED:20230106T200950Z
UID:10010169-1693225800-1693233000@leisureknoll.org
SUMMARY:Mah Jongg
DESCRIPTION:@ Craft Center
URL:https://leisureknoll.org/calendar/mah-jongg-5/2023-08-28/
END:VEVENT
BEGIN:VEVENT
DTSTART;TZID=America/New_York:20230828T130000
DTEND;TZID=America/New_York:20230828T150000
DTSTAMP:20260422T182030
CREATED:20210416T003503Z
LAST-MODIFIED:20240929T182527Z
UID:10010391-1693227600-1693234800@leisureknoll.org
SUMMARY:Billiards
DESCRIPTION:Recreation Center\, every day except Sunday
URL:https://leisureknoll.org/calendar/billiards/2023-08-28/
END:VEVENT
BEGIN:VEVENT
DTSTART;TZID=America/New_York:20230828T143000
DTEND;TZID=America/New_York:20230828T160000
DTSTAMP:20260422T182030
CREATED:20230630T031357Z
LAST-MODIFIED:20231128T012532Z
UID:10012791-1693233000-1693238400@leisureknoll.org
SUMMARY:Pickleball Club
DESCRIPTION:@ 2:30pm
URL:https://leisureknoll.org/calendar/pickleball-club/2023-08-28/
END:VEVENT
BEGIN:VEVENT
DTSTART;TZID=America/New_York:20230828T180000
DTEND;TZID=America/New_York:20230828T200000
DTSTAMP:20260422T182031
CREATED:20210702T034900Z
LAST-MODIFIED:20240707T191247Z
UID:10016812-1693245600-1693252800@leisureknoll.org
SUMMARY:Ladies Poker
DESCRIPTION:Craft Center
URL:https://leisureknoll.org/calendar/ladies-poker-2021-09-13/2023-08-28/
END:VEVENT
BEGIN:VEVENT
DTSTART;VALUE=DATE:20230829
DTEND;VALUE=DATE:20230830
DTSTAMP:20260422T182031
CREATED:20210416T001302Z
LAST-MODIFIED:20251215T033850Z
UID:10009526-1693267200-1693353599@leisureknoll.org
SUMMARY:Garbage Pick Up
DESCRIPTION:GARBAGE P/U -WINTERS BROS. WASTE – 631-491-4923\nGarbage pick up Tues. & Fri. except holidays Confirm Bulk P/U (on Thursday) with Winters Brothers
URL:https://leisureknoll.org/calendar/garbage-pick-up-fri/2023-08-29/
END:VEVENT
BEGIN:VEVENT
DTSTART;TZID=America/New_York:20230829T090000
DTEND;TZID=America/New_York:20230829T110000
DTSTAMP:20260422T182031
CREATED:20210416T003116Z
LAST-MODIFIED:20260109T025549Z
UID:10009786-1693299600-1693306800@leisureknoll.org
SUMMARY:Wood Shop
DESCRIPTION:
URL:https://leisureknoll.org/calendar/wood-shop/2023-08-29/
END:VEVENT
BEGIN:VEVENT
DTSTART;TZID=America/New_York:20230829T093000
DTEND;TZID=America/New_York:20230829T103000
DTSTAMP:20260422T182031
CREATED:20230312T040136Z
LAST-MODIFIED:20231128T012323Z
UID:10012471-1693301400-1693305000@leisureknoll.org
SUMMARY:Ladies Tennis
DESCRIPTION:
URL:https://leisureknoll.org/calendar/ladies-tennis-4/2023-08-29/
END:VEVENT
END:VCALENDAR