BEGIN:VCALENDAR
VERSION:2.0
PRODID:-//Leisure Knoll - ECPv6.15.20//NONSGML v1.0//EN
CALSCALE:GREGORIAN
METHOD:PUBLISH
X-WR-CALNAME:Leisure Knoll
X-ORIGINAL-URL:https://leisureknoll.org
X-WR-CALDESC:Events for Leisure Knoll
REFRESH-INTERVAL;VALUE=DURATION:PT1H
X-Robots-Tag:noindex
X-PUBLISHED-TTL:PT1H
BEGIN:VTIMEZONE
TZID:America/New_York
BEGIN:DAYLIGHT
TZOFFSETFROM:-0500
TZOFFSETTO:-0400
TZNAME:EDT
DTSTART:20200308T070000
END:DAYLIGHT
BEGIN:STANDARD
TZOFFSETFROM:-0400
TZOFFSETTO:-0500
TZNAME:EST
DTSTART:20201101T060000
END:STANDARD
BEGIN:DAYLIGHT
TZOFFSETFROM:-0500
TZOFFSETTO:-0400
TZNAME:EDT
DTSTART:20210314T070000
END:DAYLIGHT
BEGIN:STANDARD
TZOFFSETFROM:-0400
TZOFFSETTO:-0500
TZNAME:EST
DTSTART:20211107T060000
END:STANDARD
BEGIN:DAYLIGHT
TZOFFSETFROM:-0500
TZOFFSETTO:-0400
TZNAME:EDT
DTSTART:20220313T070000
END:DAYLIGHT
BEGIN:STANDARD
TZOFFSETFROM:-0400
TZOFFSETTO:-0500
TZNAME:EST
DTSTART:20221106T060000
END:STANDARD
END:VTIMEZONE
BEGIN:VEVENT
DTSTART;TZID=America/New_York:20210505T113000
DTEND;TZID=America/New_York:20210505T143000
DTSTAMP:20260425T211454
CREATED:20210416T005344Z
LAST-MODIFIED:20210901T023024Z
UID:10005980-1620214200-1620225000@leisureknoll.org
SUMMARY:Men's Bowling
DESCRIPTION:
URL:https://leisureknoll.org/calendar/mens-bowling/2021-05-05/
END:VEVENT
BEGIN:VEVENT
DTSTART;TZID=America/New_York:20210505T130000
DTEND;TZID=America/New_York:20210505T150000
DTSTAMP:20260425T211454
CREATED:20210416T003503Z
LAST-MODIFIED:20240929T182527Z
UID:10005376-1620219600-1620226800@leisureknoll.org
SUMMARY:Billiards
DESCRIPTION:Recreation Center\, every day except Sunday
URL:https://leisureknoll.org/calendar/billiards/2021-05-05/
END:VEVENT
BEGIN:VEVENT
DTSTART;TZID=America/New_York:20210505T130000
DTEND;TZID=America/New_York:20210505T150000
DTSTAMP:20260425T211454
CREATED:20210416T005743Z
LAST-MODIFIED:20260109T030323Z
UID:10006009-1620219600-1620226800@leisureknoll.org
SUMMARY:Bridge
DESCRIPTION:Craft Center
URL:https://leisureknoll.org/calendar/bridge/2021-05-05/
END:VEVENT
BEGIN:VEVENT
DTSTART;TZID=America/New_York:20210505T183000
DTEND;TZID=America/New_York:20210505T203000
DTSTAMP:20260425T211454
CREATED:20210416T005957Z
LAST-MODIFIED:20220909T144628Z
UID:10006091-1620239400-1620246600@leisureknoll.org
SUMMARY:Men's Poker
DESCRIPTION:Craft Center
URL:https://leisureknoll.org/calendar/mens-poker/2021-05-05/
END:VEVENT
BEGIN:VEVENT
DTSTART;TZID=America/New_York:20210505T184500
DTEND;TZID=America/New_York:20210505T204500
DTSTAMP:20260425T211454
CREATED:20210505T022532Z
LAST-MODIFIED:20260109T031152Z
UID:10006345-1620240300-1620247500@leisureknoll.org
SUMMARY:Dominoes
DESCRIPTION:Recreation Hall
URL:https://leisureknoll.org/calendar/dominoes/2021-05-05/
END:VEVENT
BEGIN:VEVENT
DTSTART;TZID=America/New_York:20210506T090000
DTEND;TZID=America/New_York:20210506T110000
DTSTAMP:20260425T211454
CREATED:20210416T003116Z
LAST-MODIFIED:20260109T025549Z
UID:10004955-1620291600-1620298800@leisureknoll.org
SUMMARY:Wood Shop
DESCRIPTION:
URL:https://leisureknoll.org/calendar/wood-shop/2021-05-06/
END:VEVENT
BEGIN:VEVENT
DTSTART;TZID=America/New_York:20210506T100000
DTEND;TZID=America/New_York:20210506T130000
DTSTAMP:20260425T211454
CREATED:20210415T031404Z
LAST-MODIFIED:20240114T192421Z
UID:10004435-1620295200-1620306000@leisureknoll.org
SUMMARY:Bus to Port Jefferson Station
DESCRIPTION:Bus to Port Jefferson Station\, Meat Farms\, Shop Rite\, TJ Max shopping center. \nLeaves Leisure Knoll at 10:00 am.
URL:https://leisureknoll.org/calendar/bus-to-port-jefferson-station/2021-05-06/
END:VEVENT
BEGIN:VEVENT
DTSTART;TZID=America/New_York:20210506T130000
DTEND;TZID=America/New_York:20210506T150000
DTSTAMP:20260425T211454
CREATED:20210416T003503Z
LAST-MODIFIED:20240929T182527Z
UID:10005377-1620306000-1620313200@leisureknoll.org
SUMMARY:Billiards
DESCRIPTION:Recreation Center\, every day except Sunday
URL:https://leisureknoll.org/calendar/billiards/2021-05-06/
END:VEVENT
BEGIN:VEVENT
DTSTART;TZID=America/New_York:20210506T130000
DTEND;TZID=America/New_York:20210506T150000
DTSTAMP:20260425T211454
CREATED:20210416T010104Z
LAST-MODIFIED:20230106T202026Z
UID:10006166-1620306000-1620313200@leisureknoll.org
SUMMARY:Bridge/Canasta
DESCRIPTION:Craft Center
URL:https://leisureknoll.org/calendar/bridge-canasta/2021-05-06/
END:VEVENT
BEGIN:VEVENT
DTSTART;TZID=America/New_York:20210506T140000
DTEND;TZID=America/New_York:20210506T160000
DTSTAMP:20260425T211455
CREATED:20210416T010210Z
LAST-MODIFIED:20220508T162402Z
UID:10006245-1620309600-1620316800@leisureknoll.org
SUMMARY:Knitting & Crochet
DESCRIPTION:Craft Center
URL:https://leisureknoll.org/calendar/knitting-crochet/2021-05-06/
END:VEVENT
BEGIN:VEVENT
DTSTART;VALUE=DATE:20210507
DTEND;VALUE=DATE:20210508
DTSTAMP:20260425T211455
CREATED:20210416T001302Z
LAST-MODIFIED:20251215T033850Z
UID:10004631-1620345600-1620431999@leisureknoll.org
SUMMARY:Garbage Pick Up
DESCRIPTION:GARBAGE P/U -WINTERS BROS. WASTE – 631-491-4923\nGarbage pick up Tues. & Fri. except holidays Confirm Bulk P/U (on Thursday) with Winters Brothers
URL:https://leisureknoll.org/calendar/garbage-pick-up-fri/2021-05-07/
END:VEVENT
BEGIN:VEVENT
DTSTART;TZID=America/New_York:20210507T090000
DTEND;TZID=America/New_York:20210507T110000
DTSTAMP:20260425T211455
CREATED:20210416T003116Z
LAST-MODIFIED:20260109T025549Z
UID:10004956-1620378000-1620385200@leisureknoll.org
SUMMARY:Wood Shop
DESCRIPTION:
URL:https://leisureknoll.org/calendar/wood-shop/2021-05-07/
END:VEVENT
BEGIN:VEVENT
DTSTART;TZID=America/New_York:20210507T090000
DTEND;TZID=America/New_York:20210507T110000
DTSTAMP:20260425T211455
CREATED:20210505T020314Z
LAST-MODIFIED:20210505T020916Z
UID:10006328-1620378000-1620385200@leisureknoll.org
SUMMARY:Bocce Sign Up
DESCRIPTION:In the Gazebo
URL:https://leisureknoll.org/calendar/bocce-sign-up/
END:VEVENT
BEGIN:VEVENT
DTSTART;TZID=America/New_York:20210507T130000
DTEND;TZID=America/New_York:20210507T150000
DTSTAMP:20260425T211455
CREATED:20210416T003503Z
LAST-MODIFIED:20240929T182527Z
UID:10005378-1620392400-1620399600@leisureknoll.org
SUMMARY:Billiards
DESCRIPTION:Recreation Center\, every day except Sunday
URL:https://leisureknoll.org/calendar/billiards/2021-05-07/
END:VEVENT
BEGIN:VEVENT
DTSTART;TZID=America/New_York:20210507T170000
DTEND;TZID=America/New_York:20210507T190000
DTSTAMP:20260425T211455
CREATED:20210505T020455Z
LAST-MODIFIED:20210505T020857Z
UID:10006329-1620406800-1620414000@leisureknoll.org
SUMMARY:Bocce Sign Up
DESCRIPTION:In the Gazebo
URL:https://leisureknoll.org/calendar/bocce-sign-up-2/
END:VEVENT
BEGIN:VEVENT
DTSTART;TZID=America/New_York:20210507T183000
DTEND;TZID=America/New_York:20210507T203000
DTSTAMP:20260425T211455
CREATED:20210416T010322Z
LAST-MODIFIED:20210929T221737Z
UID:10006302-1620412200-1620419400@leisureknoll.org
SUMMARY:Texas Hold'em
DESCRIPTION:Craft Center
URL:https://leisureknoll.org/calendar/texas-holdem/2021-05-07/
END:VEVENT
BEGIN:VEVENT
DTSTART;TZID=America/New_York:20210508T103000
DTEND;TZID=America/New_York:20210508T233000
DTSTAMP:20260425T211455
CREATED:20210505T020832Z
LAST-MODIFIED:20210505T020832Z
UID:10006330-1620469800-1620516600@leisureknoll.org
SUMMARY:Memorial Day Ticket Sale
DESCRIPTION:By Entertainment Committee at the Craft Center
URL:https://leisureknoll.org/calendar/memorial-day-ticket-sale/
END:VEVENT
BEGIN:VEVENT
DTSTART;TZID=America/New_York:20210508T110000
DTEND;TZID=America/New_York:20210508T130000
DTSTAMP:20260425T211455
CREATED:20210416T002452Z
LAST-MODIFIED:20210702T025239Z
UID:10004908-1620471600-1620478800@leisureknoll.org
SUMMARY:Leisure Readers
DESCRIPTION:11am RC
URL:https://leisureknoll.org/calendar/leisure-readers/2021-05-08/
END:VEVENT
BEGIN:VEVENT
DTSTART;TZID=America/New_York:20210508T130000
DTEND;TZID=America/New_York:20210508T150000
DTSTAMP:20260425T211455
CREATED:20210416T003503Z
LAST-MODIFIED:20240929T182527Z
UID:10005379-1620478800-1620486000@leisureknoll.org
SUMMARY:Billiards
DESCRIPTION:Recreation Center\, every day except Sunday
URL:https://leisureknoll.org/calendar/billiards/2021-05-08/
END:VEVENT
BEGIN:VEVENT
DTSTART;VALUE=DATE:20210509
DTEND;VALUE=DATE:20210510
DTSTAMP:20260425T211455
CREATED:20210505T022912Z
LAST-MODIFIED:20210505T022912Z
UID:10006506-1620518400-1620604799@leisureknoll.org
SUMMARY:Mother's Day
DESCRIPTION:
URL:https://leisureknoll.org/calendar/mothers-day/
END:VEVENT
BEGIN:VEVENT
DTSTART;VALUE=DATE:20210509
DTEND;VALUE=DATE:20210516
DTSTAMP:20260425T211455
CREATED:20210416T000056Z
LAST-MODIFIED:20220508T163151Z
UID:10004532-1620518400-1621123199@leisureknoll.org
SUMMARY:First Bus Stop #25
DESCRIPTION:The bus will begin at stop #25 and proceed to stop #1.
URL:https://leisureknoll.org/calendar/first-bus-stop-25/2021-05-09/
END:VEVENT
BEGIN:VEVENT
DTSTART;TZID=America/New_York:20210510T090000
DTEND;TZID=America/New_York:20210510T110000
DTSTAMP:20260425T211455
CREATED:20210416T003116Z
LAST-MODIFIED:20260109T025549Z
UID:10004957-1620637200-1620644400@leisureknoll.org
SUMMARY:Wood Shop
DESCRIPTION:
URL:https://leisureknoll.org/calendar/wood-shop/2021-05-10/
END:VEVENT
BEGIN:VEVENT
DTSTART;TZID=America/New_York:20210510T130000
DTEND;TZID=America/New_York:20210510T150000
DTSTAMP:20260425T211455
CREATED:20210416T003503Z
LAST-MODIFIED:20240929T182527Z
UID:10005380-1620651600-1620658800@leisureknoll.org
SUMMARY:Billiards
DESCRIPTION:Recreation Center\, every day except Sunday
URL:https://leisureknoll.org/calendar/billiards/2021-05-10/
END:VEVENT
BEGIN:VEVENT
DTSTART;TZID=America/New_York:20210510T130000
DTEND;TZID=America/New_York:20210510T150000
DTSTAMP:20260425T211455
CREATED:20210416T004009Z
LAST-MODIFIED:20221002T015425Z
UID:10005852-1620651600-1620658800@leisureknoll.org
SUMMARY:Chicago Bridge
DESCRIPTION:Rec Hall
URL:https://leisureknoll.org/calendar/chicago-bridge/2021-05-10/
END:VEVENT
BEGIN:VEVENT
DTSTART;VALUE=DATE:20210511
DTEND;VALUE=DATE:20210512
DTSTAMP:20260425T211455
CREATED:20210416T001050Z
LAST-MODIFIED:20210416T001050Z
UID:10004591-1620691200-1620777599@leisureknoll.org
SUMMARY:Garbage Pick Up
DESCRIPTION:GARBAGE P/U -WINTERS BROS. WASTE – 631-491-4923\nGarbage pick up Tues. & Fri. except holidays Confirm Bulk P/U (on Thursday) with Winters Brothers
URL:https://leisureknoll.org/calendar/garbage-pick-up-tues/2021-05-11/
END:VEVENT
BEGIN:VEVENT
DTSTART;VALUE=DATE:20210511
DTEND;VALUE=DATE:20210512
DTSTAMP:20260425T211455
CREATED:20210416T001302Z
LAST-MODIFIED:20251215T033850Z
UID:10004632-1620691200-1620777599@leisureknoll.org
SUMMARY:Garbage Pick Up
DESCRIPTION:GARBAGE P/U -WINTERS BROS. WASTE – 631-491-4923\nGarbage pick up Tues. & Fri. except holidays Confirm Bulk P/U (on Thursday) with Winters Brothers
URL:https://leisureknoll.org/calendar/garbage-pick-up-fri/2021-05-11/
END:VEVENT
BEGIN:VEVENT
DTSTART;TZID=America/New_York:20210511T090000
DTEND;TZID=America/New_York:20210511T110000
DTSTAMP:20260425T211455
CREATED:20210416T003116Z
LAST-MODIFIED:20260109T025549Z
UID:10004958-1620723600-1620730800@leisureknoll.org
SUMMARY:Wood Shop
DESCRIPTION:
URL:https://leisureknoll.org/calendar/wood-shop/2021-05-11/
END:VEVENT
BEGIN:VEVENT
DTSTART;TZID=America/New_York:20210511T123000
DTEND;TZID=America/New_York:20210511T163000
DTSTAMP:20260425T211455
CREATED:20210415T030726Z
LAST-MODIFIED:20240114T192346Z
UID:10004278-1620736200-1620750600@leisureknoll.org
SUMMARY:Bus to Yaphank & Middle Island
DESCRIPTION:Bus to Wal-Mart Yaphank/King Kullen Middle Island shopping center. \nLeaves Leisure Knoll at 12:30pm and returns 4:30pm.
URL:https://leisureknoll.org/calendar/bus-to-middle-island/2021-05-11/
END:VEVENT
BEGIN:VEVENT
DTSTART;TZID=America/New_York:20210511T130000
DTEND;TZID=America/New_York:20210511T140000
DTSTAMP:20260425T211455
CREATED:20210505T021655Z
LAST-MODIFIED:20210629T015937Z
UID:10006340-1620738000-1620741600@leisureknoll.org
SUMMARY:Architectural Committee Meeting
DESCRIPTION:At the Craft Center. \nMasks Required. \nMore details here.
URL:https://leisureknoll.org/calendar/architectural-committee-meeting/2021-05-11/
END:VEVENT
BEGIN:VEVENT
DTSTART;TZID=America/New_York:20210511T130000
DTEND;TZID=America/New_York:20210511T150000
DTSTAMP:20260425T211455
CREATED:20210416T003503Z
LAST-MODIFIED:20240929T182527Z
UID:10005381-1620738000-1620745200@leisureknoll.org
SUMMARY:Billiards
DESCRIPTION:Recreation Center\, every day except Sunday
URL:https://leisureknoll.org/calendar/billiards/2021-05-11/
END:VEVENT
END:VCALENDAR