BEGIN:VCALENDAR
VERSION:2.0
PRODID:-//Leisure Knoll - ECPv6.15.20//NONSGML v1.0//EN
CALSCALE:GREGORIAN
METHOD:PUBLISH
X-WR-CALNAME:Leisure Knoll
X-ORIGINAL-URL:https://leisureknoll.org
X-WR-CALDESC:Events for Leisure Knoll
REFRESH-INTERVAL;VALUE=DURATION:PT1H
X-Robots-Tag:noindex
X-PUBLISHED-TTL:PT1H
BEGIN:VTIMEZONE
TZID:America/New_York
BEGIN:DAYLIGHT
TZOFFSETFROM:-0500
TZOFFSETTO:-0400
TZNAME:EDT
DTSTART:20220313T070000
END:DAYLIGHT
BEGIN:STANDARD
TZOFFSETFROM:-0400
TZOFFSETTO:-0500
TZNAME:EST
DTSTART:20221106T060000
END:STANDARD
BEGIN:DAYLIGHT
TZOFFSETFROM:-0500
TZOFFSETTO:-0400
TZNAME:EDT
DTSTART:20230312T070000
END:DAYLIGHT
BEGIN:STANDARD
TZOFFSETFROM:-0400
TZOFFSETTO:-0500
TZNAME:EST
DTSTART:20231105T060000
END:STANDARD
BEGIN:DAYLIGHT
TZOFFSETFROM:-0500
TZOFFSETTO:-0400
TZNAME:EDT
DTSTART:20240310T070000
END:DAYLIGHT
BEGIN:STANDARD
TZOFFSETFROM:-0400
TZOFFSETTO:-0500
TZNAME:EST
DTSTART:20241103T060000
END:STANDARD
END:VTIMEZONE
BEGIN:VEVENT
DTSTART;TZID=America/New_York:20230724T110000
DTEND;TZID=America/New_York:20230724T120000
DTSTAMP:20260423T071942
CREATED:20221202T030602Z
LAST-MODIFIED:20260109T025858Z
UID:10009962-1690196400-1690200000@leisureknoll.org
SUMMARY:Ping Pong
DESCRIPTION:11am @ Recreation Hall
URL:https://leisureknoll.org/calendar/ping-pong/2023-07-24/
END:VEVENT
BEGIN:VEVENT
DTSTART;TZID=America/New_York:20230724T100000
DTEND;TZID=America/New_York:20230724T110000
DTSTAMP:20260423T071942
CREATED:20220301T013856Z
LAST-MODIFIED:20250101T175615Z
UID:10010089-1690192800-1690196400@leisureknoll.org
SUMMARY:Slimnastics
DESCRIPTION:Recreation Hall
URL:https://leisureknoll.org/calendar/slimnastics-5/2023-07-24/
END:VEVENT
BEGIN:VEVENT
DTSTART;TZID=America/New_York:20230724T090000
DTEND;TZID=America/New_York:20230724T110000
DTSTAMP:20260423T071942
CREATED:20210416T003116Z
LAST-MODIFIED:20260109T025549Z
UID:10009760-1690189200-1690196400@leisureknoll.org
SUMMARY:Wood Shop
DESCRIPTION:
URL:https://leisureknoll.org/calendar/wood-shop/2023-07-24/
END:VEVENT
BEGIN:VEVENT
DTSTART;TZID=America/New_York:20230724T090000
DTEND;TZID=America/New_York:20230724T100000
DTSTAMP:20260423T071942
CREATED:20230312T035839Z
LAST-MODIFIED:20231128T012444Z
UID:10012178-1690189200-1690192800@leisureknoll.org
SUMMARY:Tennis Club
DESCRIPTION:
URL:https://leisureknoll.org/calendar/tennis-club/2023-07-24/
END:VEVENT
BEGIN:VEVENT
DTSTART;TZID=America/New_York:20230722T130000
DTEND;TZID=America/New_York:20230722T150000
DTSTAMP:20260423T071942
CREATED:20210416T003503Z
LAST-MODIFIED:20240929T182527Z
UID:10010360-1690030800-1690038000@leisureknoll.org
SUMMARY:Billiards
DESCRIPTION:Recreation Center\, every day except Sunday
URL:https://leisureknoll.org/calendar/billiards/2023-07-22/
END:VEVENT
BEGIN:VEVENT
DTSTART;TZID=America/New_York:20230722T090000
DTEND;TZID=America/New_York:20230722T100000
DTSTAMP:20260423T071942
CREATED:20230312T035839Z
LAST-MODIFIED:20231128T012444Z
UID:10012177-1690016400-1690020000@leisureknoll.org
SUMMARY:Tennis Club
DESCRIPTION:
URL:https://leisureknoll.org/calendar/tennis-club/2023-07-22/
END:VEVENT
BEGIN:VEVENT
DTSTART;TZID=America/New_York:20230721T190000
DTEND;TZID=America/New_York:20230721T210000
DTSTAMP:20260423T071942
CREATED:20230209T024948Z
LAST-MODIFIED:20230901T001345Z
UID:10011416-1689966000-1689973200@leisureknoll.org
SUMMARY:Corn Hole League
DESCRIPTION:7pm @ Rec Hall
URL:https://leisureknoll.org/calendar/corn-hole-league-2/2023-07-21/
END:VEVENT
BEGIN:VEVENT
DTSTART;TZID=America/New_York:20230721T180000
DTEND;TZID=America/New_York:20230721T200000
DTSTAMP:20260423T071942
CREATED:20221204T045026Z
LAST-MODIFIED:20221204T045026Z
UID:10009434-1689962400-1689969600@leisureknoll.org
SUMMARY:Texas Hold'em
DESCRIPTION:6pm @ Craft Center
URL:https://leisureknoll.org/calendar/texas-holdem-2/2023-07-21/
END:VEVENT
BEGIN:VEVENT
DTSTART;TZID=America/New_York:20230721T143000
DTEND;TZID=America/New_York:20230721T160000
DTSTAMP:20260423T071942
CREATED:20230630T031357Z
LAST-MODIFIED:20231128T012532Z
UID:10012775-1689949800-1689955200@leisureknoll.org
SUMMARY:Pickleball Club
DESCRIPTION:@ 2:30pm
URL:https://leisureknoll.org/calendar/pickleball-club/2023-07-21/
END:VEVENT
BEGIN:VEVENT
DTSTART;TZID=America/New_York:20230721T130000
DTEND;TZID=America/New_York:20230721T150000
DTSTAMP:20260423T071942
CREATED:20220602T022125Z
LAST-MODIFIED:20241106T040502Z
UID:10011520-1689944400-1689951600@leisureknoll.org
SUMMARY:Women's Card Game
DESCRIPTION:Craft Center @ 1pm
URL:https://leisureknoll.org/calendar/womens-card-game/2023-07-21/
END:VEVENT
BEGIN:VEVENT
DTSTART;TZID=America/New_York:20230721T130000
DTEND;TZID=America/New_York:20230721T150000
DTSTAMP:20260423T071942
CREATED:20210416T003503Z
LAST-MODIFIED:20240929T182527Z
UID:10010359-1689944400-1689951600@leisureknoll.org
SUMMARY:Billiards
DESCRIPTION:Recreation Center\, every day except Sunday
URL:https://leisureknoll.org/calendar/billiards/2023-07-21/
END:VEVENT
BEGIN:VEVENT
DTSTART;TZID=America/New_York:20230721T093000
DTEND;TZID=America/New_York:20230721T103000
DTSTAMP:20260423T071942
CREATED:20211209T023315Z
LAST-MODIFIED:20250101T175700Z
UID:10011468-1689931800-1689935400@leisureknoll.org
SUMMARY:Slimnastics
DESCRIPTION:9:30am @ Craft Center
URL:https://leisureknoll.org/calendar/slimnastics-4/2023-07-21/
END:VEVENT
BEGIN:VEVENT
DTSTART;TZID=America/New_York:20230721T090000
DTEND;TZID=America/New_York:20230721T110000
DTSTAMP:20260423T071942
CREATED:20210416T003116Z
LAST-MODIFIED:20260109T025549Z
UID:10009759-1689930000-1689937200@leisureknoll.org
SUMMARY:Wood Shop
DESCRIPTION:
URL:https://leisureknoll.org/calendar/wood-shop/2023-07-21/
END:VEVENT
BEGIN:VEVENT
DTSTART;TZID=America/New_York:20230721T090000
DTEND;TZID=America/New_York:20230721T100000
DTSTAMP:20260423T071942
CREATED:20230312T035839Z
LAST-MODIFIED:20231128T012444Z
UID:10012176-1689930000-1689933600@leisureknoll.org
SUMMARY:Tennis Club
DESCRIPTION:
URL:https://leisureknoll.org/calendar/tennis-club/2023-07-21/
END:VEVENT
BEGIN:VEVENT
DTSTART;VALUE=DATE:20230721
DTEND;VALUE=DATE:20230722
DTSTAMP:20260423T071942
CREATED:20210416T001302Z
LAST-MODIFIED:20251215T033850Z
UID:10009515-1689897600-1689983999@leisureknoll.org
SUMMARY:Garbage Pick Up
DESCRIPTION:GARBAGE P/U -WINTERS BROS. WASTE – 631-491-4923\nGarbage pick up Tues. & Fri. except holidays Confirm Bulk P/U (on Thursday) with Winters Brothers
URL:https://leisureknoll.org/calendar/garbage-pick-up-fri/2023-07-21/
END:VEVENT
BEGIN:VEVENT
DTSTART;TZID=America/New_York:20230720T190000
DTEND;TZID=America/New_York:20230720T210000
DTSTAMP:20260423T071942
CREATED:20230312T032808Z
LAST-MODIFIED:20231104T195522Z
UID:10011359-1689879600-1689886800@leisureknoll.org
SUMMARY:Game Night
DESCRIPTION:BYO \n@ 7pm
URL:https://leisureknoll.org/calendar/game-night-2-2/2023-07-20/
END:VEVENT
BEGIN:VEVENT
DTSTART;TZID=America/New_York:20230720T183000
DTEND;TZID=America/New_York:20230720T203000
DTSTAMP:20260423T071942
CREATED:20230630T032653Z
LAST-MODIFIED:20230630T032653Z
UID:10011255-1689877800-1689885000@leisureknoll.org
SUMMARY:Mixed Games Poker
DESCRIPTION:Craft Center
URL:https://leisureknoll.org/calendar/ladies-poker-2-2/2023-07-20/
END:VEVENT
BEGIN:VEVENT
DTSTART;TZID=America/New_York:20230720T183000
DTEND;TZID=America/New_York:20230720T203000
DTSTAMP:20260423T071942
CREATED:20210702T035015Z
LAST-MODIFIED:20230106T202125Z
UID:10011307-1689877800-1689885000@leisureknoll.org
SUMMARY:Men's Low Stakes Poker
DESCRIPTION:
URL:https://leisureknoll.org/calendar/mens-low-stakes-poker/2023-07-20/
END:VEVENT
BEGIN:VEVENT
DTSTART;TZID=America/New_York:20230720T130000
DTEND;TZID=America/New_York:20230720T150000
DTSTAMP:20260423T071942
CREATED:20210416T010104Z
LAST-MODIFIED:20230106T202026Z
UID:10011203-1689858000-1689865200@leisureknoll.org
SUMMARY:Bridge/Canasta
DESCRIPTION:Craft Center
URL:https://leisureknoll.org/calendar/bridge-canasta/2023-07-20/
END:VEVENT
BEGIN:VEVENT
DTSTART;TZID=America/New_York:20230720T130000
DTEND;TZID=America/New_York:20230720T150000
DTSTAMP:20260423T071942
CREATED:20210416T003503Z
LAST-MODIFIED:20240929T182527Z
UID:10010358-1689858000-1689865200@leisureknoll.org
SUMMARY:Billiards
DESCRIPTION:Recreation Center\, every day except Sunday
URL:https://leisureknoll.org/calendar/billiards/2023-07-20/
END:VEVENT
BEGIN:VEVENT
DTSTART;TZID=America/New_York:20230720T110000
DTEND;TZID=America/New_York:20230720T120000
DTSTAMP:20260423T071942
CREATED:20221202T030602Z
LAST-MODIFIED:20260109T025858Z
UID:10009961-1689850800-1689854400@leisureknoll.org
SUMMARY:Ping Pong
DESCRIPTION:11am @ Recreation Hall
URL:https://leisureknoll.org/calendar/ping-pong/2023-07-20/
END:VEVENT
BEGIN:VEVENT
DTSTART;TZID=America/New_York:20230720T101500
DTEND;TZID=America/New_York:20230720T113000
DTSTAMP:20260423T071942
CREATED:20230312T032913Z
LAST-MODIFIED:20230312T032913Z
UID:10011151-1689848100-1689852600@leisureknoll.org
SUMMARY:Bible Study
DESCRIPTION:@ Craft Center
URL:https://leisureknoll.org/calendar/bible-study-2/2023-07-20/
END:VEVENT
BEGIN:VEVENT
DTSTART;TZID=America/New_York:20230720T100000
DTEND;TZID=America/New_York:20230720T130000
DTSTAMP:20260423T071942
CREATED:20210415T031404Z
LAST-MODIFIED:20240114T192421Z
UID:10011099-1689847200-1689858000@leisureknoll.org
SUMMARY:Bus to Port Jefferson Station
DESCRIPTION:Bus to Port Jefferson Station\, Meat Farms\, Shop Rite\, TJ Max shopping center. \nLeaves Leisure Knoll at 10:00 am.
URL:https://leisureknoll.org/calendar/bus-to-port-jefferson-station/2023-07-20/
END:VEVENT
BEGIN:VEVENT
DTSTART;TZID=America/New_York:20230720T093000
DTEND;TZID=America/New_York:20230720T103000
DTSTAMP:20260423T071942
CREATED:20230312T040136Z
LAST-MODIFIED:20231128T012323Z
UID:10012460-1689845400-1689849000@leisureknoll.org
SUMMARY:Ladies Tennis
DESCRIPTION:
URL:https://leisureknoll.org/calendar/ladies-tennis-4/2023-07-20/
END:VEVENT
BEGIN:VEVENT
DTSTART;TZID=America/New_York:20230720T090000
DTEND;TZID=America/New_York:20230720T110000
DTSTAMP:20260423T071942
CREATED:20210416T003116Z
LAST-MODIFIED:20260109T025549Z
UID:10009758-1689843600-1689850800@leisureknoll.org
SUMMARY:Wood Shop
DESCRIPTION:
URL:https://leisureknoll.org/calendar/wood-shop/2023-07-20/
END:VEVENT
BEGIN:VEVENT
DTSTART;TZID=America/New_York:20230719T184500
DTEND;TZID=America/New_York:20230719T204500
DTSTAMP:20260423T071942
CREATED:20210505T022532Z
LAST-MODIFIED:20260109T031152Z
UID:10011047-1689792300-1689799500@leisureknoll.org
SUMMARY:Dominoes
DESCRIPTION:Recreation Hall
URL:https://leisureknoll.org/calendar/dominoes/2023-07-19/
END:VEVENT
BEGIN:VEVENT
DTSTART;TZID=America/New_York:20230719T180000
DTEND;TZID=America/New_York:20230719T200000
DTSTAMP:20260423T071942
CREATED:20210416T005957Z
LAST-MODIFIED:20240929T182030Z
UID:10010995-1689789600-1689796800@leisureknoll.org
SUMMARY:Men's Poker
DESCRIPTION:Craft Center
URL:https://leisureknoll.org/calendar/mens-poker-2022-08-31/2023-07-19/
END:VEVENT
BEGIN:VEVENT
DTSTART;TZID=America/New_York:20230719T143000
DTEND;TZID=America/New_York:20230719T160000
DTSTAMP:20260423T071942
CREATED:20230630T031357Z
LAST-MODIFIED:20231128T012532Z
UID:10012774-1689777000-1689782400@leisureknoll.org
SUMMARY:Pickleball Club
DESCRIPTION:@ 2:30pm
URL:https://leisureknoll.org/calendar/pickleball-club/2023-07-19/
END:VEVENT
BEGIN:VEVENT
DTSTART;TZID=America/New_York:20230719T130000
DTEND;TZID=America/New_York:20230719T150000
DTSTAMP:20260423T071942
CREATED:20230630T032412Z
LAST-MODIFIED:20230630T032412Z
UID:10012966-1689771600-1689778800@leisureknoll.org
SUMMARY:Knitting for Charity
DESCRIPTION:1pm @ Craft Center
URL:https://leisureknoll.org/calendar/knitting-for-charity-2/2023-07-19/
END:VEVENT
BEGIN:VEVENT
DTSTART;TZID=America/New_York:20230719T130000
DTEND;TZID=America/New_York:20230719T150000
DTSTAMP:20260423T071942
CREATED:20210416T005743Z
LAST-MODIFIED:20260109T030323Z
UID:10010891-1689771600-1689778800@leisureknoll.org
SUMMARY:Bridge
DESCRIPTION:Craft Center
URL:https://leisureknoll.org/calendar/bridge/2023-07-19/
END:VEVENT
END:VCALENDAR