BEGIN:VCALENDAR
VERSION:2.0
PRODID:-//Leisure Knoll - ECPv6.15.20//NONSGML v1.0//EN
CALSCALE:GREGORIAN
METHOD:PUBLISH
X-ORIGINAL-URL:https://leisureknoll.org
X-WR-CALDESC:Events for Leisure Knoll
REFRESH-INTERVAL;VALUE=DURATION:PT1H
X-Robots-Tag:noindex
X-PUBLISHED-TTL:PT1H
BEGIN:VTIMEZONE
TZID:America/New_York
BEGIN:DAYLIGHT
TZOFFSETFROM:-0500
TZOFFSETTO:-0400
TZNAME:EDT
DTSTART:20230312T070000
END:DAYLIGHT
BEGIN:STANDARD
TZOFFSETFROM:-0400
TZOFFSETTO:-0500
TZNAME:EST
DTSTART:20231105T060000
END:STANDARD
BEGIN:DAYLIGHT
TZOFFSETFROM:-0500
TZOFFSETTO:-0400
TZNAME:EDT
DTSTART:20240310T070000
END:DAYLIGHT
BEGIN:STANDARD
TZOFFSETFROM:-0400
TZOFFSETTO:-0500
TZNAME:EST
DTSTART:20241103T060000
END:STANDARD
BEGIN:DAYLIGHT
TZOFFSETFROM:-0500
TZOFFSETTO:-0400
TZNAME:EDT
DTSTART:20250309T070000
END:DAYLIGHT
BEGIN:STANDARD
TZOFFSETFROM:-0400
TZOFFSETTO:-0500
TZNAME:EST
DTSTART:20251102T060000
END:STANDARD
END:VTIMEZONE
BEGIN:VEVENT
DTSTART;TZID=America/New_York:20240723T110000
DTEND;TZID=America/New_York:20240723T120000
DTSTAMP:20260423T100554
CREATED:20221202T030602Z
LAST-MODIFIED:20260109T025858Z
UID:10013770-1721732400-1721736000@leisureknoll.org
SUMMARY:Ping Pong
DESCRIPTION:11am @ Recreation Hall
URL:https://leisureknoll.org/calendar/ping-pong/2024-07-23/
END:VEVENT
BEGIN:VEVENT
DTSTART;TZID=America/New_York:20240723T110000
DTEND;TZID=America/New_York:20240723T120000
DTSTAMP:20260423T100554
CREATED:20240707T190313Z
LAST-MODIFIED:20240804T173241Z
UID:10016712-1721732400-1721736000@leisureknoll.org
SUMMARY:Pool Aerobics
DESCRIPTION:11am
URL:https://leisureknoll.org/calendar/pool-aerobics/2024-07-23/
END:VEVENT
BEGIN:VEVENT
DTSTART;TZID=America/New_York:20240723T120000
DTEND;TZID=America/New_York:20240723T140000
DTSTAMP:20260423T100554
CREATED:20240601T015151Z
LAST-MODIFIED:20250101T175318Z
UID:10016179-1721736000-1721743200@leisureknoll.org
SUMMARY:Mah Jongg
DESCRIPTION:12pm @ Craft Center
URL:https://leisureknoll.org/calendar/mah-jongg-11/2024-07-23/
END:VEVENT
BEGIN:VEVENT
DTSTART;TZID=America/New_York:20240723T120000
DTEND;TZID=America/New_York:20240723T160000
DTSTAMP:20260423T100554
CREATED:20240707T173955Z
LAST-MODIFIED:20240707T173955Z
UID:10016693-1721736000-1721750400@leisureknoll.org
SUMMARY:Bus to Walmart/KK
DESCRIPTION:12-4pm
URL:https://leisureknoll.org/calendar/bus-to-walmart-kk/2024-07-23/
END:VEVENT
BEGIN:VEVENT
DTSTART;TZID=America/New_York:20240723T130000
DTEND;TZID=America/New_York:20240723T140000
DTSTAMP:20260423T100554
CREATED:20240505T182954Z
LAST-MODIFIED:20240707T175125Z
UID:10016708-1721739600-1721743200@leisureknoll.org
SUMMARY:Architectural Committee Meeting
DESCRIPTION:1-2pm @ Craft Center
URL:https://leisureknoll.org/calendar/architectural-committee-meeting-17/2024-07-23/
END:VEVENT
BEGIN:VEVENT
DTSTART;TZID=America/New_York:20240723T130000
DTEND;TZID=America/New_York:20240723T150000
DTSTAMP:20260423T100554
CREATED:20210416T003503Z
LAST-MODIFIED:20240929T182527Z
UID:10014015-1721739600-1721746800@leisureknoll.org
SUMMARY:Billiards
DESCRIPTION:Recreation Center\, every day except Sunday
URL:https://leisureknoll.org/calendar/billiards/2024-07-23/
END:VEVENT
BEGIN:VEVENT
DTSTART;TZID=America/New_York:20240723T130000
DTEND;TZID=America/New_York:20240723T150000
DTSTAMP:20260423T100554
CREATED:20240407T223944Z
LAST-MODIFIED:20240707T191508Z
UID:10016889-1721739600-1721746800@leisureknoll.org
SUMMARY:Mah Jongg
DESCRIPTION:1-3pm @ CC
URL:https://leisureknoll.org/calendar/mah-jongg-8/2024-07-23/
END:VEVENT
BEGIN:VEVENT
DTSTART;TZID=America/New_York:20240723T130000
DTEND;TZID=America/New_York:20240723T163000
DTSTAMP:20260423T100554
CREATED:20230312T032638Z
LAST-MODIFIED:20240929T181808Z
UID:10014336-1721739600-1721752200@leisureknoll.org
SUMMARY:Rummikub
DESCRIPTION:Craft Center \n1-4:30pm
URL:https://leisureknoll.org/calendar/rummikub-2-2/2024-07-23/
END:VEVENT
BEGIN:VEVENT
DTSTART;TZID=America/New_York:20240723T183000
DTEND;TZID=America/New_York:20240723T203000
DTSTAMP:20260423T100554
CREATED:20240114T181901Z
LAST-MODIFIED:20260109T031036Z
UID:10014389-1721759400-1721766600@leisureknoll.org
SUMMARY:Guys & Gals Poker
DESCRIPTION:
URL:https://leisureknoll.org/calendar/guys-gals-poker/2024-07-23/
END:VEVENT
BEGIN:VEVENT
DTSTART;TZID=America/New_York:20240723T183000
DTEND;TZID=America/New_York:20240723T203000
DTSTAMP:20260423T100554
CREATED:20240505T183606Z
LAST-MODIFIED:20250129T025754Z
UID:10016664-1721759400-1721766600@leisureknoll.org
SUMMARY:Trivia Club
DESCRIPTION:6:30-8:30 @ Rec Center
URL:https://leisureknoll.org/calendar/trivia-club-2/2024-07-23/
END:VEVENT
BEGIN:VEVENT
DTSTART;VALUE=DATE:20240724
DTEND;VALUE=DATE:20240725
DTSTAMP:20260423T100554
CREATED:20210416T002146Z
LAST-MODIFIED:20250607T015433Z
UID:10020544-1721779200-1721865599@leisureknoll.org
SUMMARY:Recycling - Cans & Plastic
DESCRIPTION:Cans and plastic
URL:https://leisureknoll.org/calendar/recycling-cans-plastic-2022-06-29/
END:VEVENT
BEGIN:VEVENT
DTSTART;VALUE=DATE:20240724
DTEND;VALUE=DATE:20240725
DTSTAMP:20260423T100554
CREATED:20210416T002146Z
LAST-MODIFIED:20250607T015436Z
UID:10021412-1721779200-1721865599@leisureknoll.org
SUMMARY:Recycling - Cans & Plastic
DESCRIPTION:Cans and plastic
URL:https://leisureknoll.org/calendar/recycling-cans-plastic-2022-11-02/
END:VEVENT
BEGIN:VEVENT
DTSTART;VALUE=DATE:20240724
DTEND;VALUE=DATE:20240725
DTSTAMP:20260423T100554
CREATED:20210416T002146Z
LAST-MODIFIED:20250607T015434Z
UID:10020656-1721779200-1721865599@leisureknoll.org
SUMMARY:Recycling - Cans & Plastic
DESCRIPTION:Cans and plastic
URL:https://leisureknoll.org/calendar/recycling-cans-plastic-2022-07-13/
END:VEVENT
BEGIN:VEVENT
DTSTART;VALUE=DATE:20240724
DTEND;VALUE=DATE:20240725
DTSTAMP:20260423T100554
CREATED:20210416T002146Z
LAST-MODIFIED:20250608T235413Z
UID:10021516-1721779200-1721865599@leisureknoll.org
SUMMARY:Recycling - Cans & Plastic
DESCRIPTION:Cans and plastic
URL:https://leisureknoll.org/calendar/recycling-cans-plastic-2022-11-16/
END:VEVENT
BEGIN:VEVENT
DTSTART;VALUE=DATE:20240724
DTEND;VALUE=DATE:20240725
DTSTAMP:20260423T100554
CREATED:20210416T002146Z
LAST-MODIFIED:20250608T235414Z
UID:10021619-1721779200-1721865599@leisureknoll.org
SUMMARY:Recycling - Cans & Plastic
DESCRIPTION:Cans and plastic
URL:https://leisureknoll.org/calendar/recycling-cans-plastic-2022-11-30/
END:VEVENT
BEGIN:VEVENT
DTSTART;VALUE=DATE:20240724
DTEND;VALUE=DATE:20240725
DTSTAMP:20260423T100554
CREATED:20210416T002146Z
LAST-MODIFIED:20250607T015434Z
UID:10020767-1721779200-1721865599@leisureknoll.org
SUMMARY:Recycling - Cans & Plastic
DESCRIPTION:Cans and plastic
URL:https://leisureknoll.org/calendar/recycling-cans-plastic-2022-07-27/
END:VEVENT
BEGIN:VEVENT
DTSTART;VALUE=DATE:20240724
DTEND;VALUE=DATE:20240725
DTSTAMP:20260423T100554
CREATED:20210416T002146Z
LAST-MODIFIED:20250608T235414Z
UID:10021721-1721779200-1721865599@leisureknoll.org
SUMMARY:Recycling - Cans & Plastic
DESCRIPTION:Cans and plastic
URL:https://leisureknoll.org/calendar/recycling-cans-plastic-2022-12-14/
END:VEVENT
BEGIN:VEVENT
DTSTART;VALUE=DATE:20240724
DTEND;VALUE=DATE:20240725
DTSTAMP:20260423T100554
CREATED:20210416T002146Z
LAST-MODIFIED:20250607T015435Z
UID:10020877-1721779200-1721865599@leisureknoll.org
SUMMARY:Recycling - Cans & Plastic
DESCRIPTION:Cans and plastic
URL:https://leisureknoll.org/calendar/recycling-cans-plastic-2022-08-10/
END:VEVENT
BEGIN:VEVENT
DTSTART;VALUE=DATE:20240724
DTEND;VALUE=DATE:20240725
DTSTAMP:20260423T100554
CREATED:20210416T002146Z
LAST-MODIFIED:20250608T235414Z
UID:10021822-1721779200-1721865599@leisureknoll.org
SUMMARY:Recycling - Cans & Plastic
DESCRIPTION:Cans and plastic
URL:https://leisureknoll.org/calendar/recycling-cans-plastic-2022-12-28/
END:VEVENT
BEGIN:VEVENT
DTSTART;VALUE=DATE:20240724
DTEND;VALUE=DATE:20240725
DTSTAMP:20260423T100554
CREATED:20210416T002146Z
LAST-MODIFIED:20250607T015435Z
UID:10020986-1721779200-1721865599@leisureknoll.org
SUMMARY:Recycling - Cans & Plastic
DESCRIPTION:Cans and plastic
URL:https://leisureknoll.org/calendar/recycling-cans-plastic-2022-08-24/
END:VEVENT
BEGIN:VEVENT
DTSTART;VALUE=DATE:20240724
DTEND;VALUE=DATE:20240725
DTSTAMP:20260423T100554
CREATED:20210416T002146Z
LAST-MODIFIED:20250607T015435Z
UID:10021094-1721779200-1721865599@leisureknoll.org
SUMMARY:Recycling - Cans & Plastic
DESCRIPTION:Cans and plastic
URL:https://leisureknoll.org/calendar/recycling-cans-plastic-2022-09-21/
END:VEVENT
BEGIN:VEVENT
DTSTART;VALUE=DATE:20240724
DTEND;VALUE=DATE:20240725
DTSTAMP:20260423T100554
CREATED:20210416T002146Z
LAST-MODIFIED:20250607T015435Z
UID:10021201-1721779200-1721865599@leisureknoll.org
SUMMARY:Recycling - Cans & Plastic
DESCRIPTION:Cans and plastic
URL:https://leisureknoll.org/calendar/recycling-cans-plastic-2022-10-05/
END:VEVENT
BEGIN:VEVENT
DTSTART;VALUE=DATE:20240724
DTEND;VALUE=DATE:20240725
DTSTAMP:20260423T100554
CREATED:20210416T002146Z
LAST-MODIFIED:20250607T015436Z
UID:10021307-1721779200-1721865599@leisureknoll.org
SUMMARY:Recycling - Cans & Plastic
DESCRIPTION:Cans and plastic
URL:https://leisureknoll.org/calendar/recycling-cans-plastic-2022-10-19/
END:VEVENT
BEGIN:VEVENT
DTSTART;TZID=America/New_York:20240724T090000
DTEND;TZID=America/New_York:20240724T100000
DTSTAMP:20260423T100555
CREATED:20240601T014623Z
LAST-MODIFIED:20240831T174838Z
UID:10016928-1721811600-1721815200@leisureknoll.org
SUMMARY:Tennis
DESCRIPTION:Tennis Courts @ 9am
URL:https://leisureknoll.org/calendar/tennis-4/2024-07-24/
END:VEVENT
BEGIN:VEVENT
DTSTART;TZID=America/New_York:20240724T090000
DTEND;TZID=America/New_York:20240724T110000
DTSTAMP:20260423T100555
CREATED:20210416T003116Z
LAST-MODIFIED:20260109T025549Z
UID:10013462-1721811600-1721818800@leisureknoll.org
SUMMARY:Wood Shop
DESCRIPTION:
URL:https://leisureknoll.org/calendar/wood-shop/2024-07-24/
END:VEVENT
BEGIN:VEVENT
DTSTART;TZID=America/New_York:20240724T090000
DTEND;TZID=America/New_York:20240724T110000
DTSTAMP:20260423T100555
CREATED:20240601T014455Z
LAST-MODIFIED:20240929T181535Z
UID:10015543-1721811600-1721818800@leisureknoll.org
SUMMARY:Pickleball
DESCRIPTION:Pickleball Courts @ 9am
URL:https://leisureknoll.org/calendar/pickleball/2024-07-24/
END:VEVENT
BEGIN:VEVENT
DTSTART;TZID=America/New_York:20240724T093000
DTEND;TZID=America/New_York:20240724T113000
DTSTAMP:20260423T100555
CREATED:20210901T030231Z
LAST-MODIFIED:20260109T030159Z
UID:10014494-1721813400-1721820600@leisureknoll.org
SUMMARY:Art Club
DESCRIPTION:Craft Room
URL:https://leisureknoll.org/calendar/art-club/2024-07-24/
END:VEVENT
BEGIN:VEVENT
DTSTART;TZID=America/New_York:20240724T100000
DTEND;TZID=America/New_York:20240724T110000
DTSTAMP:20260423T100555
CREATED:20220301T013856Z
LAST-MODIFIED:20250101T175615Z
UID:10013636-1721815200-1721818800@leisureknoll.org
SUMMARY:Slimnastics
DESCRIPTION:Recreation Hall
URL:https://leisureknoll.org/calendar/slimnastics-5/2024-07-24/
END:VEVENT
BEGIN:VEVENT
DTSTART;TZID=America/New_York:20240724T113000
DTEND;TZID=America/New_York:20240724T133000
DTSTAMP:20260423T100555
CREATED:20240601T020708Z
LAST-MODIFIED:20240601T020708Z
UID:10016500-1721820600-1721827800@leisureknoll.org
SUMMARY:Men's Bowling
DESCRIPTION:11:30am
URL:https://leisureknoll.org/calendar/mens-bowling-3/2024-07-24/
END:VEVENT
BEGIN:VEVENT
DTSTART;TZID=America/New_York:20240724T130000
DTEND;TZID=America/New_York:20240724T150000
DTSTAMP:20260423T100555
CREATED:20210416T003503Z
LAST-MODIFIED:20240929T182527Z
UID:10014016-1721826000-1721833200@leisureknoll.org
SUMMARY:Billiards
DESCRIPTION:Recreation Center\, every day except Sunday
URL:https://leisureknoll.org/calendar/billiards/2024-07-24/
END:VEVENT
END:VCALENDAR