BEGIN:VCALENDAR
VERSION:2.0
PRODID:-//Leisure Knoll - ECPv6.15.20//NONSGML v1.0//EN
CALSCALE:GREGORIAN
METHOD:PUBLISH
X-ORIGINAL-URL:https://leisureknoll.org
X-WR-CALDESC:Events for Leisure Knoll
REFRESH-INTERVAL;VALUE=DURATION:PT1H
X-Robots-Tag:noindex
X-PUBLISHED-TTL:PT1H
BEGIN:VTIMEZONE
TZID:America/New_York
BEGIN:DAYLIGHT
TZOFFSETFROM:-0500
TZOFFSETTO:-0400
TZNAME:EDT
DTSTART:20220313T070000
END:DAYLIGHT
BEGIN:STANDARD
TZOFFSETFROM:-0400
TZOFFSETTO:-0500
TZNAME:EST
DTSTART:20221106T060000
END:STANDARD
BEGIN:DAYLIGHT
TZOFFSETFROM:-0500
TZOFFSETTO:-0400
TZNAME:EDT
DTSTART:20230312T070000
END:DAYLIGHT
BEGIN:STANDARD
TZOFFSETFROM:-0400
TZOFFSETTO:-0500
TZNAME:EST
DTSTART:20231105T060000
END:STANDARD
BEGIN:DAYLIGHT
TZOFFSETFROM:-0500
TZOFFSETTO:-0400
TZNAME:EDT
DTSTART:20240310T070000
END:DAYLIGHT
BEGIN:STANDARD
TZOFFSETFROM:-0400
TZOFFSETTO:-0500
TZNAME:EST
DTSTART:20241103T060000
END:STANDARD
END:VTIMEZONE
BEGIN:VEVENT
DTSTART;VALUE=DATE:20230823
DTEND;VALUE=DATE:20230824
DTSTAMP:20260422T182112
CREATED:20210416T002146Z
LAST-MODIFIED:20250607T015435Z
UID:10020963-1692748800-1692835199@leisureknoll.org
SUMMARY:Recycling - Cans & Plastic
DESCRIPTION:Cans and plastic
URL:https://leisureknoll.org/calendar/recycling-cans-plastic-2022-08-24/
END:VEVENT
BEGIN:VEVENT
DTSTART;VALUE=DATE:20230823
DTEND;VALUE=DATE:20230824
DTSTAMP:20260422T182112
CREATED:20210416T002146Z
LAST-MODIFIED:20250607T015434Z
UID:10020633-1692748800-1692835199@leisureknoll.org
SUMMARY:Recycling - Cans & Plastic
DESCRIPTION:Cans and plastic
URL:https://leisureknoll.org/calendar/recycling-cans-plastic-2022-07-13/
END:VEVENT
BEGIN:VEVENT
DTSTART;VALUE=DATE:20230823
DTEND;VALUE=DATE:20230824
DTSTAMP:20260422T182112
CREATED:20210416T002146Z
LAST-MODIFIED:20250608T235413Z
UID:10021493-1692748800-1692835199@leisureknoll.org
SUMMARY:Recycling - Cans & Plastic
DESCRIPTION:Cans and plastic
URL:https://leisureknoll.org/calendar/recycling-cans-plastic-2022-11-16/
END:VEVENT
BEGIN:VEVENT
DTSTART;VALUE=DATE:20230823
DTEND;VALUE=DATE:20230824
DTSTAMP:20260422T182112
CREATED:20210416T002146Z
LAST-MODIFIED:20250607T015435Z
UID:10021178-1692748800-1692835199@leisureknoll.org
SUMMARY:Recycling - Cans & Plastic
DESCRIPTION:Cans and plastic
URL:https://leisureknoll.org/calendar/recycling-cans-plastic-2022-10-05/
END:VEVENT
BEGIN:VEVENT
DTSTART;VALUE=DATE:20230823
DTEND;VALUE=DATE:20230824
DTSTAMP:20260422T182112
CREATED:20210416T002146Z
LAST-MODIFIED:20250608T235414Z
UID:10021698-1692748800-1692835199@leisureknoll.org
SUMMARY:Recycling - Cans & Plastic
DESCRIPTION:Cans and plastic
URL:https://leisureknoll.org/calendar/recycling-cans-plastic-2022-12-14/
END:VEVENT
BEGIN:VEVENT
DTSTART;VALUE=DATE:20230823
DTEND;VALUE=DATE:20230824
DTSTAMP:20260422T182112
CREATED:20210416T002146Z
LAST-MODIFIED:20250607T015435Z
UID:10020854-1692748800-1692835199@leisureknoll.org
SUMMARY:Recycling - Cans & Plastic
DESCRIPTION:Cans and plastic
URL:https://leisureknoll.org/calendar/recycling-cans-plastic-2022-08-10/
END:VEVENT
BEGIN:VEVENT
DTSTART;VALUE=DATE:20230823
DTEND;VALUE=DATE:20230824
DTSTAMP:20260422T182112
CREATED:20210416T002146Z
LAST-MODIFIED:20250607T015433Z
UID:10020521-1692748800-1692835199@leisureknoll.org
SUMMARY:Recycling - Cans & Plastic
DESCRIPTION:Cans and plastic
URL:https://leisureknoll.org/calendar/recycling-cans-plastic-2022-06-29/
END:VEVENT
BEGIN:VEVENT
DTSTART;VALUE=DATE:20230823
DTEND;VALUE=DATE:20230824
DTSTAMP:20260422T182112
CREATED:20210416T002146Z
LAST-MODIFIED:20250607T015436Z
UID:10021389-1692748800-1692835199@leisureknoll.org
SUMMARY:Recycling - Cans & Plastic
DESCRIPTION:Cans and plastic
URL:https://leisureknoll.org/calendar/recycling-cans-plastic-2022-11-02/
END:VEVENT
BEGIN:VEVENT
DTSTART;TZID=America/New_York:20230823T090000
DTEND;TZID=America/New_York:20230823T100000
DTSTAMP:20260422T182112
CREATED:20230312T035839Z
LAST-MODIFIED:20231128T012444Z
UID:10012195-1692781200-1692784800@leisureknoll.org
SUMMARY:Tennis Club
DESCRIPTION:
URL:https://leisureknoll.org/calendar/tennis-club/2023-08-23/
END:VEVENT
BEGIN:VEVENT
DTSTART;TZID=America/New_York:20230823T090000
DTEND;TZID=America/New_York:20230823T110000
DTSTAMP:20260422T182112
CREATED:20210416T003116Z
LAST-MODIFIED:20260109T025549Z
UID:10009782-1692781200-1692788400@leisureknoll.org
SUMMARY:Wood Shop
DESCRIPTION:
URL:https://leisureknoll.org/calendar/wood-shop/2023-08-23/
END:VEVENT
BEGIN:VEVENT
DTSTART;TZID=America/New_York:20230823T093000
DTEND;TZID=America/New_York:20230823T113000
DTSTAMP:20260422T182112
CREATED:20210901T030231Z
LAST-MODIFIED:20260109T030159Z
UID:10010792-1692783000-1692790200@leisureknoll.org
SUMMARY:Art Club
DESCRIPTION:Craft Room
URL:https://leisureknoll.org/calendar/art-club/2023-08-23/
END:VEVENT
BEGIN:VEVENT
DTSTART;TZID=America/New_York:20230823T100000
DTEND;TZID=America/New_York:20230823T110000
DTSTAMP:20260422T182112
CREATED:20220301T013856Z
LAST-MODIFIED:20250101T175615Z
UID:10010098-1692784800-1692788400@leisureknoll.org
SUMMARY:Slimnastics
DESCRIPTION:Recreation Hall
URL:https://leisureknoll.org/calendar/slimnastics-5/2023-08-23/
END:VEVENT
BEGIN:VEVENT
DTSTART;TZID=America/New_York:20230823T113000
DTEND;TZID=America/New_York:20230823T143000
DTSTAMP:20260422T182112
CREATED:20230617T023550Z
LAST-MODIFIED:20230617T023550Z
UID:10010844-1692790200-1692801000@leisureknoll.org
SUMMARY:Men's Bowling
DESCRIPTION:@ 11:30am
URL:https://leisureknoll.org/calendar/mens-bowling-2021-09-15-2/2023-08-23/
END:VEVENT
BEGIN:VEVENT
DTSTART;TZID=America/New_York:20230823T130000
DTEND;TZID=America/New_York:20230823T150000
DTSTAMP:20260422T182112
CREATED:20210416T003503Z
LAST-MODIFIED:20240929T182527Z
UID:10010387-1692795600-1692802800@leisureknoll.org
SUMMARY:Billiards
DESCRIPTION:Recreation Center\, every day except Sunday
URL:https://leisureknoll.org/calendar/billiards/2023-08-23/
END:VEVENT
BEGIN:VEVENT
DTSTART;TZID=America/New_York:20230823T130000
DTEND;TZID=America/New_York:20230823T150000
DTSTAMP:20260422T182112
CREATED:20210416T005743Z
LAST-MODIFIED:20260109T030323Z
UID:10010896-1692795600-1692802800@leisureknoll.org
SUMMARY:Bridge
DESCRIPTION:Craft Center
URL:https://leisureknoll.org/calendar/bridge/2023-08-23/
END:VEVENT
BEGIN:VEVENT
DTSTART;TZID=America/New_York:20230823T143000
DTEND;TZID=America/New_York:20230823T160000
DTSTAMP:20260422T182112
CREATED:20230630T031357Z
LAST-MODIFIED:20231128T012532Z
UID:10012789-1692801000-1692806400@leisureknoll.org
SUMMARY:Pickleball Club
DESCRIPTION:@ 2:30pm
URL:https://leisureknoll.org/calendar/pickleball-club/2023-08-23/
END:VEVENT
BEGIN:VEVENT
DTSTART;TZID=America/New_York:20230823T180000
DTEND;TZID=America/New_York:20230823T200000
DTSTAMP:20260422T182112
CREATED:20210416T005957Z
LAST-MODIFIED:20240929T182030Z
UID:10011000-1692813600-1692820800@leisureknoll.org
SUMMARY:Men's Poker
DESCRIPTION:Craft Center
URL:https://leisureknoll.org/calendar/mens-poker-2022-08-31/2023-08-23/
END:VEVENT
BEGIN:VEVENT
DTSTART;TZID=America/New_York:20230823T184500
DTEND;TZID=America/New_York:20230823T204500
DTSTAMP:20260422T182112
CREATED:20210505T022532Z
LAST-MODIFIED:20260109T031152Z
UID:10011052-1692816300-1692823500@leisureknoll.org
SUMMARY:Dominoes
DESCRIPTION:Recreation Hall
URL:https://leisureknoll.org/calendar/dominoes/2023-08-23/
END:VEVENT
BEGIN:VEVENT
DTSTART;TZID=America/New_York:20230823T190000
DTEND;TZID=America/New_York:20230823T210000
DTSTAMP:20260422T182112
CREATED:20230805T013438Z
LAST-MODIFIED:20230805T013438Z
UID:10013006-1692817200-1692824400@leisureknoll.org
SUMMARY:Board of Directors Community Budget Meeting
DESCRIPTION:7pm @ Recreation Center
URL:https://leisureknoll.org/calendar/board-of-directors-community-budget-meeting/
END:VEVENT
BEGIN:VEVENT
DTSTART;TZID=America/New_York:20230824T090000
DTEND;TZID=America/New_York:20230824T110000
DTSTAMP:20260422T182113
CREATED:20210416T003116Z
LAST-MODIFIED:20260109T025549Z
UID:10009783-1692867600-1692874800@leisureknoll.org
SUMMARY:Wood Shop
DESCRIPTION:
URL:https://leisureknoll.org/calendar/wood-shop/2023-08-24/
END:VEVENT
BEGIN:VEVENT
DTSTART;TZID=America/New_York:20230824T093000
DTEND;TZID=America/New_York:20230824T103000
DTSTAMP:20260422T182113
CREATED:20230312T040136Z
LAST-MODIFIED:20231128T012323Z
UID:10012470-1692869400-1692873000@leisureknoll.org
SUMMARY:Ladies Tennis
DESCRIPTION:
URL:https://leisureknoll.org/calendar/ladies-tennis-4/2023-08-24/
END:VEVENT
BEGIN:VEVENT
DTSTART;TZID=America/New_York:20230824T100000
DTEND;TZID=America/New_York:20230824T130000
DTSTAMP:20260422T182113
CREATED:20210415T031404Z
LAST-MODIFIED:20240114T192421Z
UID:10011104-1692871200-1692882000@leisureknoll.org
SUMMARY:Bus to Port Jefferson Station
DESCRIPTION:Bus to Port Jefferson Station\, Meat Farms\, Shop Rite\, TJ Max shopping center. \nLeaves Leisure Knoll at 10:00 am.
URL:https://leisureknoll.org/calendar/bus-to-port-jefferson-station/2023-08-24/
END:VEVENT
BEGIN:VEVENT
DTSTART;TZID=America/New_York:20230824T101500
DTEND;TZID=America/New_York:20230824T113000
DTSTAMP:20260422T182113
CREATED:20230312T032913Z
LAST-MODIFIED:20230312T032913Z
UID:10011156-1692872100-1692876600@leisureknoll.org
SUMMARY:Bible Study
DESCRIPTION:@ Craft Center
URL:https://leisureknoll.org/calendar/bible-study-2/2023-08-24/
END:VEVENT
BEGIN:VEVENT
DTSTART;TZID=America/New_York:20230824T110000
DTEND;TZID=America/New_York:20230824T120000
DTSTAMP:20260422T182113
CREATED:20221202T030602Z
LAST-MODIFIED:20260109T025858Z
UID:10009976-1692874800-1692878400@leisureknoll.org
SUMMARY:Ping Pong
DESCRIPTION:11am @ Recreation Hall
URL:https://leisureknoll.org/calendar/ping-pong/2023-08-24/
END:VEVENT
BEGIN:VEVENT
DTSTART;TZID=America/New_York:20230824T130000
DTEND;TZID=America/New_York:20230824T150000
DTSTAMP:20260422T182113
CREATED:20210416T003503Z
LAST-MODIFIED:20240929T182527Z
UID:10010388-1692882000-1692889200@leisureknoll.org
SUMMARY:Billiards
DESCRIPTION:Recreation Center\, every day except Sunday
URL:https://leisureknoll.org/calendar/billiards/2023-08-24/
END:VEVENT
BEGIN:VEVENT
DTSTART;TZID=America/New_York:20230824T130000
DTEND;TZID=America/New_York:20230824T150000
DTSTAMP:20260422T182113
CREATED:20210416T010104Z
LAST-MODIFIED:20230106T202026Z
UID:10011208-1692882000-1692889200@leisureknoll.org
SUMMARY:Bridge/Canasta
DESCRIPTION:Craft Center
URL:https://leisureknoll.org/calendar/bridge-canasta/2023-08-24/
END:VEVENT
BEGIN:VEVENT
DTSTART;TZID=America/New_York:20230824T183000
DTEND;TZID=America/New_York:20230824T203000
DTSTAMP:20260422T182113
CREATED:20210702T035015Z
LAST-MODIFIED:20230106T202125Z
UID:10011312-1692901800-1692909000@leisureknoll.org
SUMMARY:Men's Low Stakes Poker
DESCRIPTION:
URL:https://leisureknoll.org/calendar/mens-low-stakes-poker/2023-08-24/
END:VEVENT
BEGIN:VEVENT
DTSTART;TZID=America/New_York:20230824T183000
DTEND;TZID=America/New_York:20230824T203000
DTSTAMP:20260422T182113
CREATED:20230630T032653Z
LAST-MODIFIED:20230630T032653Z
UID:10011260-1692901800-1692909000@leisureknoll.org
SUMMARY:Mixed Games Poker
DESCRIPTION:Craft Center
URL:https://leisureknoll.org/calendar/ladies-poker-2-2/2023-08-24/
END:VEVENT
BEGIN:VEVENT
DTSTART;TZID=America/New_York:20230824T190000
DTEND;TZID=America/New_York:20230824T210000
DTSTAMP:20260422T182113
CREATED:20230312T032808Z
LAST-MODIFIED:20231104T195522Z
UID:10011364-1692903600-1692910800@leisureknoll.org
SUMMARY:Game Night
DESCRIPTION:BYO \n@ 7pm
URL:https://leisureknoll.org/calendar/game-night-2-2/2023-08-24/
END:VEVENT
BEGIN:VEVENT
DTSTART;VALUE=DATE:20230825
DTEND;VALUE=DATE:20230826
DTSTAMP:20260422T182113
CREATED:20210416T001302Z
LAST-MODIFIED:20251215T033850Z
UID:10009525-1692921600-1693007999@leisureknoll.org
SUMMARY:Garbage Pick Up
DESCRIPTION:GARBAGE P/U -WINTERS BROS. WASTE – 631-491-4923\nGarbage pick up Tues. & Fri. except holidays Confirm Bulk P/U (on Thursday) with Winters Brothers
URL:https://leisureknoll.org/calendar/garbage-pick-up-fri/2023-08-25/
END:VEVENT
END:VCALENDAR