BEGIN:VCALENDAR
VERSION:2.0
PRODID:-//Leisure Knoll - ECPv6.15.20//NONSGML v1.0//EN
CALSCALE:GREGORIAN
METHOD:PUBLISH
X-ORIGINAL-URL:https://leisureknoll.org
X-WR-CALDESC:Events for Leisure Knoll
REFRESH-INTERVAL;VALUE=DURATION:PT1H
X-Robots-Tag:noindex
X-PUBLISHED-TTL:PT1H
BEGIN:VTIMEZONE
TZID:America/New_York
BEGIN:DAYLIGHT
TZOFFSETFROM:-0500
TZOFFSETTO:-0400
TZNAME:EDT
DTSTART:20220313T070000
END:DAYLIGHT
BEGIN:STANDARD
TZOFFSETFROM:-0400
TZOFFSETTO:-0500
TZNAME:EST
DTSTART:20221106T060000
END:STANDARD
BEGIN:DAYLIGHT
TZOFFSETFROM:-0500
TZOFFSETTO:-0400
TZNAME:EDT
DTSTART:20230312T070000
END:DAYLIGHT
BEGIN:STANDARD
TZOFFSETFROM:-0400
TZOFFSETTO:-0500
TZNAME:EST
DTSTART:20231105T060000
END:STANDARD
BEGIN:DAYLIGHT
TZOFFSETFROM:-0500
TZOFFSETTO:-0400
TZNAME:EDT
DTSTART:20240310T070000
END:DAYLIGHT
BEGIN:STANDARD
TZOFFSETFROM:-0400
TZOFFSETTO:-0500
TZNAME:EST
DTSTART:20241103T060000
END:STANDARD
END:VTIMEZONE
BEGIN:VEVENT
DTSTART;TZID=America/New_York:20230602T090000
DTEND;TZID=America/New_York:20230602T110000
DTSTAMP:20260423T185319
CREATED:20210416T003116Z
LAST-MODIFIED:20260109T025549Z
UID:10009724-1685696400-1685703600@leisureknoll.org
SUMMARY:Wood Shop
DESCRIPTION:
URL:https://leisureknoll.org/calendar/wood-shop/2023-06-02/
END:VEVENT
BEGIN:VEVENT
DTSTART;TZID=America/New_York:20230602T093000
DTEND;TZID=America/New_York:20230602T103000
DTSTAMP:20260423T185319
CREATED:20211209T023315Z
LAST-MODIFIED:20250101T175700Z
UID:10011461-1685698200-1685701800@leisureknoll.org
SUMMARY:Slimnastics
DESCRIPTION:9:30am @ Craft Center
URL:https://leisureknoll.org/calendar/slimnastics-4/2023-06-02/
END:VEVENT
BEGIN:VEVENT
DTSTART;TZID=America/New_York:20230602T130000
DTEND;TZID=America/New_York:20230602T150000
DTSTAMP:20260423T185319
CREATED:20210416T003503Z
LAST-MODIFIED:20240929T182527Z
UID:10010317-1685710800-1685718000@leisureknoll.org
SUMMARY:Billiards
DESCRIPTION:Recreation Center\, every day except Sunday
URL:https://leisureknoll.org/calendar/billiards/2023-06-02/
END:VEVENT
BEGIN:VEVENT
DTSTART;TZID=America/New_York:20230602T130000
DTEND;TZID=America/New_York:20230602T150000
DTSTAMP:20260423T185319
CREATED:20220602T022125Z
LAST-MODIFIED:20241106T040502Z
UID:10011513-1685710800-1685718000@leisureknoll.org
SUMMARY:Women's Card Game
DESCRIPTION:Craft Center @ 1pm
URL:https://leisureknoll.org/calendar/womens-card-game/2023-06-02/
END:VEVENT
BEGIN:VEVENT
DTSTART;TZID=America/New_York:20230602T180000
DTEND;TZID=America/New_York:20230602T200000
DTSTAMP:20260423T185319
CREATED:20221204T045026Z
LAST-MODIFIED:20221204T045026Z
UID:10009427-1685728800-1685736000@leisureknoll.org
SUMMARY:Texas Hold'em
DESCRIPTION:6pm @ Craft Center
URL:https://leisureknoll.org/calendar/texas-holdem-2/2023-06-02/
END:VEVENT
BEGIN:VEVENT
DTSTART;TZID=America/New_York:20230602T190000
DTEND;TZID=America/New_York:20230602T210000
DTSTAMP:20260423T185319
CREATED:20230209T024948Z
LAST-MODIFIED:20230901T001345Z
UID:10011409-1685732400-1685739600@leisureknoll.org
SUMMARY:Corn Hole League
DESCRIPTION:7pm @ Rec Hall
URL:https://leisureknoll.org/calendar/corn-hole-league-2/2023-06-02/
END:VEVENT
BEGIN:VEVENT
DTSTART;TZID=America/New_York:20230603T090000
DTEND;TZID=America/New_York:20230603T100000
DTSTAMP:20260423T185319
CREATED:20230312T035839Z
LAST-MODIFIED:20231128T012444Z
UID:10012149-1685782800-1685786400@leisureknoll.org
SUMMARY:Tennis Club
DESCRIPTION:
URL:https://leisureknoll.org/calendar/tennis-club/2023-06-03/
END:VEVENT
BEGIN:VEVENT
DTSTART;TZID=America/New_York:20230603T130000
DTEND;TZID=America/New_York:20230603T150000
DTSTAMP:20260423T185319
CREATED:20210416T003503Z
LAST-MODIFIED:20240929T182527Z
UID:10010318-1685797200-1685804400@leisureknoll.org
SUMMARY:Billiards
DESCRIPTION:Recreation Center\, every day except Sunday
URL:https://leisureknoll.org/calendar/billiards/2023-06-03/
END:VEVENT
BEGIN:VEVENT
DTSTART;TZID=America/New_York:20230603T130000
DTEND;TZID=America/New_York:20230603T150000
DTSTAMP:20260423T185319
CREATED:20230617T024937Z
LAST-MODIFIED:20230617T024937Z
UID:10012685-1685797200-1685804400@leisureknoll.org
SUMMARY:American Legion Auxiliary - Ticket Sale\, Flag Day
DESCRIPTION:@ 1-3pm Rec Center
URL:https://leisureknoll.org/calendar/american-legion-auxiliary-ticket-sale-flag-day/
END:VEVENT
BEGIN:VEVENT
DTSTART;TZID=America/New_York:20230604T123000
DTEND;TZID=America/New_York:20230604T140000
DTSTAMP:20260423T185319
CREATED:20230501T195226Z
LAST-MODIFIED:20230501T195226Z
UID:10012613-1685881800-1685887200@leisureknoll.org
SUMMARY:Mah Jongg
DESCRIPTION:12:30pm @ Craft Center
URL:https://leisureknoll.org/calendar/mah-jongg-10-2/2023-06-04/
END:VEVENT
BEGIN:VEVENT
DTSTART;TZID=America/New_York:20230605T090000
DTEND;TZID=America/New_York:20230605T100000
DTSTAMP:20260423T185319
CREATED:20230312T035839Z
LAST-MODIFIED:20231128T012444Z
UID:10012150-1685955600-1685959200@leisureknoll.org
SUMMARY:Tennis Club
DESCRIPTION:
URL:https://leisureknoll.org/calendar/tennis-club/2023-06-05/
END:VEVENT
BEGIN:VEVENT
DTSTART;TZID=America/New_York:20230605T090000
DTEND;TZID=America/New_York:20230605T110000
DTSTAMP:20260423T185319
CREATED:20210416T003116Z
LAST-MODIFIED:20260109T025549Z
UID:10009725-1685955600-1685962800@leisureknoll.org
SUMMARY:Wood Shop
DESCRIPTION:
URL:https://leisureknoll.org/calendar/wood-shop/2023-06-05/
END:VEVENT
BEGIN:VEVENT
DTSTART;TZID=America/New_York:20230605T100000
DTEND;TZID=America/New_York:20230605T110000
DTSTAMP:20260423T185319
CREATED:20220301T013856Z
LAST-MODIFIED:20250101T175615Z
UID:10010075-1685959200-1685962800@leisureknoll.org
SUMMARY:Slimnastics
DESCRIPTION:Recreation Hall
URL:https://leisureknoll.org/calendar/slimnastics-5/2023-06-05/
END:VEVENT
BEGIN:VEVENT
DTSTART;TZID=America/New_York:20230605T110000
DTEND;TZID=America/New_York:20230605T120000
DTSTAMP:20260423T185319
CREATED:20221202T030602Z
LAST-MODIFIED:20260109T025858Z
UID:10009941-1685962800-1685966400@leisureknoll.org
SUMMARY:Ping Pong
DESCRIPTION:11am @ Recreation Hall
URL:https://leisureknoll.org/calendar/ping-pong/2023-06-05/
END:VEVENT
BEGIN:VEVENT
DTSTART;TZID=America/New_York:20230605T123000
DTEND;TZID=America/New_York:20230605T143000
DTSTAMP:20260423T185320
CREATED:20210702T030121Z
LAST-MODIFIED:20230106T200950Z
UID:10010157-1685968200-1685975400@leisureknoll.org
SUMMARY:Mah Jongg
DESCRIPTION:@ Craft Center
URL:https://leisureknoll.org/calendar/mah-jongg-5/2023-06-05/
END:VEVENT
BEGIN:VEVENT
DTSTART;TZID=America/New_York:20230605T130000
DTEND;TZID=America/New_York:20230605T150000
DTSTAMP:20260423T185320
CREATED:20210416T003503Z
LAST-MODIFIED:20240929T182527Z
UID:10010319-1685970000-1685977200@leisureknoll.org
SUMMARY:Billiards
DESCRIPTION:Recreation Center\, every day except Sunday
URL:https://leisureknoll.org/calendar/billiards/2023-06-05/
END:VEVENT
BEGIN:VEVENT
DTSTART;TZID=America/New_York:20230605T170000
DTEND;TZID=America/New_York:20230605T200000
DTSTAMP:20260423T185320
CREATED:20230617T023432Z
LAST-MODIFIED:20230617T023432Z
UID:10012666-1685984400-1685995200@leisureknoll.org
SUMMARY:Bocce
DESCRIPTION:@ 5pm
URL:https://leisureknoll.org/calendar/bocce-3/2023-06-05/
END:VEVENT
BEGIN:VEVENT
DTSTART;TZID=America/New_York:20230605T180000
DTEND;TZID=America/New_York:20230605T200000
DTSTAMP:20260423T185320
CREATED:20210702T034900Z
LAST-MODIFIED:20240707T191247Z
UID:10016800-1685988000-1685995200@leisureknoll.org
SUMMARY:Ladies Poker
DESCRIPTION:Craft Center
URL:https://leisureknoll.org/calendar/ladies-poker-2021-09-13/2023-06-05/
END:VEVENT
BEGIN:VEVENT
DTSTART;VALUE=DATE:20230606
DTEND;VALUE=DATE:20230607
DTSTAMP:20260423T185320
CREATED:20210416T001302Z
LAST-MODIFIED:20251215T033850Z
UID:10009502-1686009600-1686095999@leisureknoll.org
SUMMARY:Garbage Pick Up
DESCRIPTION:GARBAGE P/U -WINTERS BROS. WASTE – 631-491-4923\nGarbage pick up Tues. & Fri. except holidays Confirm Bulk P/U (on Thursday) with Winters Brothers
URL:https://leisureknoll.org/calendar/garbage-pick-up-fri/2023-06-06/
END:VEVENT
BEGIN:VEVENT
DTSTART;TZID=America/New_York:20230606T090000
DTEND;TZID=America/New_York:20230606T110000
DTSTAMP:20260423T185320
CREATED:20210416T003116Z
LAST-MODIFIED:20260109T025549Z
UID:10009726-1686042000-1686049200@leisureknoll.org
SUMMARY:Wood Shop
DESCRIPTION:
URL:https://leisureknoll.org/calendar/wood-shop/2023-06-06/
END:VEVENT
BEGIN:VEVENT
DTSTART;TZID=America/New_York:20230606T093000
DTEND;TZID=America/New_York:20230606T103000
DTSTAMP:20260423T185320
CREATED:20230312T040136Z
LAST-MODIFIED:20231128T012323Z
UID:10012447-1686043800-1686047400@leisureknoll.org
SUMMARY:Ladies Tennis
DESCRIPTION:
URL:https://leisureknoll.org/calendar/ladies-tennis-4/2023-06-06/
END:VEVENT
BEGIN:VEVENT
DTSTART;TZID=America/New_York:20230606T110000
DTEND;TZID=America/New_York:20230606T120000
DTSTAMP:20260423T185320
CREATED:20221202T030602Z
LAST-MODIFIED:20260109T025858Z
UID:10009942-1686049200-1686052800@leisureknoll.org
SUMMARY:Ping Pong
DESCRIPTION:11am @ Recreation Hall
URL:https://leisureknoll.org/calendar/ping-pong/2023-06-06/
END:VEVENT
BEGIN:VEVENT
DTSTART;TZID=America/New_York:20230606T123000
DTEND;TZID=America/New_York:20230606T163000
DTSTAMP:20260423T185320
CREATED:20210415T030726Z
LAST-MODIFIED:20240114T192346Z
UID:10010625-1686054600-1686069000@leisureknoll.org
SUMMARY:Bus to Yaphank & Middle Island
DESCRIPTION:Bus to Wal-Mart Yaphank/King Kullen Middle Island shopping center. \nLeaves Leisure Knoll at 12:30pm and returns 4:30pm.
URL:https://leisureknoll.org/calendar/bus-to-middle-island/2023-06-06/
END:VEVENT
BEGIN:VEVENT
DTSTART;TZID=America/New_York:20230606T130000
DTEND;TZID=America/New_York:20230606T150000
DTSTAMP:20260423T185320
CREATED:20210416T003503Z
LAST-MODIFIED:20240929T182527Z
UID:10010320-1686056400-1686063600@leisureknoll.org
SUMMARY:Billiards
DESCRIPTION:Recreation Center\, every day except Sunday
URL:https://leisureknoll.org/calendar/billiards/2023-06-06/
END:VEVENT
BEGIN:VEVENT
DTSTART;TZID=America/New_York:20230606T130000
DTEND;TZID=America/New_York:20230606T163000
DTSTAMP:20260423T185320
CREATED:20230312T032638Z
LAST-MODIFIED:20240929T181808Z
UID:10011700-1686056400-1686069000@leisureknoll.org
SUMMARY:Rummikub
DESCRIPTION:Craft Center \n1-4:30pm
URL:https://leisureknoll.org/calendar/rummikub-2-2/2023-06-06/
END:VEVENT
BEGIN:VEVENT
DTSTART;TZID=America/New_York:20230606T183000
DTEND;TZID=America/New_York:20230606T203000
DTSTAMP:20260423T185320
CREATED:20210702T033018Z
LAST-MODIFIED:20230501T195018Z
UID:10010729-1686076200-1686083400@leisureknoll.org
SUMMARY:Mixed Card Game
DESCRIPTION:Craft Center
URL:https://leisureknoll.org/calendar/guys-gals-card-game/2023-06-06/
END:VEVENT
BEGIN:VEVENT
DTSTART;TZID=America/New_York:20230606T190000
DTEND;TZID=America/New_York:20230606T203000
DTSTAMP:20260423T185320
CREATED:20230617T025035Z
LAST-MODIFIED:20230617T025035Z
UID:10012686-1686078000-1686083400@leisureknoll.org
SUMMARY:American Legion Ladies Aux Mtg.
DESCRIPTION:@ 7pm Rec Center
URL:https://leisureknoll.org/calendar/american-legion-ladies-aux-mtg-2/
END:VEVENT
BEGIN:VEVENT
DTSTART;VALUE=DATE:20230607
DTEND;VALUE=DATE:20230608
DTSTAMP:20260423T185320
CREATED:20210416T002329Z
LAST-MODIFIED:20250101T172802Z
UID:10009573-1686096000-1686182399@leisureknoll.org
SUMMARY:Recycling - Paper
DESCRIPTION:Paper
URL:https://leisureknoll.org/calendar/recycling-paper/2023-06-07/
END:VEVENT
BEGIN:VEVENT
DTSTART;TZID=America/New_York:20230607T090000
DTEND;TZID=America/New_York:20230607T100000
DTSTAMP:20260423T185320
CREATED:20230312T035839Z
LAST-MODIFIED:20231128T012444Z
UID:10012151-1686128400-1686132000@leisureknoll.org
SUMMARY:Tennis Club
DESCRIPTION:
URL:https://leisureknoll.org/calendar/tennis-club/2023-06-07/
END:VEVENT
BEGIN:VEVENT
DTSTART;TZID=America/New_York:20230607T090000
DTEND;TZID=America/New_York:20230607T110000
DTSTAMP:20260423T185320
CREATED:20210416T003116Z
LAST-MODIFIED:20260109T025549Z
UID:10009727-1686128400-1686135600@leisureknoll.org
SUMMARY:Wood Shop
DESCRIPTION:
URL:https://leisureknoll.org/calendar/wood-shop/2023-06-07/
END:VEVENT
END:VCALENDAR