BEGIN:VCALENDAR
VERSION:2.0
PRODID:-//Leisure Knoll - ECPv6.15.20//NONSGML v1.0//EN
CALSCALE:GREGORIAN
METHOD:PUBLISH
X-WR-CALNAME:Leisure Knoll
X-ORIGINAL-URL:https://leisureknoll.org
X-WR-CALDESC:Events for Leisure Knoll
REFRESH-INTERVAL;VALUE=DURATION:PT1H
X-Robots-Tag:noindex
X-PUBLISHED-TTL:PT1H
BEGIN:VTIMEZONE
TZID:America/New_York
BEGIN:DAYLIGHT
TZOFFSETFROM:-0500
TZOFFSETTO:-0400
TZNAME:EDT
DTSTART:20220313T070000
END:DAYLIGHT
BEGIN:STANDARD
TZOFFSETFROM:-0400
TZOFFSETTO:-0500
TZNAME:EST
DTSTART:20221106T060000
END:STANDARD
BEGIN:DAYLIGHT
TZOFFSETFROM:-0500
TZOFFSETTO:-0400
TZNAME:EDT
DTSTART:20230312T070000
END:DAYLIGHT
BEGIN:STANDARD
TZOFFSETFROM:-0400
TZOFFSETTO:-0500
TZNAME:EST
DTSTART:20231105T060000
END:STANDARD
BEGIN:DAYLIGHT
TZOFFSETFROM:-0500
TZOFFSETTO:-0400
TZNAME:EDT
DTSTART:20240310T070000
END:DAYLIGHT
BEGIN:STANDARD
TZOFFSETFROM:-0400
TZOFFSETTO:-0500
TZNAME:EST
DTSTART:20241103T060000
END:STANDARD
END:VTIMEZONE
BEGIN:VEVENT
DTSTART;TZID=America/New_York:20231031T183000
DTEND;TZID=America/New_York:20231031T203000
DTSTAMP:20260421T172921
CREATED:20210702T033018Z
LAST-MODIFIED:20230501T195018Z
UID:10010750-1698777000-1698784200@leisureknoll.org
SUMMARY:Mixed Card Game
DESCRIPTION:Craft Center
URL:https://leisureknoll.org/calendar/guys-gals-card-game/2023-10-31/
END:VEVENT
BEGIN:VEVENT
DTSTART;TZID=America/New_York:20231031T130000
DTEND;TZID=America/New_York:20231031T163000
DTSTAMP:20260421T172921
CREATED:20230312T032638Z
LAST-MODIFIED:20240929T181808Z
UID:10011721-1698757200-1698769800@leisureknoll.org
SUMMARY:Rummikub
DESCRIPTION:Craft Center \n1-4:30pm
URL:https://leisureknoll.org/calendar/rummikub-2-2/2023-10-31/
END:VEVENT
BEGIN:VEVENT
DTSTART;TZID=America/New_York:20231031T130000
DTEND;TZID=America/New_York:20231031T150000
DTSTAMP:20260421T172921
CREATED:20210416T003503Z
LAST-MODIFIED:20240929T182527Z
UID:10010446-1698757200-1698764400@leisureknoll.org
SUMMARY:Billiards
DESCRIPTION:Recreation Center\, every day except Sunday
URL:https://leisureknoll.org/calendar/billiards/2023-10-31/
END:VEVENT
BEGIN:VEVENT
DTSTART;TZID=America/New_York:20231031T123000
DTEND;TZID=America/New_York:20231031T163000
DTSTAMP:20260421T172921
CREATED:20210415T030726Z
LAST-MODIFIED:20240114T192346Z
UID:10010646-1698755400-1698769800@leisureknoll.org
SUMMARY:Bus to Yaphank & Middle Island
DESCRIPTION:Bus to Wal-Mart Yaphank/King Kullen Middle Island shopping center. \nLeaves Leisure Knoll at 12:30pm and returns 4:30pm.
URL:https://leisureknoll.org/calendar/bus-to-middle-island/2023-10-31/
END:VEVENT
BEGIN:VEVENT
DTSTART;TZID=America/New_York:20231031T110000
DTEND;TZID=America/New_York:20231031T120000
DTSTAMP:20260421T172921
CREATED:20221202T030602Z
LAST-MODIFIED:20260109T025858Z
UID:10010005-1698750000-1698753600@leisureknoll.org
SUMMARY:Ping Pong
DESCRIPTION:11am @ Recreation Hall
URL:https://leisureknoll.org/calendar/ping-pong/2023-10-31/
END:VEVENT
BEGIN:VEVENT
DTSTART;TZID=America/New_York:20231031T093000
DTEND;TZID=America/New_York:20231031T103000
DTSTAMP:20260421T172921
CREATED:20230312T040136Z
LAST-MODIFIED:20231128T012323Z
UID:10012489-1698744600-1698748200@leisureknoll.org
SUMMARY:Ladies Tennis
DESCRIPTION:
URL:https://leisureknoll.org/calendar/ladies-tennis-4/2023-10-31/
END:VEVENT
BEGIN:VEVENT
DTSTART;TZID=America/New_York:20231031T090000
DTEND;TZID=America/New_York:20231031T110000
DTSTAMP:20260421T172921
CREATED:20210416T003116Z
LAST-MODIFIED:20260109T025549Z
UID:10009831-1698742800-1698750000@leisureknoll.org
SUMMARY:Wood Shop
DESCRIPTION:
URL:https://leisureknoll.org/calendar/wood-shop/2023-10-31/
END:VEVENT
BEGIN:VEVENT
DTSTART;VALUE=DATE:20231031
DTEND;VALUE=DATE:20231101
DTSTAMP:20260421T172921
CREATED:20210929T234858Z
LAST-MODIFIED:20210929T234858Z
UID:10007727-1698710400-1698796799@leisureknoll.org
SUMMARY:Halloween
DESCRIPTION:
URL:https://leisureknoll.org/calendar/halloween/2023-10-31/
END:VEVENT
BEGIN:VEVENT
DTSTART;VALUE=DATE:20231031
DTEND;VALUE=DATE:20231101
DTSTAMP:20260421T172921
CREATED:20210416T001302Z
LAST-MODIFIED:20251215T033850Z
UID:10009544-1698710400-1698796799@leisureknoll.org
SUMMARY:Garbage Pick Up
DESCRIPTION:GARBAGE P/U -WINTERS BROS. WASTE – 631-491-4923\nGarbage pick up Tues. & Fri. except holidays Confirm Bulk P/U (on Thursday) with Winters Brothers
URL:https://leisureknoll.org/calendar/garbage-pick-up-fri/2023-10-31/
END:VEVENT
BEGIN:VEVENT
DTSTART;TZID=America/New_York:20231030T190000
DTEND;TZID=America/New_York:20231030T210000
DTSTAMP:20260421T172921
CREATED:20231012T024712Z
LAST-MODIFIED:20231128T012856Z
UID:10013257-1698692400-1698699600@leisureknoll.org
SUMMARY:Bunco Night
DESCRIPTION:@7pm Rec Center \nLKA Residents Only
URL:https://leisureknoll.org/calendar/bunco-night-5/2023-10-30/
END:VEVENT
BEGIN:VEVENT
DTSTART;TZID=America/New_York:20231030T180000
DTEND;TZID=America/New_York:20231030T200000
DTSTAMP:20260421T172921
CREATED:20210702T034900Z
LAST-MODIFIED:20240707T191247Z
UID:10016821-1698688800-1698696000@leisureknoll.org
SUMMARY:Ladies Poker
DESCRIPTION:Craft Center
URL:https://leisureknoll.org/calendar/ladies-poker-2021-09-13/2023-10-30/
END:VEVENT
BEGIN:VEVENT
DTSTART;TZID=America/New_York:20231030T143000
DTEND;TZID=America/New_York:20231030T160000
DTSTAMP:20260421T172921
CREATED:20230630T031357Z
LAST-MODIFIED:20231128T012532Z
UID:10012818-1698676200-1698681600@leisureknoll.org
SUMMARY:Pickleball Club
DESCRIPTION:@ 2:30pm
URL:https://leisureknoll.org/calendar/pickleball-club/2023-10-30/
END:VEVENT
BEGIN:VEVENT
DTSTART;TZID=America/New_York:20231030T130000
DTEND;TZID=America/New_York:20231030T150000
DTSTAMP:20260421T172921
CREATED:20210416T003503Z
LAST-MODIFIED:20240929T182527Z
UID:10010445-1698670800-1698678000@leisureknoll.org
SUMMARY:Billiards
DESCRIPTION:Recreation Center\, every day except Sunday
URL:https://leisureknoll.org/calendar/billiards/2023-10-30/
END:VEVENT
BEGIN:VEVENT
DTSTART;TZID=America/New_York:20231030T120000
DTEND;TZID=America/New_York:20231030T133000
DTSTAMP:20260421T172922
CREATED:20230630T031224Z
LAST-MODIFIED:20260109T030045Z
UID:10012705-1698667200-1698672600@leisureknoll.org
SUMMARY:Canasta
DESCRIPTION:12pm @ Craft Center
URL:https://leisureknoll.org/calendar/canasta/2023-10-30/
END:VEVENT
BEGIN:VEVENT
DTSTART;TZID=America/New_York:20231030T110000
DTEND;TZID=America/New_York:20231030T120000
DTSTAMP:20260421T172922
CREATED:20221202T030602Z
LAST-MODIFIED:20260109T025858Z
UID:10010004-1698663600-1698667200@leisureknoll.org
SUMMARY:Ping Pong
DESCRIPTION:11am @ Recreation Hall
URL:https://leisureknoll.org/calendar/ping-pong/2023-10-30/
END:VEVENT
BEGIN:VEVENT
DTSTART;TZID=America/New_York:20231030T100000
DTEND;TZID=America/New_York:20231030T110000
DTSTAMP:20260421T172922
CREATED:20220301T013856Z
LAST-MODIFIED:20250101T175615Z
UID:10010117-1698660000-1698663600@leisureknoll.org
SUMMARY:Slimnastics
DESCRIPTION:Recreation Hall
URL:https://leisureknoll.org/calendar/slimnastics-5/2023-10-30/
END:VEVENT
BEGIN:VEVENT
DTSTART;TZID=America/New_York:20231030T090000
DTEND;TZID=America/New_York:20231030T110000
DTSTAMP:20260421T172922
CREATED:20210416T003116Z
LAST-MODIFIED:20260109T025549Z
UID:10009830-1698656400-1698663600@leisureknoll.org
SUMMARY:Wood Shop
DESCRIPTION:
URL:https://leisureknoll.org/calendar/wood-shop/2023-10-30/
END:VEVENT
BEGIN:VEVENT
DTSTART;TZID=America/New_York:20231030T090000
DTEND;TZID=America/New_York:20231030T100000
DTSTAMP:20260421T172922
CREATED:20230312T035839Z
LAST-MODIFIED:20231128T012444Z
UID:10012234-1698656400-1698660000@leisureknoll.org
SUMMARY:Tennis Club
DESCRIPTION:
URL:https://leisureknoll.org/calendar/tennis-club/2023-10-30/
END:VEVENT
BEGIN:VEVENT
DTSTART;TZID=America/New_York:20231029T180000
DTEND;TZID=America/New_York:20231029T230000
DTSTAMP:20260421T172922
CREATED:20230312T033638Z
LAST-MODIFIED:20231104T200551Z
UID:10013251-1698602400-1698620400@leisureknoll.org
SUMMARY:Texas Hold'Em Poker
DESCRIPTION:6-11pm @ Craft Center 2
URL:https://leisureknoll.org/calendar/texas-holdem-poker-9/2023-10-29/
END:VEVENT
BEGIN:VEVENT
DTSTART;TZID=America/New_York:20231028T130000
DTEND;TZID=America/New_York:20231028T150000
DTSTAMP:20260421T172922
CREATED:20210416T003503Z
LAST-MODIFIED:20240929T182527Z
UID:10010444-1698498000-1698505200@leisureknoll.org
SUMMARY:Billiards
DESCRIPTION:Recreation Center\, every day except Sunday
URL:https://leisureknoll.org/calendar/billiards/2023-10-28/
END:VEVENT
BEGIN:VEVENT
DTSTART;TZID=America/New_York:20231028T090000
DTEND;TZID=America/New_York:20231028T100000
DTSTAMP:20260421T172922
CREATED:20230312T035839Z
LAST-MODIFIED:20231128T012444Z
UID:10012233-1698483600-1698487200@leisureknoll.org
SUMMARY:Tennis Club
DESCRIPTION:
URL:https://leisureknoll.org/calendar/tennis-club/2023-10-28/
END:VEVENT
BEGIN:VEVENT
DTSTART;TZID=America/New_York:20231027T180000
DTEND;TZID=America/New_York:20231027T200000
DTSTAMP:20260421T172922
CREATED:20221204T045026Z
LAST-MODIFIED:20221204T045026Z
UID:10009448-1698429600-1698436800@leisureknoll.org
SUMMARY:Texas Hold'em
DESCRIPTION:6pm @ Craft Center
URL:https://leisureknoll.org/calendar/texas-holdem-2/2023-10-27/
END:VEVENT
BEGIN:VEVENT
DTSTART;TZID=America/New_York:20231027T143000
DTEND;TZID=America/New_York:20231027T160000
DTSTAMP:20260421T172922
CREATED:20230630T031357Z
LAST-MODIFIED:20231128T012532Z
UID:10012817-1698417000-1698422400@leisureknoll.org
SUMMARY:Pickleball Club
DESCRIPTION:@ 2:30pm
URL:https://leisureknoll.org/calendar/pickleball-club/2023-10-27/
END:VEVENT
BEGIN:VEVENT
DTSTART;TZID=America/New_York:20231027T130000
DTEND;TZID=America/New_York:20231027T150000
DTSTAMP:20260421T172922
CREATED:20220602T022125Z
LAST-MODIFIED:20241106T040502Z
UID:10011534-1698411600-1698418800@leisureknoll.org
SUMMARY:Women's Card Game
DESCRIPTION:Craft Center @ 1pm
URL:https://leisureknoll.org/calendar/womens-card-game/2023-10-27/
END:VEVENT
BEGIN:VEVENT
DTSTART;TZID=America/New_York:20231027T130000
DTEND;TZID=America/New_York:20231027T150000
DTSTAMP:20260421T172922
CREATED:20210416T003503Z
LAST-MODIFIED:20240929T182527Z
UID:10010443-1698411600-1698418800@leisureknoll.org
SUMMARY:Billiards
DESCRIPTION:Recreation Center\, every day except Sunday
URL:https://leisureknoll.org/calendar/billiards/2023-10-27/
END:VEVENT
BEGIN:VEVENT
DTSTART;TZID=America/New_York:20231027T093000
DTEND;TZID=America/New_York:20231027T103000
DTSTAMP:20260421T172922
CREATED:20211209T023315Z
LAST-MODIFIED:20250101T175700Z
UID:10011482-1698399000-1698402600@leisureknoll.org
SUMMARY:Slimnastics
DESCRIPTION:9:30am @ Craft Center
URL:https://leisureknoll.org/calendar/slimnastics-4/2023-10-27/
END:VEVENT
BEGIN:VEVENT
DTSTART;TZID=America/New_York:20231027T090000
DTEND;TZID=America/New_York:20231027T110000
DTSTAMP:20260421T172922
CREATED:20210416T003116Z
LAST-MODIFIED:20260109T025549Z
UID:10009829-1698397200-1698404400@leisureknoll.org
SUMMARY:Wood Shop
DESCRIPTION:
URL:https://leisureknoll.org/calendar/wood-shop/2023-10-27/
END:VEVENT
BEGIN:VEVENT
DTSTART;TZID=America/New_York:20231027T090000
DTEND;TZID=America/New_York:20231027T100000
DTSTAMP:20260421T172922
CREATED:20230312T035839Z
LAST-MODIFIED:20231128T012444Z
UID:10012232-1698397200-1698400800@leisureknoll.org
SUMMARY:Tennis Club
DESCRIPTION:
URL:https://leisureknoll.org/calendar/tennis-club/2023-10-27/
END:VEVENT
BEGIN:VEVENT
DTSTART;VALUE=DATE:20231027
DTEND;VALUE=DATE:20231028
DTSTAMP:20260421T172922
CREATED:20210416T001302Z
LAST-MODIFIED:20251215T033850Z
UID:10009543-1698364800-1698451199@leisureknoll.org
SUMMARY:Garbage Pick Up
DESCRIPTION:GARBAGE P/U -WINTERS BROS. WASTE – 631-491-4923\nGarbage pick up Tues. & Fri. except holidays Confirm Bulk P/U (on Thursday) with Winters Brothers
URL:https://leisureknoll.org/calendar/garbage-pick-up-fri/2023-10-27/
END:VEVENT
BEGIN:VEVENT
DTSTART;TZID=America/New_York:20231026T190000
DTEND;TZID=America/New_York:20231026T210000
DTSTAMP:20260421T172922
CREATED:20230312T032808Z
LAST-MODIFIED:20231104T195522Z
UID:10011373-1698346800-1698354000@leisureknoll.org
SUMMARY:Game Night
DESCRIPTION:BYO \n@ 7pm
URL:https://leisureknoll.org/calendar/game-night-2-2/2023-10-26/
END:VEVENT
END:VCALENDAR