BEGIN:VCALENDAR
VERSION:2.0
PRODID:-//Leisure Knoll - ECPv6.15.20//NONSGML v1.0//EN
CALSCALE:GREGORIAN
METHOD:PUBLISH
X-WR-CALNAME:Leisure Knoll
X-ORIGINAL-URL:https://leisureknoll.org
X-WR-CALDESC:Events for Leisure Knoll
REFRESH-INTERVAL;VALUE=DURATION:PT1H
X-Robots-Tag:noindex
X-PUBLISHED-TTL:PT1H
BEGIN:VTIMEZONE
TZID:America/New_York
BEGIN:DAYLIGHT
TZOFFSETFROM:-0500
TZOFFSETTO:-0400
TZNAME:EDT
DTSTART:20200308T070000
END:DAYLIGHT
BEGIN:STANDARD
TZOFFSETFROM:-0400
TZOFFSETTO:-0500
TZNAME:EST
DTSTART:20201101T060000
END:STANDARD
BEGIN:DAYLIGHT
TZOFFSETFROM:-0500
TZOFFSETTO:-0400
TZNAME:EDT
DTSTART:20210314T070000
END:DAYLIGHT
BEGIN:STANDARD
TZOFFSETFROM:-0400
TZOFFSETTO:-0500
TZNAME:EST
DTSTART:20211107T060000
END:STANDARD
BEGIN:DAYLIGHT
TZOFFSETFROM:-0500
TZOFFSETTO:-0400
TZNAME:EDT
DTSTART:20220313T070000
END:DAYLIGHT
BEGIN:STANDARD
TZOFFSETFROM:-0400
TZOFFSETTO:-0500
TZNAME:EST
DTSTART:20221106T060000
END:STANDARD
END:VTIMEZONE
BEGIN:VEVENT
DTSTART;TZID=America/New_York:20210420T130000
DTEND;TZID=America/New_York:20210420T150000
DTSTAMP:20260425T174053
CREATED:20210416T004849Z
LAST-MODIFIED:20210801T012001Z
UID:10005952-1618923600-1618930800@leisureknoll.org
SUMMARY:Ladies Cards
DESCRIPTION:Craft Center
URL:https://leisureknoll.org/calendar/ladies-cards/2021-04-20/
END:VEVENT
BEGIN:VEVENT
DTSTART;TZID=America/New_York:20210420T130000
DTEND;TZID=America/New_York:20210420T150000
DTSTAMP:20260425T174053
CREATED:20210416T003503Z
LAST-MODIFIED:20240929T182527Z
UID:10005363-1618923600-1618930800@leisureknoll.org
SUMMARY:Billiards
DESCRIPTION:Recreation Center\, every day except Sunday
URL:https://leisureknoll.org/calendar/billiards/2021-04-20/
END:VEVENT
BEGIN:VEVENT
DTSTART;TZID=America/New_York:20210420T123000
DTEND;TZID=America/New_York:20210420T163000
DTSTAMP:20260425T174053
CREATED:20210415T030726Z
LAST-MODIFIED:20240114T192346Z
UID:10004275-1618921800-1618936200@leisureknoll.org
SUMMARY:Bus to Yaphank & Middle Island
DESCRIPTION:Bus to Wal-Mart Yaphank/King Kullen Middle Island shopping center. \nLeaves Leisure Knoll at 12:30pm and returns 4:30pm.
URL:https://leisureknoll.org/calendar/bus-to-middle-island/2021-04-20/
END:VEVENT
BEGIN:VEVENT
DTSTART;TZID=America/New_York:20210420T120000
DTEND;TZID=America/New_York:20210420T140000
DTSTAMP:20260425T174053
CREATED:20210416T004721Z
LAST-MODIFIED:20210416T004721Z
UID:10005948-1618920000-1618927200@leisureknoll.org
SUMMARY:Mah Jongg
DESCRIPTION:Rec Center
URL:https://leisureknoll.org/calendar/mah-jongg-3/2021-04-20/
END:VEVENT
BEGIN:VEVENT
DTSTART;TZID=America/New_York:20210420T100000
DTEND;TZID=America/New_York:20210420T110000
DTSTAMP:20260425T174053
CREATED:20210416T004620Z
LAST-MODIFIED:20210416T004620Z
UID:10005944-1618912800-1618916400@leisureknoll.org
SUMMARY:Slimnastics
DESCRIPTION:Rec Hall
URL:https://leisureknoll.org/calendar/slimnastics/2021-04-20/
END:VEVENT
BEGIN:VEVENT
DTSTART;TZID=America/New_York:20210420T093000
DTEND;TZID=America/New_York:20210420T103000
DTSTAMP:20260425T174053
CREATED:20210416T004451Z
LAST-MODIFIED:20210416T011905Z
UID:10005938-1618911000-1618914600@leisureknoll.org
SUMMARY:Ladies Tennis
DESCRIPTION:Tennis Courts
URL:https://leisureknoll.org/calendar/ladies-tennis/2021-04-20/
END:VEVENT
BEGIN:VEVENT
DTSTART;TZID=America/New_York:20210420T090000
DTEND;TZID=America/New_York:20210420T110000
DTSTAMP:20260425T174053
CREATED:20210416T003116Z
LAST-MODIFIED:20260109T025549Z
UID:10004943-1618909200-1618916400@leisureknoll.org
SUMMARY:Wood Shop
DESCRIPTION:
URL:https://leisureknoll.org/calendar/wood-shop/2021-04-20/
END:VEVENT
BEGIN:VEVENT
DTSTART;VALUE=DATE:20210420
DTEND;VALUE=DATE:20210421
DTSTAMP:20260425T174053
CREATED:20210416T001302Z
LAST-MODIFIED:20251215T033850Z
UID:10004626-1618876800-1618963199@leisureknoll.org
SUMMARY:Garbage Pick Up
DESCRIPTION:GARBAGE P/U -WINTERS BROS. WASTE – 631-491-4923\nGarbage pick up Tues. & Fri. except holidays Confirm Bulk P/U (on Thursday) with Winters Brothers
URL:https://leisureknoll.org/calendar/garbage-pick-up-fri/2021-04-20/
END:VEVENT
BEGIN:VEVENT
DTSTART;VALUE=DATE:20210420
DTEND;VALUE=DATE:20210421
DTSTAMP:20260425T174053
CREATED:20210416T001050Z
LAST-MODIFIED:20210416T001050Z
UID:10004588-1618876800-1618963199@leisureknoll.org
SUMMARY:Garbage Pick Up
DESCRIPTION:GARBAGE P/U -WINTERS BROS. WASTE – 631-491-4923\nGarbage pick up Tues. & Fri. except holidays Confirm Bulk P/U (on Thursday) with Winters Brothers
URL:https://leisureknoll.org/calendar/garbage-pick-up-tues/2021-04-20/
END:VEVENT
BEGIN:VEVENT
DTSTART;TZID=America/New_York:20210419T190000
DTEND;TZID=America/New_York:20210419T210000
DTSTAMP:20260425T174053
CREATED:20210416T001937Z
LAST-MODIFIED:20210416T004100Z
UID:10004814-1618858800-1618866000@leisureknoll.org
SUMMARY:Indoor Cornhole
DESCRIPTION:RC 7-9 pm \nMasks/Social Distance
URL:https://leisureknoll.org/calendar/indoor-cornhole/2021-04-19/
END:VEVENT
BEGIN:VEVENT
DTSTART;TZID=America/New_York:20210419T183000
DTEND;TZID=America/New_York:20210419T203000
DTSTAMP:20260425T174053
CREATED:20210416T005545Z
LAST-MODIFIED:20210416T005545Z
UID:10006001-1618857000-1618864200@leisureknoll.org
SUMMARY:Mah Jongg
DESCRIPTION:Craft Center
URL:https://leisureknoll.org/calendar/mah-jongg-4/2021-04-19/
END:VEVENT
BEGIN:VEVENT
DTSTART;TZID=America/New_York:20210419T183000
DTEND;TZID=America/New_York:20210419T203000
DTSTAMP:20260425T174053
CREATED:20210416T004220Z
LAST-MODIFIED:20210416T005849Z
UID:10005929-1618857000-1618864200@leisureknoll.org
SUMMARY:Mah Jongg
DESCRIPTION:Craft Center
URL:https://leisureknoll.org/calendar/mah-jongg-2/2021-04-19/
END:VEVENT
BEGIN:VEVENT
DTSTART;TZID=America/New_York:20210419T130000
DTEND;TZID=America/New_York:20210419T150000
DTSTAMP:20260425T174053
CREATED:20210416T004009Z
LAST-MODIFIED:20221002T015425Z
UID:10005849-1618837200-1618844400@leisureknoll.org
SUMMARY:Chicago Bridge
DESCRIPTION:Rec Hall
URL:https://leisureknoll.org/calendar/chicago-bridge/2021-04-19/
END:VEVENT
BEGIN:VEVENT
DTSTART;TZID=America/New_York:20210419T130000
DTEND;TZID=America/New_York:20210419T150000
DTSTAMP:20260425T174053
CREATED:20210416T003845Z
LAST-MODIFIED:20210416T003845Z
UID:10005845-1618837200-1618844400@leisureknoll.org
SUMMARY:Ceramics
DESCRIPTION:Rec Hall
URL:https://leisureknoll.org/calendar/ceramics/2021-04-19/
END:VEVENT
BEGIN:VEVENT
DTSTART;TZID=America/New_York:20210419T130000
DTEND;TZID=America/New_York:20210419T150000
DTSTAMP:20260425T174053
CREATED:20210416T003503Z
LAST-MODIFIED:20240929T182527Z
UID:10005362-1618837200-1618844400@leisureknoll.org
SUMMARY:Billiards
DESCRIPTION:Recreation Center\, every day except Sunday
URL:https://leisureknoll.org/calendar/billiards/2021-04-19/
END:VEVENT
BEGIN:VEVENT
DTSTART;TZID=America/New_York:20210419T123000
DTEND;TZID=America/New_York:20210419T143000
DTSTAMP:20260425T174053
CREATED:20210416T003307Z
LAST-MODIFIED:20210416T003307Z
UID:10005345-1618835400-1618842600@leisureknoll.org
SUMMARY:Mah Jongg
DESCRIPTION:In the Craft Center
URL:https://leisureknoll.org/calendar/mah-jongg/2021-04-19/
END:VEVENT
BEGIN:VEVENT
DTSTART;TZID=America/New_York:20210419T090000
DTEND;TZID=America/New_York:20210419T110000
DTSTAMP:20260425T174054
CREATED:20210416T003116Z
LAST-MODIFIED:20260109T025549Z
UID:10004942-1618822800-1618830000@leisureknoll.org
SUMMARY:Wood Shop
DESCRIPTION:
URL:https://leisureknoll.org/calendar/wood-shop/2021-04-19/
END:VEVENT
BEGIN:VEVENT
DTSTART;TZID=America/New_York:20210419T090000
DTEND;TZID=America/New_York:20210419T110000
DTSTAMP:20260425T174054
CREATED:20210416T002837Z
LAST-MODIFIED:20210416T003724Z
UID:10004925-1618822800-1618830000@leisureknoll.org
SUMMARY:Tennis
DESCRIPTION:Tennis courts
URL:https://leisureknoll.org/calendar/tennis/2021-04-19/
END:VEVENT
BEGIN:VEVENT
DTSTART;VALUE=DATE:20210418
DTEND;VALUE=DATE:20210425
DTSTAMP:20260425T174054
CREATED:20210416T000614Z
LAST-MODIFIED:20220508T162836Z
UID:10004559-1618704000-1619308799@leisureknoll.org
SUMMARY:First Bus Stop #1
DESCRIPTION:The bus will begin at stop #1 and proceed to stop #25.
URL:https://leisureknoll.org/calendar/first-bus-stop-1/2021-04-18/
END:VEVENT
BEGIN:VEVENT
DTSTART;TZID=America/New_York:20210417T130000
DTEND;TZID=America/New_York:20210417T150000
DTSTAMP:20260425T174054
CREATED:20210416T003503Z
LAST-MODIFIED:20240929T182527Z
UID:10005361-1618664400-1618671600@leisureknoll.org
SUMMARY:Billiards
DESCRIPTION:Recreation Center\, every day except Sunday
URL:https://leisureknoll.org/calendar/billiards/2021-04-17/
END:VEVENT
BEGIN:VEVENT
DTSTART;TZID=America/New_York:20210417T110000
DTEND;TZID=America/New_York:20210417T130000
DTSTAMP:20260425T174054
CREATED:20210416T002452Z
LAST-MODIFIED:20210702T025239Z
UID:10004905-1618657200-1618664400@leisureknoll.org
SUMMARY:Leisure Readers
DESCRIPTION:11am RC
URL:https://leisureknoll.org/calendar/leisure-readers/2021-04-17/
END:VEVENT
BEGIN:VEVENT
DTSTART;TZID=America/New_York:20210417T090000
DTEND;TZID=America/New_York:20210417T110000
DTSTAMP:20260425T174054
CREATED:20210416T002837Z
LAST-MODIFIED:20210416T003724Z
UID:10004924-1618650000-1618657200@leisureknoll.org
SUMMARY:Tennis
DESCRIPTION:Tennis courts
URL:https://leisureknoll.org/calendar/tennis/2021-04-17/
END:VEVENT
BEGIN:VEVENT
DTSTART;TZID=America/New_York:20210416T183000
DTEND;TZID=America/New_York:20210416T203000
DTSTAMP:20260425T174054
CREATED:20210416T010322Z
LAST-MODIFIED:20210929T221737Z
UID:10006299-1618597800-1618605000@leisureknoll.org
SUMMARY:Texas Hold'em
DESCRIPTION:Craft Center
URL:https://leisureknoll.org/calendar/texas-holdem/2021-04-16/
END:VEVENT
BEGIN:VEVENT
DTSTART;TZID=America/New_York:20210416T130000
DTEND;TZID=America/New_York:20210416T150000
DTSTAMP:20260425T174054
CREATED:20210416T003503Z
LAST-MODIFIED:20240929T182527Z
UID:10005360-1618578000-1618585200@leisureknoll.org
SUMMARY:Billiards
DESCRIPTION:Recreation Center\, every day except Sunday
URL:https://leisureknoll.org/calendar/billiards/2021-04-16/
END:VEVENT
BEGIN:VEVENT
DTSTART;TZID=America/New_York:20210416T090000
DTEND;TZID=America/New_York:20210416T110000
DTSTAMP:20260425T174054
CREATED:20210416T003116Z
LAST-MODIFIED:20260109T025549Z
UID:10004941-1618563600-1618570800@leisureknoll.org
SUMMARY:Wood Shop
DESCRIPTION:
URL:https://leisureknoll.org/calendar/wood-shop/2021-04-16/
END:VEVENT
BEGIN:VEVENT
DTSTART;TZID=America/New_York:20210416T090000
DTEND;TZID=America/New_York:20210416T110000
DTSTAMP:20260425T174054
CREATED:20210416T002837Z
LAST-MODIFIED:20210416T003724Z
UID:10004923-1618563600-1618570800@leisureknoll.org
SUMMARY:Tennis
DESCRIPTION:Tennis courts
URL:https://leisureknoll.org/calendar/tennis/2021-04-16/
END:VEVENT
BEGIN:VEVENT
DTSTART;VALUE=DATE:20210416
DTEND;VALUE=DATE:20210417
DTSTAMP:20260425T174054
CREATED:20210416T001302Z
LAST-MODIFIED:20251215T033850Z
UID:10004625-1618531200-1618617599@leisureknoll.org
SUMMARY:Garbage Pick Up
DESCRIPTION:GARBAGE P/U -WINTERS BROS. WASTE – 631-491-4923\nGarbage pick up Tues. & Fri. except holidays Confirm Bulk P/U (on Thursday) with Winters Brothers
URL:https://leisureknoll.org/calendar/garbage-pick-up-fri/2021-04-16/
END:VEVENT
BEGIN:VEVENT
DTSTART;TZID=America/New_York:20210415T190000
DTEND;TZID=America/New_York:20210415T210000
DTSTAMP:20260425T174054
CREATED:20210416T002706Z
LAST-MODIFIED:20210416T002706Z
UID:10004916-1618513200-1618520400@leisureknoll.org
SUMMARY:American Legion Ladies Auxilliary & American Legion Post 1887 Meetings
DESCRIPTION:Amer. Legion Ladies Aux Mtg. & Amer. Legion Post 1887 Mtg.—7:00 pm \nRec. Ctr.—Wear Mask
URL:https://leisureknoll.org/calendar/american-legion/
END:VEVENT
BEGIN:VEVENT
DTSTART;TZID=America/New_York:20210415T183000
DTEND;TZID=America/New_York:20210415T203000
DTSTAMP:20260425T174054
CREATED:20210416T005545Z
LAST-MODIFIED:20210416T005545Z
UID:10006000-1618511400-1618518600@leisureknoll.org
SUMMARY:Mah Jongg
DESCRIPTION:Craft Center
URL:https://leisureknoll.org/calendar/mah-jongg-4/2021-04-15/
END:VEVENT
BEGIN:VEVENT
DTSTART;TZID=America/New_York:20210415T140000
DTEND;TZID=America/New_York:20210415T160000
DTSTAMP:20260425T174054
CREATED:20210416T010210Z
LAST-MODIFIED:20220508T162402Z
UID:10006242-1618495200-1618502400@leisureknoll.org
SUMMARY:Knitting & Crochet
DESCRIPTION:Craft Center
URL:https://leisureknoll.org/calendar/knitting-crochet/2021-04-15/
END:VEVENT
END:VCALENDAR