BEGIN:VCALENDAR
VERSION:2.0
PRODID:-//Leisure Knoll - ECPv6.15.20//NONSGML v1.0//EN
CALSCALE:GREGORIAN
METHOD:PUBLISH
X-ORIGINAL-URL:https://leisureknoll.org
X-WR-CALDESC:Events for Leisure Knoll
REFRESH-INTERVAL;VALUE=DURATION:PT1H
X-Robots-Tag:noindex
X-PUBLISHED-TTL:PT1H
BEGIN:VTIMEZONE
TZID:America/New_York
BEGIN:DAYLIGHT
TZOFFSETFROM:-0500
TZOFFSETTO:-0400
TZNAME:EDT
DTSTART:20220313T070000
END:DAYLIGHT
BEGIN:STANDARD
TZOFFSETFROM:-0400
TZOFFSETTO:-0500
TZNAME:EST
DTSTART:20221106T060000
END:STANDARD
BEGIN:DAYLIGHT
TZOFFSETFROM:-0500
TZOFFSETTO:-0400
TZNAME:EDT
DTSTART:20230312T070000
END:DAYLIGHT
BEGIN:STANDARD
TZOFFSETFROM:-0400
TZOFFSETTO:-0500
TZNAME:EST
DTSTART:20231105T060000
END:STANDARD
BEGIN:DAYLIGHT
TZOFFSETFROM:-0500
TZOFFSETTO:-0400
TZNAME:EDT
DTSTART:20240310T070000
END:DAYLIGHT
BEGIN:STANDARD
TZOFFSETFROM:-0400
TZOFFSETTO:-0500
TZNAME:EST
DTSTART:20241103T060000
END:STANDARD
END:VTIMEZONE
BEGIN:VEVENT
DTSTART;TZID=America/New_York:20230418T123000
DTEND;TZID=America/New_York:20230418T163000
DTSTAMP:20260424T041417
CREATED:20210415T030726Z
LAST-MODIFIED:20240114T192346Z
UID:10010618-1681821000-1681835400@leisureknoll.org
SUMMARY:Bus to Yaphank & Middle Island
DESCRIPTION:Bus to Wal-Mart Yaphank/King Kullen Middle Island shopping center. \nLeaves Leisure Knoll at 12:30pm and returns 4:30pm.
URL:https://leisureknoll.org/calendar/bus-to-middle-island/2023-04-18/
END:VEVENT
BEGIN:VEVENT
DTSTART;TZID=America/New_York:20230418T130000
DTEND;TZID=America/New_York:20230418T150000
DTSTAMP:20260424T041417
CREATED:20210416T003503Z
LAST-MODIFIED:20240929T182527Z
UID:10010278-1681822800-1681830000@leisureknoll.org
SUMMARY:Billiards
DESCRIPTION:Recreation Center\, every day except Sunday
URL:https://leisureknoll.org/calendar/billiards/2023-04-18/
END:VEVENT
BEGIN:VEVENT
DTSTART;TZID=America/New_York:20230418T130000
DTEND;TZID=America/New_York:20230418T163000
DTSTAMP:20260424T041417
CREATED:20230312T032638Z
LAST-MODIFIED:20240929T181808Z
UID:10011693-1681822800-1681835400@leisureknoll.org
SUMMARY:Rummikub
DESCRIPTION:Craft Center \n1-4:30pm
URL:https://leisureknoll.org/calendar/rummikub-2-2/2023-04-18/
END:VEVENT
BEGIN:VEVENT
DTSTART;TZID=America/New_York:20230418T183000
DTEND;TZID=America/New_York:20230418T203000
DTSTAMP:20260424T041417
CREATED:20210702T033018Z
LAST-MODIFIED:20230501T195018Z
UID:10010722-1681842600-1681849800@leisureknoll.org
SUMMARY:Mixed Card Game
DESCRIPTION:Craft Center
URL:https://leisureknoll.org/calendar/guys-gals-card-game/2023-04-18/
END:VEVENT
BEGIN:VEVENT
DTSTART;TZID=America/New_York:20230418T190000
DTEND;TZID=America/New_York:20230418T200000
DTSTAMP:20260424T041417
CREATED:20230403T000511Z
LAST-MODIFIED:20230403T000511Z
UID:10012603-1681844400-1681848000@leisureknoll.org
SUMMARY:Pickle Ball Sign Up
DESCRIPTION:7-8pm @ Rec Center
URL:https://leisureknoll.org/calendar/pickle-ball-sign-up-2/
END:VEVENT
BEGIN:VEVENT
DTSTART;VALUE=DATE:20230419
DTEND;VALUE=DATE:20230420
DTSTAMP:20260424T041417
CREATED:20210416T002146Z
LAST-MODIFIED:20250607T015434Z
UID:10020625-1681862400-1681948799@leisureknoll.org
SUMMARY:Recycling - Cans & Plastic
DESCRIPTION:Cans and plastic
URL:https://leisureknoll.org/calendar/recycling-cans-plastic-2022-07-13/
END:VEVENT
BEGIN:VEVENT
DTSTART;VALUE=DATE:20230419
DTEND;VALUE=DATE:20230420
DTSTAMP:20260424T041417
CREATED:20210416T002146Z
LAST-MODIFIED:20250608T235413Z
UID:10021485-1681862400-1681948799@leisureknoll.org
SUMMARY:Recycling - Cans & Plastic
DESCRIPTION:Cans and plastic
URL:https://leisureknoll.org/calendar/recycling-cans-plastic-2022-11-16/
END:VEVENT
BEGIN:VEVENT
DTSTART;VALUE=DATE:20230419
DTEND;VALUE=DATE:20230420
DTSTAMP:20260424T041417
CREATED:20210416T002146Z
LAST-MODIFIED:20250607T015435Z
UID:10021170-1681862400-1681948799@leisureknoll.org
SUMMARY:Recycling - Cans & Plastic
DESCRIPTION:Cans and plastic
URL:https://leisureknoll.org/calendar/recycling-cans-plastic-2022-10-05/
END:VEVENT
BEGIN:VEVENT
DTSTART;VALUE=DATE:20230419
DTEND;VALUE=DATE:20230420
DTSTAMP:20260424T041417
CREATED:20210416T002146Z
LAST-MODIFIED:20250607T015435Z
UID:10020846-1681862400-1681948799@leisureknoll.org
SUMMARY:Recycling - Cans & Plastic
DESCRIPTION:Cans and plastic
URL:https://leisureknoll.org/calendar/recycling-cans-plastic-2022-08-10/
END:VEVENT
BEGIN:VEVENT
DTSTART;VALUE=DATE:20230419
DTEND;VALUE=DATE:20230420
DTSTAMP:20260424T041417
CREATED:20210416T002146Z
LAST-MODIFIED:20250608T235414Z
UID:10021690-1681862400-1681948799@leisureknoll.org
SUMMARY:Recycling - Cans & Plastic
DESCRIPTION:Cans and plastic
URL:https://leisureknoll.org/calendar/recycling-cans-plastic-2022-12-14/
END:VEVENT
BEGIN:VEVENT
DTSTART;VALUE=DATE:20230419
DTEND;VALUE=DATE:20230420
DTSTAMP:20260424T041417
CREATED:20210416T002146Z
LAST-MODIFIED:20250607T015436Z
UID:10021381-1681862400-1681948799@leisureknoll.org
SUMMARY:Recycling - Cans & Plastic
DESCRIPTION:Cans and plastic
URL:https://leisureknoll.org/calendar/recycling-cans-plastic-2022-11-02/
END:VEVENT
BEGIN:VEVENT
DTSTART;VALUE=DATE:20230419
DTEND;VALUE=DATE:20230420
DTSTAMP:20260424T041417
CREATED:20210416T002146Z
LAST-MODIFIED:20250607T015433Z
UID:10020513-1681862400-1681948799@leisureknoll.org
SUMMARY:Recycling - Cans & Plastic
DESCRIPTION:Cans and plastic
URL:https://leisureknoll.org/calendar/recycling-cans-plastic-2022-06-29/
END:VEVENT
BEGIN:VEVENT
DTSTART;VALUE=DATE:20230419
DTEND;VALUE=DATE:20230420
DTSTAMP:20260424T041417
CREATED:20210416T002146Z
LAST-MODIFIED:20250607T015435Z
UID:10021063-1681862400-1681948799@leisureknoll.org
SUMMARY:Recycling - Cans & Plastic
DESCRIPTION:Cans and plastic
URL:https://leisureknoll.org/calendar/recycling-cans-plastic-2022-09-21/
END:VEVENT
BEGIN:VEVENT
DTSTART;VALUE=DATE:20230419
DTEND;VALUE=DATE:20230420
DTSTAMP:20260424T041417
CREATED:20210416T002146Z
LAST-MODIFIED:20250607T015434Z
UID:10020736-1681862400-1681948799@leisureknoll.org
SUMMARY:Recycling - Cans & Plastic
DESCRIPTION:Cans and plastic
URL:https://leisureknoll.org/calendar/recycling-cans-plastic-2022-07-27/
END:VEVENT
BEGIN:VEVENT
DTSTART;VALUE=DATE:20230419
DTEND;VALUE=DATE:20230420
DTSTAMP:20260424T041417
CREATED:20210416T002146Z
LAST-MODIFIED:20250608T235414Z
UID:10021588-1681862400-1681948799@leisureknoll.org
SUMMARY:Recycling - Cans & Plastic
DESCRIPTION:Cans and plastic
URL:https://leisureknoll.org/calendar/recycling-cans-plastic-2022-11-30/
END:VEVENT
BEGIN:VEVENT
DTSTART;VALUE=DATE:20230419
DTEND;VALUE=DATE:20230420
DTSTAMP:20260424T041417
CREATED:20210416T002146Z
LAST-MODIFIED:20250607T015436Z
UID:10021276-1681862400-1681948799@leisureknoll.org
SUMMARY:Recycling - Cans & Plastic
DESCRIPTION:Cans and plastic
URL:https://leisureknoll.org/calendar/recycling-cans-plastic-2022-10-19/
END:VEVENT
BEGIN:VEVENT
DTSTART;VALUE=DATE:20230419
DTEND;VALUE=DATE:20230420
DTSTAMP:20260424T041417
CREATED:20210416T002146Z
LAST-MODIFIED:20250607T015435Z
UID:10020955-1681862400-1681948799@leisureknoll.org
SUMMARY:Recycling - Cans & Plastic
DESCRIPTION:Cans and plastic
URL:https://leisureknoll.org/calendar/recycling-cans-plastic-2022-08-24/
END:VEVENT
BEGIN:VEVENT
DTSTART;VALUE=DATE:20230419
DTEND;VALUE=DATE:20230420
DTSTAMP:20260424T041417
CREATED:20210416T002146Z
LAST-MODIFIED:20250608T235414Z
UID:10021791-1681862400-1681948799@leisureknoll.org
SUMMARY:Recycling - Cans & Plastic
DESCRIPTION:Cans and plastic
URL:https://leisureknoll.org/calendar/recycling-cans-plastic-2022-12-28/
END:VEVENT
BEGIN:VEVENT
DTSTART;TZID=America/New_York:20230419T090000
DTEND;TZID=America/New_York:20230419T100000
DTSTAMP:20260424T041417
CREATED:20230312T035839Z
LAST-MODIFIED:20231128T012444Z
UID:10012123-1681894800-1681898400@leisureknoll.org
SUMMARY:Tennis Club
DESCRIPTION:
URL:https://leisureknoll.org/calendar/tennis-club/2023-04-19/
END:VEVENT
BEGIN:VEVENT
DTSTART;TZID=America/New_York:20230419T090000
DTEND;TZID=America/New_York:20230419T110000
DTSTAMP:20260424T041417
CREATED:20210416T003116Z
LAST-MODIFIED:20260109T025549Z
UID:10009692-1681894800-1681902000@leisureknoll.org
SUMMARY:Wood Shop
DESCRIPTION:
URL:https://leisureknoll.org/calendar/wood-shop/2023-04-19/
END:VEVENT
BEGIN:VEVENT
DTSTART;TZID=America/New_York:20230419T093000
DTEND;TZID=America/New_York:20230419T113000
DTSTAMP:20260424T041417
CREATED:20210901T030231Z
LAST-MODIFIED:20260109T030159Z
UID:10010774-1681896600-1681903800@leisureknoll.org
SUMMARY:Art Club
DESCRIPTION:Craft Room
URL:https://leisureknoll.org/calendar/art-club/2023-04-19/
END:VEVENT
BEGIN:VEVENT
DTSTART;TZID=America/New_York:20230419T100000
DTEND;TZID=America/New_York:20230419T110000
DTSTAMP:20260424T041417
CREATED:20220301T013856Z
LAST-MODIFIED:20250101T175615Z
UID:10010062-1681898400-1681902000@leisureknoll.org
SUMMARY:Slimnastics
DESCRIPTION:Recreation Hall
URL:https://leisureknoll.org/calendar/slimnastics-5/2023-04-19/
END:VEVENT
BEGIN:VEVENT
DTSTART;TZID=America/New_York:20230419T113000
DTEND;TZID=America/New_York:20230419T143000
DTSTAMP:20260424T041417
CREATED:20210416T005344Z
LAST-MODIFIED:20230106T201617Z
UID:10010826-1681903800-1681914600@leisureknoll.org
SUMMARY:Men's & Mixers Bowling
DESCRIPTION:
URL:https://leisureknoll.org/calendar/mens-bowling-2021-09-15/2023-04-19/
END:VEVENT
BEGIN:VEVENT
DTSTART;TZID=America/New_York:20230419T130000
DTEND;TZID=America/New_York:20230419T150000
DTSTAMP:20260424T041417
CREATED:20210416T003503Z
LAST-MODIFIED:20240929T182527Z
UID:10010279-1681909200-1681916400@leisureknoll.org
SUMMARY:Billiards
DESCRIPTION:Recreation Center\, every day except Sunday
URL:https://leisureknoll.org/calendar/billiards/2023-04-19/
END:VEVENT
BEGIN:VEVENT
DTSTART;TZID=America/New_York:20230419T130000
DTEND;TZID=America/New_York:20230419T150000
DTSTAMP:20260424T041417
CREATED:20210416T005743Z
LAST-MODIFIED:20260109T030323Z
UID:10010878-1681909200-1681916400@leisureknoll.org
SUMMARY:Bridge
DESCRIPTION:Craft Center
URL:https://leisureknoll.org/calendar/bridge/2023-04-19/
END:VEVENT
BEGIN:VEVENT
DTSTART;TZID=America/New_York:20230419T180000
DTEND;TZID=America/New_York:20230419T200000
DTSTAMP:20260424T041417
CREATED:20210416T005957Z
LAST-MODIFIED:20240929T182030Z
UID:10010982-1681927200-1681934400@leisureknoll.org
SUMMARY:Men's Poker
DESCRIPTION:Craft Center
URL:https://leisureknoll.org/calendar/mens-poker-2022-08-31/2023-04-19/
END:VEVENT
BEGIN:VEVENT
DTSTART;TZID=America/New_York:20230419T184500
DTEND;TZID=America/New_York:20230419T204500
DTSTAMP:20260424T041417
CREATED:20210505T022532Z
LAST-MODIFIED:20260109T031152Z
UID:10011034-1681929900-1681937100@leisureknoll.org
SUMMARY:Dominoes
DESCRIPTION:Recreation Hall
URL:https://leisureknoll.org/calendar/dominoes/2023-04-19/
END:VEVENT
BEGIN:VEVENT
DTSTART;TZID=America/New_York:20230420T090000
DTEND;TZID=America/New_York:20230420T110000
DTSTAMP:20260424T041417
CREATED:20210416T003116Z
LAST-MODIFIED:20260109T025549Z
UID:10009693-1681981200-1681988400@leisureknoll.org
SUMMARY:Wood Shop
DESCRIPTION:
URL:https://leisureknoll.org/calendar/wood-shop/2023-04-20/
END:VEVENT
BEGIN:VEVENT
DTSTART;TZID=America/New_York:20230420T093000
DTEND;TZID=America/New_York:20230420T103000
DTSTAMP:20260424T041417
CREATED:20230312T040136Z
LAST-MODIFIED:20231128T012323Z
UID:10012434-1681983000-1681986600@leisureknoll.org
SUMMARY:Ladies Tennis
DESCRIPTION:
URL:https://leisureknoll.org/calendar/ladies-tennis-4/2023-04-20/
END:VEVENT
BEGIN:VEVENT
DTSTART;TZID=America/New_York:20230420T100000
DTEND;TZID=America/New_York:20230420T130000
DTSTAMP:20260424T041417
CREATED:20210415T031404Z
LAST-MODIFIED:20240114T192421Z
UID:10011086-1681984800-1681995600@leisureknoll.org
SUMMARY:Bus to Port Jefferson Station
DESCRIPTION:Bus to Port Jefferson Station\, Meat Farms\, Shop Rite\, TJ Max shopping center. \nLeaves Leisure Knoll at 10:00 am.
URL:https://leisureknoll.org/calendar/bus-to-port-jefferson-station/2023-04-20/
END:VEVENT
END:VCALENDAR