BEGIN:VCALENDAR
VERSION:2.0
PRODID:-//Leisure Knoll - ECPv6.15.20//NONSGML v1.0//EN
CALSCALE:GREGORIAN
METHOD:PUBLISH
X-WR-CALNAME:Leisure Knoll
X-ORIGINAL-URL:https://leisureknoll.org
X-WR-CALDESC:Events for Leisure Knoll
REFRESH-INTERVAL;VALUE=DURATION:PT1H
X-Robots-Tag:noindex
X-PUBLISHED-TTL:PT1H
BEGIN:VTIMEZONE
TZID:America/New_York
BEGIN:DAYLIGHT
TZOFFSETFROM:-0500
TZOFFSETTO:-0400
TZNAME:EDT
DTSTART:20220313T070000
END:DAYLIGHT
BEGIN:STANDARD
TZOFFSETFROM:-0400
TZOFFSETTO:-0500
TZNAME:EST
DTSTART:20221106T060000
END:STANDARD
BEGIN:DAYLIGHT
TZOFFSETFROM:-0500
TZOFFSETTO:-0400
TZNAME:EDT
DTSTART:20230312T070000
END:DAYLIGHT
BEGIN:STANDARD
TZOFFSETFROM:-0400
TZOFFSETTO:-0500
TZNAME:EST
DTSTART:20231105T060000
END:STANDARD
BEGIN:DAYLIGHT
TZOFFSETFROM:-0500
TZOFFSETTO:-0400
TZNAME:EDT
DTSTART:20240310T070000
END:DAYLIGHT
BEGIN:STANDARD
TZOFFSETFROM:-0400
TZOFFSETTO:-0500
TZNAME:EST
DTSTART:20241103T060000
END:STANDARD
END:VTIMEZONE
BEGIN:VEVENT
DTSTART;VALUE=DATE:20231004
DTEND;VALUE=DATE:20231005
DTSTAMP:20260421T174024
CREATED:20210416T002146Z
LAST-MODIFIED:20250608T235413Z
UID:10021496-1696377600-1696463999@leisureknoll.org
SUMMARY:Recycling - Cans & Plastic
DESCRIPTION:Cans and plastic
URL:https://leisureknoll.org/calendar/recycling-cans-plastic-2022-11-16/
END:VEVENT
BEGIN:VEVENT
DTSTART;TZID=America/New_York:20231004T090000
DTEND;TZID=America/New_York:20231004T100000
DTSTAMP:20260421T174024
CREATED:20230312T035839Z
LAST-MODIFIED:20231128T012444Z
UID:10012219-1696410000-1696413600@leisureknoll.org
SUMMARY:Tennis Club
DESCRIPTION:
URL:https://leisureknoll.org/calendar/tennis-club/2023-10-04/
END:VEVENT
BEGIN:VEVENT
DTSTART;TZID=America/New_York:20231004T090000
DTEND;TZID=America/New_York:20231004T110000
DTSTAMP:20260421T174024
CREATED:20210416T003116Z
LAST-MODIFIED:20260109T025549Z
UID:10009812-1696410000-1696417200@leisureknoll.org
SUMMARY:Wood Shop
DESCRIPTION:
URL:https://leisureknoll.org/calendar/wood-shop/2023-10-04/
END:VEVENT
BEGIN:VEVENT
DTSTART;TZID=America/New_York:20231004T093000
DTEND;TZID=America/New_York:20231004T113000
DTSTAMP:20260421T174024
CREATED:20210901T030231Z
LAST-MODIFIED:20260109T030159Z
UID:10010798-1696411800-1696419000@leisureknoll.org
SUMMARY:Art Club
DESCRIPTION:Craft Room
URL:https://leisureknoll.org/calendar/art-club/2023-10-04/
END:VEVENT
BEGIN:VEVENT
DTSTART;TZID=America/New_York:20231004T100000
DTEND;TZID=America/New_York:20231004T110000
DTSTAMP:20260421T174025
CREATED:20220301T013856Z
LAST-MODIFIED:20250101T175615Z
UID:10010110-1696413600-1696417200@leisureknoll.org
SUMMARY:Slimnastics
DESCRIPTION:Recreation Hall
URL:https://leisureknoll.org/calendar/slimnastics-5/2023-10-04/
END:VEVENT
BEGIN:VEVENT
DTSTART;TZID=America/New_York:20231004T113000
DTEND;TZID=America/New_York:20231004T133000
DTSTAMP:20260421T174025
CREATED:20230909T172751Z
LAST-MODIFIED:20240307T040407Z
UID:10013156-1696419000-1696426200@leisureknoll.org
SUMMARY:Ladies Bowling
DESCRIPTION:11:30am
URL:https://leisureknoll.org/calendar/ladies-bowling/2023-10-04/
END:VEVENT
BEGIN:VEVENT
DTSTART;TZID=America/New_York:20231004T113000
DTEND;TZID=America/New_York:20231004T143000
DTSTAMP:20260421T174025
CREATED:20230617T023550Z
LAST-MODIFIED:20230617T023550Z
UID:10010850-1696419000-1696429800@leisureknoll.org
SUMMARY:Men's Bowling
DESCRIPTION:@ 11:30am
URL:https://leisureknoll.org/calendar/mens-bowling-2021-09-15-2/2023-10-04/
END:VEVENT
BEGIN:VEVENT
DTSTART;TZID=America/New_York:20231004T130000
DTEND;TZID=America/New_York:20231004T150000
DTSTAMP:20260421T174025
CREATED:20210416T003503Z
LAST-MODIFIED:20240929T182527Z
UID:10010423-1696424400-1696431600@leisureknoll.org
SUMMARY:Billiards
DESCRIPTION:Recreation Center\, every day except Sunday
URL:https://leisureknoll.org/calendar/billiards/2023-10-04/
END:VEVENT
BEGIN:VEVENT
DTSTART;TZID=America/New_York:20231004T143000
DTEND;TZID=America/New_York:20231004T160000
DTSTAMP:20260421T174025
CREATED:20230630T031357Z
LAST-MODIFIED:20231128T012532Z
UID:10012807-1696429800-1696435200@leisureknoll.org
SUMMARY:Pickleball Club
DESCRIPTION:@ 2:30pm
URL:https://leisureknoll.org/calendar/pickleball-club/2023-10-04/
END:VEVENT
BEGIN:VEVENT
DTSTART;TZID=America/New_York:20231004T180000
DTEND;TZID=America/New_York:20231004T200000
DTSTAMP:20260421T174025
CREATED:20210416T005957Z
LAST-MODIFIED:20240929T182030Z
UID:10011006-1696442400-1696449600@leisureknoll.org
SUMMARY:Men's Poker
DESCRIPTION:Craft Center
URL:https://leisureknoll.org/calendar/mens-poker-2022-08-31/2023-10-04/
END:VEVENT
BEGIN:VEVENT
DTSTART;TZID=America/New_York:20231004T184500
DTEND;TZID=America/New_York:20231004T204500
DTSTAMP:20260421T174025
CREATED:20210505T022532Z
LAST-MODIFIED:20260109T031152Z
UID:10011058-1696445100-1696452300@leisureknoll.org
SUMMARY:Dominoes
DESCRIPTION:Recreation Hall
URL:https://leisureknoll.org/calendar/dominoes/2023-10-04/
END:VEVENT
BEGIN:VEVENT
DTSTART;TZID=America/New_York:20231005T090000
DTEND;TZID=America/New_York:20231005T110000
DTSTAMP:20260421T174025
CREATED:20210416T003116Z
LAST-MODIFIED:20260109T025549Z
UID:10009813-1696496400-1696503600@leisureknoll.org
SUMMARY:Wood Shop
DESCRIPTION:
URL:https://leisureknoll.org/calendar/wood-shop/2023-10-05/
END:VEVENT
BEGIN:VEVENT
DTSTART;TZID=America/New_York:20231005T093000
DTEND;TZID=America/New_York:20231005T103000
DTSTAMP:20260421T174025
CREATED:20230312T040136Z
LAST-MODIFIED:20231128T012323Z
UID:10012482-1696498200-1696501800@leisureknoll.org
SUMMARY:Ladies Tennis
DESCRIPTION:
URL:https://leisureknoll.org/calendar/ladies-tennis-4/2023-10-05/
END:VEVENT
BEGIN:VEVENT
DTSTART;TZID=America/New_York:20231005T100000
DTEND;TZID=America/New_York:20231005T130000
DTSTAMP:20260421T174025
CREATED:20210415T031404Z
LAST-MODIFIED:20240114T192421Z
UID:10011110-1696500000-1696510800@leisureknoll.org
SUMMARY:Bus to Port Jefferson Station
DESCRIPTION:Bus to Port Jefferson Station\, Meat Farms\, Shop Rite\, TJ Max shopping center. \nLeaves Leisure Knoll at 10:00 am.
URL:https://leisureknoll.org/calendar/bus-to-port-jefferson-station/2023-10-05/
END:VEVENT
BEGIN:VEVENT
DTSTART;TZID=America/New_York:20231005T101500
DTEND;TZID=America/New_York:20231005T113000
DTSTAMP:20260421T174025
CREATED:20230312T032913Z
LAST-MODIFIED:20230312T032913Z
UID:10011162-1696500900-1696505400@leisureknoll.org
SUMMARY:Bible Study
DESCRIPTION:@ Craft Center
URL:https://leisureknoll.org/calendar/bible-study-2/2023-10-05/
END:VEVENT
BEGIN:VEVENT
DTSTART;TZID=America/New_York:20231005T110000
DTEND;TZID=America/New_York:20231005T120000
DTSTAMP:20260421T174025
CREATED:20221202T030602Z
LAST-MODIFIED:20260109T025858Z
UID:10009994-1696503600-1696507200@leisureknoll.org
SUMMARY:Ping Pong
DESCRIPTION:11am @ Recreation Hall
URL:https://leisureknoll.org/calendar/ping-pong/2023-10-05/
END:VEVENT
BEGIN:VEVENT
DTSTART;TZID=America/New_York:20231005T130000
DTEND;TZID=America/New_York:20231005T150000
DTSTAMP:20260421T174025
CREATED:20210416T003503Z
LAST-MODIFIED:20240929T182527Z
UID:10010424-1696510800-1696518000@leisureknoll.org
SUMMARY:Billiards
DESCRIPTION:Recreation Center\, every day except Sunday
URL:https://leisureknoll.org/calendar/billiards/2023-10-05/
END:VEVENT
BEGIN:VEVENT
DTSTART;TZID=America/New_York:20231005T130000
DTEND;TZID=America/New_York:20231005T150000
DTSTAMP:20260421T174025
CREATED:20210416T010104Z
LAST-MODIFIED:20230106T202026Z
UID:10011214-1696510800-1696518000@leisureknoll.org
SUMMARY:Bridge/Canasta
DESCRIPTION:Craft Center
URL:https://leisureknoll.org/calendar/bridge-canasta/2023-10-05/
END:VEVENT
BEGIN:VEVENT
DTSTART;TZID=America/New_York:20231005T183000
DTEND;TZID=America/New_York:20231005T203000
DTSTAMP:20260421T174025
CREATED:20210702T035015Z
LAST-MODIFIED:20230106T202125Z
UID:10011318-1696530600-1696537800@leisureknoll.org
SUMMARY:Men's Low Stakes Poker
DESCRIPTION:
URL:https://leisureknoll.org/calendar/mens-low-stakes-poker/2023-10-05/
END:VEVENT
BEGIN:VEVENT
DTSTART;TZID=America/New_York:20231005T183000
DTEND;TZID=America/New_York:20231005T203000
DTSTAMP:20260421T174025
CREATED:20230630T032653Z
LAST-MODIFIED:20230630T032653Z
UID:10011266-1696530600-1696537800@leisureknoll.org
SUMMARY:Mixed Games Poker
DESCRIPTION:Craft Center
URL:https://leisureknoll.org/calendar/ladies-poker-2-2/2023-10-05/
END:VEVENT
BEGIN:VEVENT
DTSTART;TZID=America/New_York:20231005T190000
DTEND;TZID=America/New_York:20231005T200000
DTSTAMP:20260421T174025
CREATED:20231012T024142Z
LAST-MODIFIED:20231104T195722Z
UID:10013250-1696532400-1696536000@leisureknoll.org
SUMMARY:Travel Club Meeting
DESCRIPTION:@7pm Rec Center
URL:https://leisureknoll.org/calendar/travel-club-meeting-13/2023-10-05/
END:VEVENT
BEGIN:VEVENT
DTSTART;TZID=America/New_York:20231005T190000
DTEND;TZID=America/New_York:20231005T210000
DTSTAMP:20260421T174025
CREATED:20230312T032808Z
LAST-MODIFIED:20231104T195522Z
UID:10011370-1696532400-1696539600@leisureknoll.org
SUMMARY:Game Night
DESCRIPTION:BYO \n@ 7pm
URL:https://leisureknoll.org/calendar/game-night-2-2/2023-10-05/
END:VEVENT
BEGIN:VEVENT
DTSTART;VALUE=DATE:20231006
DTEND;VALUE=DATE:20231007
DTSTAMP:20260421T174025
CREATED:20210416T001302Z
LAST-MODIFIED:20251215T033850Z
UID:10009537-1696550400-1696636799@leisureknoll.org
SUMMARY:Garbage Pick Up
DESCRIPTION:GARBAGE P/U -WINTERS BROS. WASTE – 631-491-4923\nGarbage pick up Tues. & Fri. except holidays Confirm Bulk P/U (on Thursday) with Winters Brothers
URL:https://leisureknoll.org/calendar/garbage-pick-up-fri/2023-10-06/
END:VEVENT
BEGIN:VEVENT
DTSTART;TZID=America/New_York:20231006T090000
DTEND;TZID=America/New_York:20231006T100000
DTSTAMP:20260421T174025
CREATED:20230312T035839Z
LAST-MODIFIED:20231128T012444Z
UID:10012220-1696582800-1696586400@leisureknoll.org
SUMMARY:Tennis Club
DESCRIPTION:
URL:https://leisureknoll.org/calendar/tennis-club/2023-10-06/
END:VEVENT
BEGIN:VEVENT
DTSTART;TZID=America/New_York:20231006T090000
DTEND;TZID=America/New_York:20231006T110000
DTSTAMP:20260421T174025
CREATED:20210416T003116Z
LAST-MODIFIED:20260109T025549Z
UID:10009814-1696582800-1696590000@leisureknoll.org
SUMMARY:Wood Shop
DESCRIPTION:
URL:https://leisureknoll.org/calendar/wood-shop/2023-10-06/
END:VEVENT
BEGIN:VEVENT
DTSTART;TZID=America/New_York:20231006T093000
DTEND;TZID=America/New_York:20231006T103000
DTSTAMP:20260421T174025
CREATED:20211209T023315Z
LAST-MODIFIED:20250101T175700Z
UID:10011479-1696584600-1696588200@leisureknoll.org
SUMMARY:Slimnastics
DESCRIPTION:9:30am @ Craft Center
URL:https://leisureknoll.org/calendar/slimnastics-4/2023-10-06/
END:VEVENT
BEGIN:VEVENT
DTSTART;TZID=America/New_York:20231006T130000
DTEND;TZID=America/New_York:20231006T150000
DTSTAMP:20260421T174025
CREATED:20210416T003503Z
LAST-MODIFIED:20240929T182527Z
UID:10010425-1696597200-1696604400@leisureknoll.org
SUMMARY:Billiards
DESCRIPTION:Recreation Center\, every day except Sunday
URL:https://leisureknoll.org/calendar/billiards/2023-10-06/
END:VEVENT
BEGIN:VEVENT
DTSTART;TZID=America/New_York:20231006T130000
DTEND;TZID=America/New_York:20231006T150000
DTSTAMP:20260421T174025
CREATED:20220602T022125Z
LAST-MODIFIED:20241106T040502Z
UID:10011531-1696597200-1696604400@leisureknoll.org
SUMMARY:Women's Card Game
DESCRIPTION:Craft Center @ 1pm
URL:https://leisureknoll.org/calendar/womens-card-game/2023-10-06/
END:VEVENT
BEGIN:VEVENT
DTSTART;TZID=America/New_York:20231006T143000
DTEND;TZID=America/New_York:20231006T160000
DTSTAMP:20260421T174025
CREATED:20230630T031357Z
LAST-MODIFIED:20231128T012532Z
UID:10012808-1696602600-1696608000@leisureknoll.org
SUMMARY:Pickleball Club
DESCRIPTION:@ 2:30pm
URL:https://leisureknoll.org/calendar/pickleball-club/2023-10-06/
END:VEVENT
BEGIN:VEVENT
DTSTART;TZID=America/New_York:20231006T180000
DTEND;TZID=America/New_York:20231006T200000
DTSTAMP:20260421T174025
CREATED:20221204T045026Z
LAST-MODIFIED:20221204T045026Z
UID:10009445-1696615200-1696622400@leisureknoll.org
SUMMARY:Texas Hold'em
DESCRIPTION:6pm @ Craft Center
URL:https://leisureknoll.org/calendar/texas-holdem-2/2023-10-06/
END:VEVENT
END:VCALENDAR