BEGIN:VCALENDAR
VERSION:2.0
PRODID:-//Leisure Knoll - ECPv6.15.20//NONSGML v1.0//EN
CALSCALE:GREGORIAN
METHOD:PUBLISH
X-WR-CALNAME:Leisure Knoll
X-ORIGINAL-URL:https://leisureknoll.org
X-WR-CALDESC:Events for Leisure Knoll
REFRESH-INTERVAL;VALUE=DURATION:PT1H
X-Robots-Tag:noindex
X-PUBLISHED-TTL:PT1H
BEGIN:VTIMEZONE
TZID:America/New_York
BEGIN:DAYLIGHT
TZOFFSETFROM:-0500
TZOFFSETTO:-0400
TZNAME:EDT
DTSTART:20220313T070000
END:DAYLIGHT
BEGIN:STANDARD
TZOFFSETFROM:-0400
TZOFFSETTO:-0500
TZNAME:EST
DTSTART:20221106T060000
END:STANDARD
BEGIN:DAYLIGHT
TZOFFSETFROM:-0500
TZOFFSETTO:-0400
TZNAME:EDT
DTSTART:20230312T070000
END:DAYLIGHT
BEGIN:STANDARD
TZOFFSETFROM:-0400
TZOFFSETTO:-0500
TZNAME:EST
DTSTART:20231105T060000
END:STANDARD
BEGIN:DAYLIGHT
TZOFFSETFROM:-0500
TZOFFSETTO:-0400
TZNAME:EDT
DTSTART:20240310T070000
END:DAYLIGHT
BEGIN:STANDARD
TZOFFSETFROM:-0400
TZOFFSETTO:-0500
TZNAME:EST
DTSTART:20241103T060000
END:STANDARD
END:VTIMEZONE
BEGIN:VEVENT
DTSTART;TZID=America/New_York:20230817T090000
DTEND;TZID=America/New_York:20230817T110000
DTSTAMP:20260422T181139
CREATED:20210416T003116Z
LAST-MODIFIED:20260109T025549Z
UID:10009778-1692262800-1692270000@leisureknoll.org
SUMMARY:Wood Shop
DESCRIPTION:
URL:https://leisureknoll.org/calendar/wood-shop/2023-08-17/
END:VEVENT
BEGIN:VEVENT
DTSTART;TZID=America/New_York:20230817T093000
DTEND;TZID=America/New_York:20230817T103000
DTSTAMP:20260422T181139
CREATED:20230312T040136Z
LAST-MODIFIED:20231128T012323Z
UID:10012468-1692264600-1692268200@leisureknoll.org
SUMMARY:Ladies Tennis
DESCRIPTION:
URL:https://leisureknoll.org/calendar/ladies-tennis-4/2023-08-17/
END:VEVENT
BEGIN:VEVENT
DTSTART;TZID=America/New_York:20230817T100000
DTEND;TZID=America/New_York:20230817T130000
DTSTAMP:20260422T181139
CREATED:20210415T031404Z
LAST-MODIFIED:20240114T192421Z
UID:10011103-1692266400-1692277200@leisureknoll.org
SUMMARY:Bus to Port Jefferson Station
DESCRIPTION:Bus to Port Jefferson Station\, Meat Farms\, Shop Rite\, TJ Max shopping center. \nLeaves Leisure Knoll at 10:00 am.
URL:https://leisureknoll.org/calendar/bus-to-port-jefferson-station/2023-08-17/
END:VEVENT
BEGIN:VEVENT
DTSTART;TZID=America/New_York:20230817T101500
DTEND;TZID=America/New_York:20230817T113000
DTSTAMP:20260422T181139
CREATED:20230312T032913Z
LAST-MODIFIED:20230312T032913Z
UID:10011155-1692267300-1692271800@leisureknoll.org
SUMMARY:Bible Study
DESCRIPTION:@ Craft Center
URL:https://leisureknoll.org/calendar/bible-study-2/2023-08-17/
END:VEVENT
BEGIN:VEVENT
DTSTART;TZID=America/New_York:20230817T110000
DTEND;TZID=America/New_York:20230817T120000
DTSTAMP:20260422T181139
CREATED:20221202T030602Z
LAST-MODIFIED:20260109T025858Z
UID:10009973-1692270000-1692273600@leisureknoll.org
SUMMARY:Ping Pong
DESCRIPTION:11am @ Recreation Hall
URL:https://leisureknoll.org/calendar/ping-pong/2023-08-17/
END:VEVENT
BEGIN:VEVENT
DTSTART;TZID=America/New_York:20230817T130000
DTEND;TZID=America/New_York:20230817T150000
DTSTAMP:20260422T181139
CREATED:20210416T003503Z
LAST-MODIFIED:20240929T182527Z
UID:10010382-1692277200-1692284400@leisureknoll.org
SUMMARY:Billiards
DESCRIPTION:Recreation Center\, every day except Sunday
URL:https://leisureknoll.org/calendar/billiards/2023-08-17/
END:VEVENT
BEGIN:VEVENT
DTSTART;TZID=America/New_York:20230817T130000
DTEND;TZID=America/New_York:20230817T150000
DTSTAMP:20260422T181139
CREATED:20210416T010104Z
LAST-MODIFIED:20230106T202026Z
UID:10011207-1692277200-1692284400@leisureknoll.org
SUMMARY:Bridge/Canasta
DESCRIPTION:Craft Center
URL:https://leisureknoll.org/calendar/bridge-canasta/2023-08-17/
END:VEVENT
BEGIN:VEVENT
DTSTART;TZID=America/New_York:20230817T183000
DTEND;TZID=America/New_York:20230817T203000
DTSTAMP:20260422T181139
CREATED:20210702T035015Z
LAST-MODIFIED:20230106T202125Z
UID:10011311-1692297000-1692304200@leisureknoll.org
SUMMARY:Men's Low Stakes Poker
DESCRIPTION:
URL:https://leisureknoll.org/calendar/mens-low-stakes-poker/2023-08-17/
END:VEVENT
BEGIN:VEVENT
DTSTART;TZID=America/New_York:20230817T183000
DTEND;TZID=America/New_York:20230817T203000
DTSTAMP:20260422T181139
CREATED:20230630T032653Z
LAST-MODIFIED:20230630T032653Z
UID:10011259-1692297000-1692304200@leisureknoll.org
SUMMARY:Mixed Games Poker
DESCRIPTION:Craft Center
URL:https://leisureknoll.org/calendar/ladies-poker-2-2/2023-08-17/
END:VEVENT
BEGIN:VEVENT
DTSTART;TZID=America/New_York:20230817T190000
DTEND;TZID=America/New_York:20230817T210000
DTSTAMP:20260422T181139
CREATED:20230312T032808Z
LAST-MODIFIED:20231104T195522Z
UID:10011363-1692298800-1692306000@leisureknoll.org
SUMMARY:Game Night
DESCRIPTION:BYO \n@ 7pm
URL:https://leisureknoll.org/calendar/game-night-2-2/2023-08-17/
END:VEVENT
BEGIN:VEVENT
DTSTART;VALUE=DATE:20230818
DTEND;VALUE=DATE:20230819
DTSTAMP:20260422T181139
CREATED:20210416T001302Z
LAST-MODIFIED:20251215T033850Z
UID:10009523-1692316800-1692403199@leisureknoll.org
SUMMARY:Garbage Pick Up
DESCRIPTION:GARBAGE P/U -WINTERS BROS. WASTE – 631-491-4923\nGarbage pick up Tues. & Fri. except holidays Confirm Bulk P/U (on Thursday) with Winters Brothers
URL:https://leisureknoll.org/calendar/garbage-pick-up-fri/2023-08-18/
END:VEVENT
BEGIN:VEVENT
DTSTART;TZID=America/New_York:20230818T090000
DTEND;TZID=America/New_York:20230818T100000
DTSTAMP:20260422T181139
CREATED:20230312T035839Z
LAST-MODIFIED:20231128T012444Z
UID:10012192-1692349200-1692352800@leisureknoll.org
SUMMARY:Tennis Club
DESCRIPTION:
URL:https://leisureknoll.org/calendar/tennis-club/2023-08-18/
END:VEVENT
BEGIN:VEVENT
DTSTART;TZID=America/New_York:20230818T090000
DTEND;TZID=America/New_York:20230818T110000
DTSTAMP:20260422T181139
CREATED:20210416T003116Z
LAST-MODIFIED:20260109T025549Z
UID:10009779-1692349200-1692356400@leisureknoll.org
SUMMARY:Wood Shop
DESCRIPTION:
URL:https://leisureknoll.org/calendar/wood-shop/2023-08-18/
END:VEVENT
BEGIN:VEVENT
DTSTART;TZID=America/New_York:20230818T093000
DTEND;TZID=America/New_York:20230818T103000
DTSTAMP:20260422T181139
CREATED:20211209T023315Z
LAST-MODIFIED:20250101T175700Z
UID:10011472-1692351000-1692354600@leisureknoll.org
SUMMARY:Slimnastics
DESCRIPTION:9:30am @ Craft Center
URL:https://leisureknoll.org/calendar/slimnastics-4/2023-08-18/
END:VEVENT
BEGIN:VEVENT
DTSTART;TZID=America/New_York:20230818T130000
DTEND;TZID=America/New_York:20230818T150000
DTSTAMP:20260422T181139
CREATED:20210416T003503Z
LAST-MODIFIED:20240929T182527Z
UID:10010383-1692363600-1692370800@leisureknoll.org
SUMMARY:Billiards
DESCRIPTION:Recreation Center\, every day except Sunday
URL:https://leisureknoll.org/calendar/billiards/2023-08-18/
END:VEVENT
BEGIN:VEVENT
DTSTART;TZID=America/New_York:20230818T130000
DTEND;TZID=America/New_York:20230818T150000
DTSTAMP:20260422T181139
CREATED:20220602T022125Z
LAST-MODIFIED:20241106T040502Z
UID:10011524-1692363600-1692370800@leisureknoll.org
SUMMARY:Women's Card Game
DESCRIPTION:Craft Center @ 1pm
URL:https://leisureknoll.org/calendar/womens-card-game/2023-08-18/
END:VEVENT
BEGIN:VEVENT
DTSTART;TZID=America/New_York:20230818T143000
DTEND;TZID=America/New_York:20230818T160000
DTSTAMP:20260422T181139
CREATED:20230630T031357Z
LAST-MODIFIED:20231128T012532Z
UID:10012787-1692369000-1692374400@leisureknoll.org
SUMMARY:Pickleball Club
DESCRIPTION:@ 2:30pm
URL:https://leisureknoll.org/calendar/pickleball-club/2023-08-18/
END:VEVENT
BEGIN:VEVENT
DTSTART;TZID=America/New_York:20230818T180000
DTEND;TZID=America/New_York:20230818T200000
DTSTAMP:20260422T181139
CREATED:20221204T045026Z
LAST-MODIFIED:20221204T045026Z
UID:10009438-1692381600-1692388800@leisureknoll.org
SUMMARY:Texas Hold'em
DESCRIPTION:6pm @ Craft Center
URL:https://leisureknoll.org/calendar/texas-holdem-2/2023-08-18/
END:VEVENT
BEGIN:VEVENT
DTSTART;TZID=America/New_York:20230818T190000
DTEND;TZID=America/New_York:20230818T210000
DTSTAMP:20260422T181139
CREATED:20230209T024948Z
LAST-MODIFIED:20230901T001345Z
UID:10011420-1692385200-1692392400@leisureknoll.org
SUMMARY:Corn Hole League
DESCRIPTION:7pm @ Rec Hall
URL:https://leisureknoll.org/calendar/corn-hole-league-2/2023-08-18/
END:VEVENT
BEGIN:VEVENT
DTSTART;TZID=America/New_York:20230819T090000
DTEND;TZID=America/New_York:20230819T100000
DTSTAMP:20260422T181139
CREATED:20230312T035839Z
LAST-MODIFIED:20231128T012444Z
UID:10012193-1692435600-1692439200@leisureknoll.org
SUMMARY:Tennis Club
DESCRIPTION:
URL:https://leisureknoll.org/calendar/tennis-club/2023-08-19/
END:VEVENT
BEGIN:VEVENT
DTSTART;TZID=America/New_York:20230819T103000
DTEND;TZID=America/New_York:20230819T113000
DTSTAMP:20260422T181139
CREATED:20230805T013736Z
LAST-MODIFIED:20230805T013736Z
UID:10013009-1692441000-1692444600@leisureknoll.org
SUMMARY:Entertainment Committee Ticket Sale Labor Day
DESCRIPTION:10:30-11:30am @ Craft Center
URL:https://leisureknoll.org/calendar/entertainment-committee-ticket-sale-labor-day/
END:VEVENT
BEGIN:VEVENT
DTSTART;TZID=America/New_York:20230819T130000
DTEND;TZID=America/New_York:20230819T150000
DTSTAMP:20260422T181139
CREATED:20210416T003503Z
LAST-MODIFIED:20240929T182527Z
UID:10010384-1692450000-1692457200@leisureknoll.org
SUMMARY:Billiards
DESCRIPTION:Recreation Center\, every day except Sunday
URL:https://leisureknoll.org/calendar/billiards/2023-08-19/
END:VEVENT
BEGIN:VEVENT
DTSTART;TZID=America/New_York:20230821T090000
DTEND;TZID=America/New_York:20230821T100000
DTSTAMP:20260422T181139
CREATED:20230312T035839Z
LAST-MODIFIED:20231128T012444Z
UID:10012194-1692608400-1692612000@leisureknoll.org
SUMMARY:Tennis Club
DESCRIPTION:
URL:https://leisureknoll.org/calendar/tennis-club/2023-08-21/
END:VEVENT
BEGIN:VEVENT
DTSTART;TZID=America/New_York:20230821T090000
DTEND;TZID=America/New_York:20230821T110000
DTSTAMP:20260422T181139
CREATED:20210416T003116Z
LAST-MODIFIED:20260109T025549Z
UID:10009780-1692608400-1692615600@leisureknoll.org
SUMMARY:Wood Shop
DESCRIPTION:
URL:https://leisureknoll.org/calendar/wood-shop/2023-08-21/
END:VEVENT
BEGIN:VEVENT
DTSTART;TZID=America/New_York:20230821T100000
DTEND;TZID=America/New_York:20230821T110000
DTSTAMP:20260422T181139
CREATED:20220301T013856Z
LAST-MODIFIED:20250101T175615Z
UID:10010097-1692612000-1692615600@leisureknoll.org
SUMMARY:Slimnastics
DESCRIPTION:Recreation Hall
URL:https://leisureknoll.org/calendar/slimnastics-5/2023-08-21/
END:VEVENT
BEGIN:VEVENT
DTSTART;TZID=America/New_York:20230821T110000
DTEND;TZID=America/New_York:20230821T120000
DTSTAMP:20260422T181139
CREATED:20221202T030602Z
LAST-MODIFIED:20260109T025858Z
UID:10009974-1692615600-1692619200@leisureknoll.org
SUMMARY:Ping Pong
DESCRIPTION:11am @ Recreation Hall
URL:https://leisureknoll.org/calendar/ping-pong/2023-08-21/
END:VEVENT
BEGIN:VEVENT
DTSTART;TZID=America/New_York:20230821T120000
DTEND;TZID=America/New_York:20230821T133000
DTSTAMP:20260422T181139
CREATED:20230630T031224Z
LAST-MODIFIED:20260109T030045Z
UID:10012695-1692619200-1692624600@leisureknoll.org
SUMMARY:Canasta
DESCRIPTION:12pm @ Craft Center
URL:https://leisureknoll.org/calendar/canasta/2023-08-21/
END:VEVENT
BEGIN:VEVENT
DTSTART;TZID=America/New_York:20230821T123000
DTEND;TZID=America/New_York:20230821T143000
DTSTAMP:20260422T181139
CREATED:20210702T030121Z
LAST-MODIFIED:20230106T200950Z
UID:10010168-1692621000-1692628200@leisureknoll.org
SUMMARY:Mah Jongg
DESCRIPTION:@ Craft Center
URL:https://leisureknoll.org/calendar/mah-jongg-5/2023-08-21/
END:VEVENT
BEGIN:VEVENT
DTSTART;TZID=America/New_York:20230821T130000
DTEND;TZID=America/New_York:20230821T150000
DTSTAMP:20260422T181139
CREATED:20210416T003503Z
LAST-MODIFIED:20240929T182527Z
UID:10010385-1692622800-1692630000@leisureknoll.org
SUMMARY:Billiards
DESCRIPTION:Recreation Center\, every day except Sunday
URL:https://leisureknoll.org/calendar/billiards/2023-08-21/
END:VEVENT
BEGIN:VEVENT
DTSTART;TZID=America/New_York:20230821T143000
DTEND;TZID=America/New_York:20230821T160000
DTSTAMP:20260422T181139
CREATED:20230630T031357Z
LAST-MODIFIED:20231128T012532Z
UID:10012788-1692628200-1692633600@leisureknoll.org
SUMMARY:Pickleball Club
DESCRIPTION:@ 2:30pm
URL:https://leisureknoll.org/calendar/pickleball-club/2023-08-21/
END:VEVENT
END:VCALENDAR