BEGIN:VCALENDAR
VERSION:2.0
PRODID:-//Leisure Knoll - ECPv6.15.20//NONSGML v1.0//EN
CALSCALE:GREGORIAN
METHOD:PUBLISH
X-WR-CALNAME:Leisure Knoll
X-ORIGINAL-URL:https://leisureknoll.org
X-WR-CALDESC:Events for Leisure Knoll
REFRESH-INTERVAL;VALUE=DURATION:PT1H
X-Robots-Tag:noindex
X-PUBLISHED-TTL:PT1H
BEGIN:VTIMEZONE
TZID:America/New_York
BEGIN:DAYLIGHT
TZOFFSETFROM:-0500
TZOFFSETTO:-0400
TZNAME:EDT
DTSTART:20220313T070000
END:DAYLIGHT
BEGIN:STANDARD
TZOFFSETFROM:-0400
TZOFFSETTO:-0500
TZNAME:EST
DTSTART:20221106T060000
END:STANDARD
BEGIN:DAYLIGHT
TZOFFSETFROM:-0500
TZOFFSETTO:-0400
TZNAME:EDT
DTSTART:20230312T070000
END:DAYLIGHT
BEGIN:STANDARD
TZOFFSETFROM:-0400
TZOFFSETTO:-0500
TZNAME:EST
DTSTART:20231105T060000
END:STANDARD
BEGIN:DAYLIGHT
TZOFFSETFROM:-0500
TZOFFSETTO:-0400
TZNAME:EDT
DTSTART:20240310T070000
END:DAYLIGHT
BEGIN:STANDARD
TZOFFSETFROM:-0400
TZOFFSETTO:-0500
TZNAME:EST
DTSTART:20241103T060000
END:STANDARD
END:VTIMEZONE
BEGIN:VEVENT
DTSTART;VALUE=DATE:20230503
DTEND;VALUE=DATE:20230504
DTSTAMP:20260424T043200
CREATED:20210416T002146Z
LAST-MODIFIED:20250608T235414Z
UID:10021589-1683072000-1683158399@leisureknoll.org
SUMMARY:Recycling - Cans & Plastic
DESCRIPTION:Cans and plastic
URL:https://leisureknoll.org/calendar/recycling-cans-plastic-2022-11-30/
END:VEVENT
BEGIN:VEVENT
DTSTART;VALUE=DATE:20230503
DTEND;VALUE=DATE:20230504
DTSTAMP:20260424T043200
CREATED:20210416T002146Z
LAST-MODIFIED:20250607T015434Z
UID:10020626-1683072000-1683158399@leisureknoll.org
SUMMARY:Recycling - Cans & Plastic
DESCRIPTION:Cans and plastic
URL:https://leisureknoll.org/calendar/recycling-cans-plastic-2022-07-13/
END:VEVENT
BEGIN:VEVENT
DTSTART;VALUE=DATE:20230503
DTEND;VALUE=DATE:20230504
DTSTAMP:20260424T043200
CREATED:20210416T002146Z
LAST-MODIFIED:20250607T015435Z
UID:10020956-1683072000-1683158399@leisureknoll.org
SUMMARY:Recycling - Cans & Plastic
DESCRIPTION:Cans and plastic
URL:https://leisureknoll.org/calendar/recycling-cans-plastic-2022-08-24/
END:VEVENT
BEGIN:VEVENT
DTSTART;VALUE=DATE:20230503
DTEND;VALUE=DATE:20230504
DTSTAMP:20260424T043200
CREATED:20210416T002146Z
LAST-MODIFIED:20250607T015436Z
UID:10021277-1683072000-1683158399@leisureknoll.org
SUMMARY:Recycling - Cans & Plastic
DESCRIPTION:Cans and plastic
URL:https://leisureknoll.org/calendar/recycling-cans-plastic-2022-10-19/
END:VEVENT
BEGIN:VEVENT
DTSTART;VALUE=DATE:20230503
DTEND;VALUE=DATE:20230504
DTSTAMP:20260424T043200
CREATED:20210416T002146Z
LAST-MODIFIED:20250607T015435Z
UID:10021064-1683072000-1683158399@leisureknoll.org
SUMMARY:Recycling - Cans & Plastic
DESCRIPTION:Cans and plastic
URL:https://leisureknoll.org/calendar/recycling-cans-plastic-2022-09-21/
END:VEVENT
BEGIN:VEVENT
DTSTART;VALUE=DATE:20230503
DTEND;VALUE=DATE:20230504
DTSTAMP:20260424T043200
CREATED:20210416T002146Z
LAST-MODIFIED:20250607T015435Z
UID:10021171-1683072000-1683158399@leisureknoll.org
SUMMARY:Recycling - Cans & Plastic
DESCRIPTION:Cans and plastic
URL:https://leisureknoll.org/calendar/recycling-cans-plastic-2022-10-05/
END:VEVENT
BEGIN:VEVENT
DTSTART;VALUE=DATE:20230503
DTEND;VALUE=DATE:20230504
DTSTAMP:20260424T043200
CREATED:20210416T002146Z
LAST-MODIFIED:20250608T235414Z
UID:10021691-1683072000-1683158399@leisureknoll.org
SUMMARY:Recycling - Cans & Plastic
DESCRIPTION:Cans and plastic
URL:https://leisureknoll.org/calendar/recycling-cans-plastic-2022-12-14/
END:VEVENT
BEGIN:VEVENT
DTSTART;VALUE=DATE:20230503
DTEND;VALUE=DATE:20230504
DTSTAMP:20260424T043200
CREATED:20210416T002146Z
LAST-MODIFIED:20250607T015433Z
UID:10020514-1683072000-1683158399@leisureknoll.org
SUMMARY:Recycling - Cans & Plastic
DESCRIPTION:Cans and plastic
URL:https://leisureknoll.org/calendar/recycling-cans-plastic-2022-06-29/
END:VEVENT
BEGIN:VEVENT
DTSTART;VALUE=DATE:20230503
DTEND;VALUE=DATE:20230504
DTSTAMP:20260424T043200
CREATED:20210416T002146Z
LAST-MODIFIED:20250608T235413Z
UID:10021486-1683072000-1683158399@leisureknoll.org
SUMMARY:Recycling - Cans & Plastic
DESCRIPTION:Cans and plastic
URL:https://leisureknoll.org/calendar/recycling-cans-plastic-2022-11-16/
END:VEVENT
BEGIN:VEVENT
DTSTART;VALUE=DATE:20230503
DTEND;VALUE=DATE:20230504
DTSTAMP:20260424T043200
CREATED:20210416T002146Z
LAST-MODIFIED:20250607T015434Z
UID:10020737-1683072000-1683158399@leisureknoll.org
SUMMARY:Recycling - Cans & Plastic
DESCRIPTION:Cans and plastic
URL:https://leisureknoll.org/calendar/recycling-cans-plastic-2022-07-27/
END:VEVENT
BEGIN:VEVENT
DTSTART;TZID=America/New_York:20230502T183000
DTEND;TZID=America/New_York:20230502T203000
DTSTAMP:20260424T043200
CREATED:20210702T033018Z
LAST-MODIFIED:20230501T195018Z
UID:10010724-1683052200-1683059400@leisureknoll.org
SUMMARY:Mixed Card Game
DESCRIPTION:Craft Center
URL:https://leisureknoll.org/calendar/guys-gals-card-game/2023-05-02/
END:VEVENT
BEGIN:VEVENT
DTSTART;TZID=America/New_York:20230502T130000
DTEND;TZID=America/New_York:20230502T163000
DTSTAMP:20260424T043200
CREATED:20230312T032638Z
LAST-MODIFIED:20240929T181808Z
UID:10011695-1683032400-1683045000@leisureknoll.org
SUMMARY:Rummikub
DESCRIPTION:Craft Center \n1-4:30pm
URL:https://leisureknoll.org/calendar/rummikub-2-2/2023-05-02/
END:VEVENT
BEGIN:VEVENT
DTSTART;TZID=America/New_York:20230502T130000
DTEND;TZID=America/New_York:20230502T150000
DTSTAMP:20260424T043200
CREATED:20210416T003503Z
LAST-MODIFIED:20240929T182527Z
UID:10010290-1683032400-1683039600@leisureknoll.org
SUMMARY:Billiards
DESCRIPTION:Recreation Center\, every day except Sunday
URL:https://leisureknoll.org/calendar/billiards/2023-05-02/
END:VEVENT
BEGIN:VEVENT
DTSTART;TZID=America/New_York:20230502T123000
DTEND;TZID=America/New_York:20230502T163000
DTSTAMP:20260424T043200
CREATED:20210415T030726Z
LAST-MODIFIED:20240114T192346Z
UID:10010620-1683030600-1683045000@leisureknoll.org
SUMMARY:Bus to Yaphank & Middle Island
DESCRIPTION:Bus to Wal-Mart Yaphank/King Kullen Middle Island shopping center. \nLeaves Leisure Knoll at 12:30pm and returns 4:30pm.
URL:https://leisureknoll.org/calendar/bus-to-middle-island/2023-05-02/
END:VEVENT
BEGIN:VEVENT
DTSTART;TZID=America/New_York:20230502T110000
DTEND;TZID=America/New_York:20230502T120000
DTSTAMP:20260424T043200
CREATED:20221202T030602Z
LAST-MODIFIED:20260109T025858Z
UID:10009927-1683025200-1683028800@leisureknoll.org
SUMMARY:Ping Pong
DESCRIPTION:11am @ Recreation Hall
URL:https://leisureknoll.org/calendar/ping-pong/2023-05-02/
END:VEVENT
BEGIN:VEVENT
DTSTART;TZID=America/New_York:20230502T093000
DTEND;TZID=America/New_York:20230502T103000
DTSTAMP:20260424T043200
CREATED:20230312T040136Z
LAST-MODIFIED:20231128T012323Z
UID:10012437-1683019800-1683023400@leisureknoll.org
SUMMARY:Ladies Tennis
DESCRIPTION:
URL:https://leisureknoll.org/calendar/ladies-tennis-4/2023-05-02/
END:VEVENT
BEGIN:VEVENT
DTSTART;TZID=America/New_York:20230502T090000
DTEND;TZID=America/New_York:20230502T110000
DTSTAMP:20260424T043200
CREATED:20210416T003116Z
LAST-MODIFIED:20260109T025549Z
UID:10009701-1683018000-1683025200@leisureknoll.org
SUMMARY:Wood Shop
DESCRIPTION:
URL:https://leisureknoll.org/calendar/wood-shop/2023-05-02/
END:VEVENT
BEGIN:VEVENT
DTSTART;VALUE=DATE:20230502
DTEND;VALUE=DATE:20230503
DTSTAMP:20260424T043200
CREATED:20210416T001302Z
LAST-MODIFIED:20251215T033850Z
UID:10009492-1682985600-1683071999@leisureknoll.org
SUMMARY:Garbage Pick Up
DESCRIPTION:GARBAGE P/U -WINTERS BROS. WASTE – 631-491-4923\nGarbage pick up Tues. & Fri. except holidays Confirm Bulk P/U (on Thursday) with Winters Brothers
URL:https://leisureknoll.org/calendar/garbage-pick-up-fri/2023-05-02/
END:VEVENT
BEGIN:VEVENT
DTSTART;TZID=America/New_York:20230501T180000
DTEND;TZID=America/New_York:20230501T200000
DTSTAMP:20260424T043200
CREATED:20210702T034900Z
LAST-MODIFIED:20240707T191247Z
UID:10016795-1682964000-1682971200@leisureknoll.org
SUMMARY:Ladies Poker
DESCRIPTION:Craft Center
URL:https://leisureknoll.org/calendar/ladies-poker-2021-09-13/2023-05-01/
END:VEVENT
BEGIN:VEVENT
DTSTART;TZID=America/New_York:20230501T130000
DTEND;TZID=America/New_York:20230501T150000
DTSTAMP:20260424T043200
CREATED:20210416T003503Z
LAST-MODIFIED:20240929T182527Z
UID:10010289-1682946000-1682953200@leisureknoll.org
SUMMARY:Billiards
DESCRIPTION:Recreation Center\, every day except Sunday
URL:https://leisureknoll.org/calendar/billiards/2023-05-01/
END:VEVENT
BEGIN:VEVENT
DTSTART;TZID=America/New_York:20230501T123000
DTEND;TZID=America/New_York:20230501T143000
DTSTAMP:20260424T043200
CREATED:20210702T030121Z
LAST-MODIFIED:20230106T200950Z
UID:10010152-1682944200-1682951400@leisureknoll.org
SUMMARY:Mah Jongg
DESCRIPTION:@ Craft Center
URL:https://leisureknoll.org/calendar/mah-jongg-5/2023-05-01/
END:VEVENT
BEGIN:VEVENT
DTSTART;TZID=America/New_York:20230501T110000
DTEND;TZID=America/New_York:20230501T120000
DTSTAMP:20260424T043200
CREATED:20221202T030602Z
LAST-MODIFIED:20260109T025858Z
UID:10009926-1682938800-1682942400@leisureknoll.org
SUMMARY:Ping Pong
DESCRIPTION:11am @ Recreation Hall
URL:https://leisureknoll.org/calendar/ping-pong/2023-05-01/
END:VEVENT
BEGIN:VEVENT
DTSTART;TZID=America/New_York:20230501T100000
DTEND;TZID=America/New_York:20230501T110000
DTSTAMP:20260424T043200
CREATED:20220301T013856Z
LAST-MODIFIED:20250101T175615Z
UID:10010065-1682935200-1682938800@leisureknoll.org
SUMMARY:Slimnastics
DESCRIPTION:Recreation Hall
URL:https://leisureknoll.org/calendar/slimnastics-5/2023-05-01/
END:VEVENT
BEGIN:VEVENT
DTSTART;TZID=America/New_York:20230501T090000
DTEND;TZID=America/New_York:20230501T110000
DTSTAMP:20260424T043200
CREATED:20210416T003116Z
LAST-MODIFIED:20260109T025549Z
UID:10009700-1682931600-1682938800@leisureknoll.org
SUMMARY:Wood Shop
DESCRIPTION:
URL:https://leisureknoll.org/calendar/wood-shop/2023-05-01/
END:VEVENT
BEGIN:VEVENT
DTSTART;TZID=America/New_York:20230501T090000
DTEND;TZID=America/New_York:20230501T100000
DTSTAMP:20260424T043200
CREATED:20230312T035839Z
LAST-MODIFIED:20231128T012444Z
UID:10012130-1682931600-1682935200@leisureknoll.org
SUMMARY:Tennis Club
DESCRIPTION:
URL:https://leisureknoll.org/calendar/tennis-club/2023-05-01/
END:VEVENT
BEGIN:VEVENT
DTSTART;TZID=America/New_York:20230430T180000
DTEND;TZID=America/New_York:20230430T230000
DTSTAMP:20260424T043200
CREATED:20230312T033638Z
LAST-MODIFIED:20231104T200551Z
UID:10012606-1682877600-1682895600@leisureknoll.org
SUMMARY:Texas Hold'Em Poker
DESCRIPTION:6-11pm @ Craft Center 2
URL:https://leisureknoll.org/calendar/texas-holdem-poker-9/2023-04-30/
END:VEVENT
BEGIN:VEVENT
DTSTART;TZID=America/New_York:20230429T130000
DTEND;TZID=America/New_York:20230429T150000
DTSTAMP:20260424T043200
CREATED:20210416T003503Z
LAST-MODIFIED:20240929T182527Z
UID:10010288-1682773200-1682780400@leisureknoll.org
SUMMARY:Billiards
DESCRIPTION:Recreation Center\, every day except Sunday
URL:https://leisureknoll.org/calendar/billiards/2023-04-29/
END:VEVENT
BEGIN:VEVENT
DTSTART;TZID=America/New_York:20230429T123000
DTEND;TZID=America/New_York:20230429T140000
DTSTAMP:20260424T043200
CREATED:20230312T033432Z
LAST-MODIFIED:20230312T033432Z
UID:10011743-1682771400-1682776800@leisureknoll.org
SUMMARY:Mah Jongg
DESCRIPTION:12:30pm @ Craft Center
URL:https://leisureknoll.org/calendar/mah-jongg-10/2023-04-29/
END:VEVENT
BEGIN:VEVENT
DTSTART;TZID=America/New_York:20230429T090000
DTEND;TZID=America/New_York:20230429T100000
DTSTAMP:20260424T043200
CREATED:20230312T035839Z
LAST-MODIFIED:20231128T012444Z
UID:10012129-1682758800-1682762400@leisureknoll.org
SUMMARY:Tennis Club
DESCRIPTION:
URL:https://leisureknoll.org/calendar/tennis-club/2023-04-29/
END:VEVENT
BEGIN:VEVENT
DTSTART;TZID=America/New_York:20230428T190000
DTEND;TZID=America/New_York:20230428T210000
DTSTAMP:20260424T043200
CREATED:20230209T024948Z
LAST-MODIFIED:20230901T001345Z
UID:10011404-1682708400-1682715600@leisureknoll.org
SUMMARY:Corn Hole League
DESCRIPTION:7pm @ Rec Hall
URL:https://leisureknoll.org/calendar/corn-hole-league-2/2023-04-28/
END:VEVENT
END:VCALENDAR