BEGIN:VCALENDAR
VERSION:2.0
PRODID:-//Leisure Knoll - ECPv6.15.20//NONSGML v1.0//EN
CALSCALE:GREGORIAN
METHOD:PUBLISH
X-WR-CALNAME:Leisure Knoll
X-ORIGINAL-URL:https://leisureknoll.org
X-WR-CALDESC:Events for Leisure Knoll
REFRESH-INTERVAL;VALUE=DURATION:PT1H
X-Robots-Tag:noindex
X-PUBLISHED-TTL:PT1H
BEGIN:VTIMEZONE
TZID:America/New_York
BEGIN:DAYLIGHT
TZOFFSETFROM:-0500
TZOFFSETTO:-0400
TZNAME:EDT
DTSTART:20240310T070000
END:DAYLIGHT
BEGIN:STANDARD
TZOFFSETFROM:-0400
TZOFFSETTO:-0500
TZNAME:EST
DTSTART:20241103T060000
END:STANDARD
BEGIN:DAYLIGHT
TZOFFSETFROM:-0500
TZOFFSETTO:-0400
TZNAME:EDT
DTSTART:20250309T070000
END:DAYLIGHT
BEGIN:STANDARD
TZOFFSETFROM:-0400
TZOFFSETTO:-0500
TZNAME:EST
DTSTART:20251102T060000
END:STANDARD
BEGIN:DAYLIGHT
TZOFFSETFROM:-0500
TZOFFSETTO:-0400
TZNAME:EDT
DTSTART:20260308T070000
END:DAYLIGHT
BEGIN:STANDARD
TZOFFSETFROM:-0400
TZOFFSETTO:-0500
TZNAME:EST
DTSTART:20261101T060000
END:STANDARD
END:VTIMEZONE
BEGIN:VEVENT
DTSTART;TZID=America/New_York:20250319T093000
DTEND;TZID=America/New_York:20250319T113000
DTSTAMP:20260421T220538
CREATED:20210901T030231Z
LAST-MODIFIED:20260109T030159Z
UID:10019094-1742376600-1742383800@leisureknoll.org
SUMMARY:Art Club
DESCRIPTION:Craft Room
URL:https://leisureknoll.org/calendar/art-club/2025-03-19/
END:VEVENT
BEGIN:VEVENT
DTSTART;TZID=America/New_York:20250319T100000
DTEND;TZID=America/New_York:20250319T110000
DTSTAMP:20260421T220538
CREATED:20220301T013856Z
LAST-MODIFIED:20250101T175615Z
UID:10018118-1742378400-1742382000@leisureknoll.org
SUMMARY:Slimnastics
DESCRIPTION:Recreation Hall
URL:https://leisureknoll.org/calendar/slimnastics-5/2025-03-19/
END:VEVENT
BEGIN:VEVENT
DTSTART;TZID=America/New_York:20250319T113000
DTEND;TZID=America/New_York:20250319T133000
DTSTAMP:20260421T220538
CREATED:20240929T182358Z
LAST-MODIFIED:20260109T031116Z
UID:10016534-1742383800-1742391000@leisureknoll.org
SUMMARY:Men's and Ladies' Bowling
DESCRIPTION:11:30am
URL:https://leisureknoll.org/calendar/mens-bowling-3-2/2025-03-19/
END:VEVENT
BEGIN:VEVENT
DTSTART;TZID=America/New_York:20250319T120000
DTEND;TZID=America/New_York:20250319T140000
DTSTAMP:20260421T220538
CREATED:20250305T020412Z
LAST-MODIFIED:20250305T020412Z
UID:10019908-1742385600-1742392800@leisureknoll.org
SUMMARY:Mah Jongg
DESCRIPTION:12pm @ Craft Center
URL:https://leisureknoll.org/calendar/mah-jongg-12/2025-03-19/
END:VEVENT
BEGIN:VEVENT
DTSTART;TZID=America/New_York:20250319T130000
DTEND;TZID=America/New_York:20250319T140000
DTSTAMP:20260421T220538
CREATED:20240929T181712Z
LAST-MODIFIED:20250305T015830Z
UID:10019772-1742389200-1742392800@leisureknoll.org
SUMMARY:Pickleball
DESCRIPTION:
URL:https://leisureknoll.org/calendar/pickleball-2/2025-03-19/
END:VEVENT
BEGIN:VEVENT
DTSTART;TZID=America/New_York:20250319T130000
DTEND;TZID=America/New_York:20250319T150000
DTSTAMP:20260421T220538
CREATED:20210416T005743Z
LAST-MODIFIED:20260109T030323Z
UID:10019218-1742389200-1742396400@leisureknoll.org
SUMMARY:Bridge
DESCRIPTION:Craft Center
URL:https://leisureknoll.org/calendar/bridge/2025-03-19/
END:VEVENT
BEGIN:VEVENT
DTSTART;TZID=America/New_York:20250319T130000
DTEND;TZID=America/New_York:20250319T150000
DTSTAMP:20260421T220538
CREATED:20240929T182249Z
LAST-MODIFIED:20250729T015104Z
UID:10019146-1742389200-1742396400@leisureknoll.org
SUMMARY:Knitting for Charity
DESCRIPTION:Craft Center
URL:https://leisureknoll.org/calendar/knitting-for-charity-5/2025-03-19/
END:VEVENT
BEGIN:VEVENT
DTSTART;TZID=America/New_York:20250319T130000
DTEND;TZID=America/New_York:20250319T150000
DTSTAMP:20260421T220538
CREATED:20241106T040418Z
LAST-MODIFIED:20250607T022519Z
UID:10018516-1742389200-1742396400@leisureknoll.org
SUMMARY:Billiards
DESCRIPTION:Recreation Center\, every day except Friday and Sunday
URL:https://leisureknoll.org/calendar/billiards-3/2025-03-19/
END:VEVENT
BEGIN:VEVENT
DTSTART;TZID=America/New_York:20250319T184500
DTEND;TZID=America/New_York:20250319T204500
DTSTAMP:20260421T220538
CREATED:20210505T022532Z
LAST-MODIFIED:20260109T031152Z
UID:10019423-1742409900-1742417100@leisureknoll.org
SUMMARY:Dominoes
DESCRIPTION:Recreation Hall
URL:https://leisureknoll.org/calendar/dominoes/2025-03-19/
END:VEVENT
BEGIN:VEVENT
DTSTART;VALUE=DATE:20250320
DTEND;VALUE=DATE:20250321
DTSTAMP:20260421T220538
CREATED:20250305T021147Z
LAST-MODIFIED:20250305T021147Z
UID:10019922-1742428800-1742515199@leisureknoll.org
SUMMARY:Spring Equinox
DESCRIPTION:
URL:https://leisureknoll.org/calendar/spring-equinox-2/
END:VEVENT
BEGIN:VEVENT
DTSTART;TZID=America/New_York:20250320T090000
DTEND;TZID=America/New_York:20250320T110000
DTSTAMP:20260421T220538
CREATED:20210416T003116Z
LAST-MODIFIED:20260109T025549Z
UID:10017892-1742461200-1742468400@leisureknoll.org
SUMMARY:Wood Shop
DESCRIPTION:
URL:https://leisureknoll.org/calendar/wood-shop/2025-03-20/
END:VEVENT
BEGIN:VEVENT
DTSTART;TZID=America/New_York:20250320T110000
DTEND;TZID=America/New_York:20250320T120000
DTSTAMP:20260421T220538
CREATED:20221202T030602Z
LAST-MODIFIED:20260109T025858Z
UID:10018234-1742468400-1742472000@leisureknoll.org
SUMMARY:Ping Pong
DESCRIPTION:11am @ Recreation Hall
URL:https://leisureknoll.org/calendar/ping-pong/2025-03-20/
END:VEVENT
BEGIN:VEVENT
DTSTART;TZID=America/New_York:20250320T130000
DTEND;TZID=America/New_York:20250320T150000
DTSTAMP:20260421T220538
CREATED:20231012T025517Z
LAST-MODIFIED:20260109T025947Z
UID:10018368-1742475600-1742482800@leisureknoll.org
SUMMARY:Canasta
DESCRIPTION:Craft Center
URL:https://leisureknoll.org/calendar/bridge-canasta-2/2025-03-20/
END:VEVENT
BEGIN:VEVENT
DTSTART;TZID=America/New_York:20250320T130000
DTEND;TZID=America/New_York:20250320T150000
DTSTAMP:20260421T220538
CREATED:20241106T040418Z
LAST-MODIFIED:20250607T022519Z
UID:10018517-1742475600-1742482800@leisureknoll.org
SUMMARY:Billiards
DESCRIPTION:Recreation Center\, every day except Friday and Sunday
URL:https://leisureknoll.org/calendar/billiards-3/2025-03-20/
END:VEVENT
BEGIN:VEVENT
DTSTART;TZID=America/New_York:20250320T183000
DTEND;TZID=America/New_York:20250320T203000
DTSTAMP:20260421T220538
CREATED:20231012T025607Z
LAST-MODIFIED:20260109T030920Z
UID:10018733-1742495400-1742502600@leisureknoll.org
SUMMARY:Ladies Poker
DESCRIPTION:Craft Center
URL:https://leisureknoll.org/calendar/ladies-poker-2-2-2/2025-03-20/
END:VEVENT
BEGIN:VEVENT
DTSTART;TZID=America/New_York:20250320T183000
DTEND;TZID=America/New_York:20250320T203000
DTSTAMP:20260421T220538
CREATED:20240601T020841Z
LAST-MODIFIED:20260109T030959Z
UID:10016599-1742495400-1742502600@leisureknoll.org
SUMMARY:LS Men's Poker
DESCRIPTION:6:30pm @ Craft Center
URL:https://leisureknoll.org/calendar/ls-mens-poker/2025-03-20/
END:VEVENT
BEGIN:VEVENT
DTSTART;VALUE=DATE:20250321
DTEND;VALUE=DATE:20250322
DTSTAMP:20260421T220538
CREATED:20210416T001302Z
LAST-MODIFIED:20251215T033850Z
UID:10019561-1742515200-1742601599@leisureknoll.org
SUMMARY:Garbage Pick Up
DESCRIPTION:GARBAGE P/U -WINTERS BROS. WASTE – 631-491-4923\nGarbage pick up Tues. & Fri. except holidays Confirm Bulk P/U (on Thursday) with Winters Brothers
URL:https://leisureknoll.org/calendar/garbage-pick-up-fri/2025-03-21/
END:VEVENT
BEGIN:VEVENT
DTSTART;TZID=America/New_York:20250321T090000
DTEND;TZID=America/New_York:20250321T110000
DTSTAMP:20260421T220538
CREATED:20210416T003116Z
LAST-MODIFIED:20260109T025549Z
UID:10017893-1742547600-1742554800@leisureknoll.org
SUMMARY:Wood Shop
DESCRIPTION:
URL:https://leisureknoll.org/calendar/wood-shop/2025-03-21/
END:VEVENT
BEGIN:VEVENT
DTSTART;TZID=America/New_York:20250321T093000
DTEND;TZID=America/New_York:20250321T103000
DTSTAMP:20260421T220538
CREATED:20211209T023315Z
LAST-MODIFIED:20250101T175700Z
UID:10018923-1742549400-1742553000@leisureknoll.org
SUMMARY:Slimnastics
DESCRIPTION:9:30am @ Craft Center
URL:https://leisureknoll.org/calendar/slimnastics-4/2025-03-21/
END:VEVENT
BEGIN:VEVENT
DTSTART;TZID=America/New_York:20250321T130000
DTEND;TZID=America/New_York:20250321T140000
DTSTAMP:20260421T220538
CREATED:20240929T181712Z
LAST-MODIFIED:20250305T015830Z
UID:10019773-1742562000-1742565600@leisureknoll.org
SUMMARY:Pickleball
DESCRIPTION:
URL:https://leisureknoll.org/calendar/pickleball-2/2025-03-21/
END:VEVENT
BEGIN:VEVENT
DTSTART;TZID=America/New_York:20250321T180000
DTEND;TZID=America/New_York:20250321T200000
DTSTAMP:20260421T220538
CREATED:20241106T040602Z
LAST-MODIFIED:20250101T175418Z
UID:10018871-1742580000-1742587200@leisureknoll.org
SUMMARY:Texas Hold'Em
DESCRIPTION:@ Craft Center
URL:https://leisureknoll.org/calendar/texas-holdem-3-2/2025-03-21/
END:VEVENT
BEGIN:VEVENT
DTSTART;TZID=America/New_York:20250322T120000
DTEND;TZID=America/New_York:20250322T140000
DTSTAMP:20260421T220538
CREATED:20240601T015151Z
LAST-MODIFIED:20250101T175318Z
UID:10016469-1742644800-1742652000@leisureknoll.org
SUMMARY:Mah Jongg
DESCRIPTION:12pm @ Craft Center
URL:https://leisureknoll.org/calendar/mah-jongg-11/2025-03-22/
END:VEVENT
BEGIN:VEVENT
DTSTART;TZID=America/New_York:20250322T130000
DTEND;TZID=America/New_York:20250322T150000
DTSTAMP:20260421T220538
CREATED:20241106T040418Z
LAST-MODIFIED:20250607T022519Z
UID:10018518-1742648400-1742655600@leisureknoll.org
SUMMARY:Billiards
DESCRIPTION:Recreation Center\, every day except Friday and Sunday
URL:https://leisureknoll.org/calendar/billiards-3/2025-03-22/
END:VEVENT
BEGIN:VEVENT
DTSTART;TZID=America/New_York:20250323T180000
DTEND;TZID=America/New_York:20250323T230000
DTSTAMP:20260421T220538
CREATED:20240929T180902Z
LAST-MODIFIED:20250729T013909Z
UID:10017464-1742752800-1742770800@leisureknoll.org
SUMMARY:Texas Hold'em Poker
DESCRIPTION:6-11pm Craft Center 2
URL:https://leisureknoll.org/calendar/texas-holdem-poker-12/2025-03-23/
END:VEVENT
BEGIN:VEVENT
DTSTART;TZID=America/New_York:20250324T090000
DTEND;TZID=America/New_York:20250324T110000
DTSTAMP:20260421T220538
CREATED:20210416T003116Z
LAST-MODIFIED:20260109T025549Z
UID:10017894-1742806800-1742814000@leisureknoll.org
SUMMARY:Wood Shop
DESCRIPTION:
URL:https://leisureknoll.org/calendar/wood-shop/2025-03-24/
END:VEVENT
BEGIN:VEVENT
DTSTART;TZID=America/New_York:20250324T100000
DTEND;TZID=America/New_York:20250324T110000
DTSTAMP:20260421T220538
CREATED:20220301T013856Z
LAST-MODIFIED:20250101T175615Z
UID:10018119-1742810400-1742814000@leisureknoll.org
SUMMARY:Slimnastics
DESCRIPTION:Recreation Hall
URL:https://leisureknoll.org/calendar/slimnastics-5/2025-03-24/
END:VEVENT
BEGIN:VEVENT
DTSTART;TZID=America/New_York:20250324T110000
DTEND;TZID=America/New_York:20250324T120000
DTSTAMP:20260421T220538
CREATED:20221202T030602Z
LAST-MODIFIED:20260109T025858Z
UID:10018235-1742814000-1742817600@leisureknoll.org
SUMMARY:Ping Pong
DESCRIPTION:11am @ Recreation Hall
URL:https://leisureknoll.org/calendar/ping-pong/2025-03-24/
END:VEVENT
BEGIN:VEVENT
DTSTART;TZID=America/New_York:20250324T120000
DTEND;TZID=America/New_York:20250324T133000
DTSTAMP:20260421T220538
CREATED:20230630T031224Z
LAST-MODIFIED:20260109T030045Z
UID:10018420-1742817600-1742823000@leisureknoll.org
SUMMARY:Canasta
DESCRIPTION:12pm @ Craft Center
URL:https://leisureknoll.org/calendar/canasta/2025-03-24/
END:VEVENT
BEGIN:VEVENT
DTSTART;TZID=America/New_York:20250324T130000
DTEND;TZID=America/New_York:20250324T140000
DTSTAMP:20260421T220538
CREATED:20240929T181712Z
LAST-MODIFIED:20250305T015830Z
UID:10019774-1742821200-1742824800@leisureknoll.org
SUMMARY:Pickleball
DESCRIPTION:
URL:https://leisureknoll.org/calendar/pickleball-2/2025-03-24/
END:VEVENT
BEGIN:VEVENT
DTSTART;TZID=America/New_York:20250324T130000
DTEND;TZID=America/New_York:20250324T150000
DTSTAMP:20260421T220538
CREATED:20241106T040418Z
LAST-MODIFIED:20250607T022519Z
UID:10018519-1742821200-1742828400@leisureknoll.org
SUMMARY:Billiards
DESCRIPTION:Recreation Center\, every day except Friday and Sunday
URL:https://leisureknoll.org/calendar/billiards-3/2025-03-24/
END:VEVENT
END:VCALENDAR