BEGIN:VCALENDAR
VERSION:2.0
PRODID:-//Leisure Knoll - ECPv6.15.20//NONSGML v1.0//EN
CALSCALE:GREGORIAN
METHOD:PUBLISH
X-WR-CALNAME:Leisure Knoll
X-ORIGINAL-URL:https://leisureknoll.org
X-WR-CALDESC:Events for Leisure Knoll
REFRESH-INTERVAL;VALUE=DURATION:PT1H
X-Robots-Tag:noindex
X-PUBLISHED-TTL:PT1H
BEGIN:VTIMEZONE
TZID:America/New_York
BEGIN:DAYLIGHT
TZOFFSETFROM:-0500
TZOFFSETTO:-0400
TZNAME:EDT
DTSTART:20220313T070000
END:DAYLIGHT
BEGIN:STANDARD
TZOFFSETFROM:-0400
TZOFFSETTO:-0500
TZNAME:EST
DTSTART:20221106T060000
END:STANDARD
BEGIN:DAYLIGHT
TZOFFSETFROM:-0500
TZOFFSETTO:-0400
TZNAME:EDT
DTSTART:20230312T070000
END:DAYLIGHT
BEGIN:STANDARD
TZOFFSETFROM:-0400
TZOFFSETTO:-0500
TZNAME:EST
DTSTART:20231105T060000
END:STANDARD
BEGIN:DAYLIGHT
TZOFFSETFROM:-0500
TZOFFSETTO:-0400
TZNAME:EDT
DTSTART:20240310T070000
END:DAYLIGHT
BEGIN:STANDARD
TZOFFSETFROM:-0400
TZOFFSETTO:-0500
TZNAME:EST
DTSTART:20241103T060000
END:STANDARD
END:VTIMEZONE
BEGIN:VEVENT
DTSTART;TZID=America/New_York:20230330T183000
DTEND;TZID=America/New_York:20230330T203000
DTSTAMP:20260425T105705
CREATED:20210702T035015Z
LAST-MODIFIED:20230106T202125Z
UID:10011291-1680201000-1680208200@leisureknoll.org
SUMMARY:Men's Low Stakes Poker
DESCRIPTION:
URL:https://leisureknoll.org/calendar/mens-low-stakes-poker/2023-03-30/
END:VEVENT
BEGIN:VEVENT
DTSTART;TZID=America/New_York:20230330T130000
DTEND;TZID=America/New_York:20230330T150000
DTSTAMP:20260425T105705
CREATED:20210416T010104Z
LAST-MODIFIED:20230106T202026Z
UID:10011187-1680181200-1680188400@leisureknoll.org
SUMMARY:Bridge/Canasta
DESCRIPTION:Craft Center
URL:https://leisureknoll.org/calendar/bridge-canasta/2023-03-30/
END:VEVENT
BEGIN:VEVENT
DTSTART;TZID=America/New_York:20230330T130000
DTEND;TZID=America/New_York:20230330T150000
DTSTAMP:20260425T105705
CREATED:20210416T003503Z
LAST-MODIFIED:20240929T182527Z
UID:10010262-1680181200-1680188400@leisureknoll.org
SUMMARY:Billiards
DESCRIPTION:Recreation Center\, every day except Sunday
URL:https://leisureknoll.org/calendar/billiards/2023-03-30/
END:VEVENT
BEGIN:VEVENT
DTSTART;TZID=America/New_York:20230330T110000
DTEND;TZID=America/New_York:20230330T120000
DTSTAMP:20260425T105705
CREATED:20221202T030602Z
LAST-MODIFIED:20260109T025858Z
UID:10009913-1680174000-1680177600@leisureknoll.org
SUMMARY:Ping Pong
DESCRIPTION:11am @ Recreation Hall
URL:https://leisureknoll.org/calendar/ping-pong/2023-03-30/
END:VEVENT
BEGIN:VEVENT
DTSTART;TZID=America/New_York:20230330T100000
DTEND;TZID=America/New_York:20230330T130000
DTSTAMP:20260425T105705
CREATED:20210415T031404Z
LAST-MODIFIED:20240114T192421Z
UID:10011083-1680170400-1680181200@leisureknoll.org
SUMMARY:Bus to Port Jefferson Station
DESCRIPTION:Bus to Port Jefferson Station\, Meat Farms\, Shop Rite\, TJ Max shopping center. \nLeaves Leisure Knoll at 10:00 am.
URL:https://leisureknoll.org/calendar/bus-to-port-jefferson-station/2023-03-30/
END:VEVENT
BEGIN:VEVENT
DTSTART;TZID=America/New_York:20230330T093000
DTEND;TZID=America/New_York:20230330T103000
DTSTAMP:20260425T105705
CREATED:20230312T040136Z
LAST-MODIFIED:20231128T012323Z
UID:10012428-1680168600-1680172200@leisureknoll.org
SUMMARY:Ladies Tennis
DESCRIPTION:
URL:https://leisureknoll.org/calendar/ladies-tennis-4/2023-03-30/
END:VEVENT
BEGIN:VEVENT
DTSTART;TZID=America/New_York:20230330T090000
DTEND;TZID=America/New_York:20230330T110000
DTSTAMP:20260425T105705
CREATED:20210416T003116Z
LAST-MODIFIED:20260109T025549Z
UID:10009678-1680166800-1680174000@leisureknoll.org
SUMMARY:Wood Shop
DESCRIPTION:
URL:https://leisureknoll.org/calendar/wood-shop/2023-03-30/
END:VEVENT
BEGIN:VEVENT
DTSTART;TZID=America/New_York:20230329T184500
DTEND;TZID=America/New_York:20230329T204500
DTSTAMP:20260425T105705
CREATED:20210505T022532Z
LAST-MODIFIED:20260109T031152Z
UID:10011031-1680115500-1680122700@leisureknoll.org
SUMMARY:Dominoes
DESCRIPTION:Recreation Hall
URL:https://leisureknoll.org/calendar/dominoes/2023-03-29/
END:VEVENT
BEGIN:VEVENT
DTSTART;TZID=America/New_York:20230329T180000
DTEND;TZID=America/New_York:20230329T200000
DTSTAMP:20260425T105705
CREATED:20210416T005957Z
LAST-MODIFIED:20240929T182030Z
UID:10010979-1680112800-1680120000@leisureknoll.org
SUMMARY:Men's Poker
DESCRIPTION:Craft Center
URL:https://leisureknoll.org/calendar/mens-poker-2022-08-31/2023-03-29/
END:VEVENT
BEGIN:VEVENT
DTSTART;TZID=America/New_York:20230329T130000
DTEND;TZID=America/New_York:20230329T150000
DTSTAMP:20260425T105705
CREATED:20210416T005743Z
LAST-MODIFIED:20260109T030323Z
UID:10010875-1680094800-1680102000@leisureknoll.org
SUMMARY:Bridge
DESCRIPTION:Craft Center
URL:https://leisureknoll.org/calendar/bridge/2023-03-29/
END:VEVENT
BEGIN:VEVENT
DTSTART;TZID=America/New_York:20230329T130000
DTEND;TZID=America/New_York:20230329T150000
DTSTAMP:20260425T105705
CREATED:20210416T003503Z
LAST-MODIFIED:20240929T182527Z
UID:10010261-1680094800-1680102000@leisureknoll.org
SUMMARY:Billiards
DESCRIPTION:Recreation Center\, every day except Sunday
URL:https://leisureknoll.org/calendar/billiards/2023-03-29/
END:VEVENT
BEGIN:VEVENT
DTSTART;TZID=America/New_York:20230329T113000
DTEND;TZID=America/New_York:20230329T143000
DTSTAMP:20260425T105705
CREATED:20210416T005344Z
LAST-MODIFIED:20230106T201617Z
UID:10010823-1680089400-1680100200@leisureknoll.org
SUMMARY:Men's & Mixers Bowling
DESCRIPTION:
URL:https://leisureknoll.org/calendar/mens-bowling-2021-09-15/2023-03-29/
END:VEVENT
BEGIN:VEVENT
DTSTART;TZID=America/New_York:20230329T100000
DTEND;TZID=America/New_York:20230329T110000
DTSTAMP:20260425T105705
CREATED:20220301T013856Z
LAST-MODIFIED:20250101T175615Z
UID:10010056-1680084000-1680087600@leisureknoll.org
SUMMARY:Slimnastics
DESCRIPTION:Recreation Hall
URL:https://leisureknoll.org/calendar/slimnastics-5/2023-03-29/
END:VEVENT
BEGIN:VEVENT
DTSTART;TZID=America/New_York:20230329T093000
DTEND;TZID=America/New_York:20230329T113000
DTSTAMP:20260425T105705
CREATED:20210901T030231Z
LAST-MODIFIED:20260109T030159Z
UID:10010771-1680082200-1680089400@leisureknoll.org
SUMMARY:Art Club
DESCRIPTION:Craft Room
URL:https://leisureknoll.org/calendar/art-club/2023-03-29/
END:VEVENT
BEGIN:VEVENT
DTSTART;TZID=America/New_York:20230329T090000
DTEND;TZID=America/New_York:20230329T110000
DTSTAMP:20260425T105705
CREATED:20210416T003116Z
LAST-MODIFIED:20260109T025549Z
UID:10009677-1680080400-1680087600@leisureknoll.org
SUMMARY:Wood Shop
DESCRIPTION:
URL:https://leisureknoll.org/calendar/wood-shop/2023-03-29/
END:VEVENT
BEGIN:VEVENT
DTSTART;TZID=America/New_York:20230329T090000
DTEND;TZID=America/New_York:20230329T100000
DTSTAMP:20260425T105705
CREATED:20230312T035839Z
LAST-MODIFIED:20231128T012444Z
UID:10012111-1680080400-1680084000@leisureknoll.org
SUMMARY:Tennis Club
DESCRIPTION:
URL:https://leisureknoll.org/calendar/tennis-club/2023-03-29/
END:VEVENT
BEGIN:VEVENT
DTSTART;VALUE=DATE:20230329
DTEND;VALUE=DATE:20230330
DTSTAMP:20260425T105705
CREATED:20230312T035936Z
LAST-MODIFIED:20230312T035936Z
UID:10012427-1680048000-1680134399@leisureknoll.org
SUMMARY:National Vietnam War Veterans Day
DESCRIPTION:
URL:https://leisureknoll.org/calendar/national-vietnam-war-veterans-day/
END:VEVENT
BEGIN:VEVENT
DTSTART;VALUE=DATE:20230329
DTEND;VALUE=DATE:20230330
DTSTAMP:20260425T105705
CREATED:20210416T002329Z
LAST-MODIFIED:20250101T172802Z
UID:10009568-1680048000-1680134399@leisureknoll.org
SUMMARY:Recycling - Paper
DESCRIPTION:Paper
URL:https://leisureknoll.org/calendar/recycling-paper/2023-03-29/
END:VEVENT
BEGIN:VEVENT
DTSTART;TZID=America/New_York:20230328T190000
DTEND;TZID=America/New_York:20230328T210000
DTSTAMP:20260425T105705
CREATED:20230312T035722Z
LAST-MODIFIED:20230403T000905Z
UID:10011792-1680030000-1680037200@leisureknoll.org
SUMMARY:Bunco Night
DESCRIPTION:7pm @ Recreation Center \nLKA Residents Only
URL:https://leisureknoll.org/calendar/bunco-night-4/2023-03-28/
END:VEVENT
BEGIN:VEVENT
DTSTART;TZID=America/New_York:20230328T183000
DTEND;TZID=America/New_York:20230328T203000
DTSTAMP:20260425T105706
CREATED:20210702T033018Z
LAST-MODIFIED:20230501T195018Z
UID:10010719-1680028200-1680035400@leisureknoll.org
SUMMARY:Mixed Card Game
DESCRIPTION:Craft Center
URL:https://leisureknoll.org/calendar/guys-gals-card-game/2023-03-28/
END:VEVENT
BEGIN:VEVENT
DTSTART;TZID=America/New_York:20230328T130000
DTEND;TZID=America/New_York:20230328T150000
DTSTAMP:20260425T105706
CREATED:20210416T003503Z
LAST-MODIFIED:20240929T182527Z
UID:10010260-1680008400-1680015600@leisureknoll.org
SUMMARY:Billiards
DESCRIPTION:Recreation Center\, every day except Sunday
URL:https://leisureknoll.org/calendar/billiards/2023-03-28/
END:VEVENT
BEGIN:VEVENT
DTSTART;TZID=America/New_York:20230328T130000
DTEND;TZID=America/New_York:20230328T140000
DTSTAMP:20260425T105706
CREATED:20230209T030412Z
LAST-MODIFIED:20230501T203608Z
UID:10011789-1680008400-1680012000@leisureknoll.org
SUMMARY:Architectural Committee Meeting
DESCRIPTION:1-2pm @ Craft Center
URL:https://leisureknoll.org/calendar/architectural-committee-meeting-12/2023-03-28/
END:VEVENT
BEGIN:VEVENT
DTSTART;TZID=America/New_York:20230328T123000
DTEND;TZID=America/New_York:20230328T163000
DTSTAMP:20260425T105706
CREATED:20210415T030726Z
LAST-MODIFIED:20240114T192346Z
UID:10010615-1680006600-1680021000@leisureknoll.org
SUMMARY:Bus to Yaphank & Middle Island
DESCRIPTION:Bus to Wal-Mart Yaphank/King Kullen Middle Island shopping center. \nLeaves Leisure Knoll at 12:30pm and returns 4:30pm.
URL:https://leisureknoll.org/calendar/bus-to-middle-island/2023-03-28/
END:VEVENT
BEGIN:VEVENT
DTSTART;TZID=America/New_York:20230328T110000
DTEND;TZID=America/New_York:20230328T120000
DTSTAMP:20260425T105706
CREATED:20221202T030602Z
LAST-MODIFIED:20260109T025858Z
UID:10009912-1680001200-1680004800@leisureknoll.org
SUMMARY:Ping Pong
DESCRIPTION:11am @ Recreation Hall
URL:https://leisureknoll.org/calendar/ping-pong/2023-03-28/
END:VEVENT
BEGIN:VEVENT
DTSTART;TZID=America/New_York:20230328T090000
DTEND;TZID=America/New_York:20230328T110000
DTSTAMP:20260425T105706
CREATED:20210416T003116Z
LAST-MODIFIED:20260109T025549Z
UID:10009676-1679994000-1680001200@leisureknoll.org
SUMMARY:Wood Shop
DESCRIPTION:
URL:https://leisureknoll.org/calendar/wood-shop/2023-03-28/
END:VEVENT
BEGIN:VEVENT
DTSTART;VALUE=DATE:20230328
DTEND;VALUE=DATE:20230329
DTSTAMP:20260425T105706
CREATED:20210416T001302Z
LAST-MODIFIED:20251215T033850Z
UID:10009482-1679961600-1680047999@leisureknoll.org
SUMMARY:Garbage Pick Up
DESCRIPTION:GARBAGE P/U -WINTERS BROS. WASTE – 631-491-4923\nGarbage pick up Tues. & Fri. except holidays Confirm Bulk P/U (on Thursday) with Winters Brothers
URL:https://leisureknoll.org/calendar/garbage-pick-up-fri/2023-03-28/
END:VEVENT
BEGIN:VEVENT
DTSTART;TZID=America/New_York:20230327T180000
DTEND;TZID=America/New_York:20230327T200000
DTSTAMP:20260425T105706
CREATED:20210702T034900Z
LAST-MODIFIED:20240707T191247Z
UID:10016790-1679940000-1679947200@leisureknoll.org
SUMMARY:Ladies Poker
DESCRIPTION:Craft Center
URL:https://leisureknoll.org/calendar/ladies-poker-2021-09-13/2023-03-27/
END:VEVENT
BEGIN:VEVENT
DTSTART;TZID=America/New_York:20230327T130000
DTEND;TZID=America/New_York:20230327T150000
DTSTAMP:20260425T105706
CREATED:20210416T003503Z
LAST-MODIFIED:20240929T182527Z
UID:10010259-1679922000-1679929200@leisureknoll.org
SUMMARY:Billiards
DESCRIPTION:Recreation Center\, every day except Sunday
URL:https://leisureknoll.org/calendar/billiards/2023-03-27/
END:VEVENT
BEGIN:VEVENT
DTSTART;TZID=America/New_York:20230327T123000
DTEND;TZID=America/New_York:20230327T143000
DTSTAMP:20260425T105706
CREATED:20210702T030121Z
LAST-MODIFIED:20230106T200950Z
UID:10010147-1679920200-1679927400@leisureknoll.org
SUMMARY:Mah Jongg
DESCRIPTION:@ Craft Center
URL:https://leisureknoll.org/calendar/mah-jongg-5/2023-03-27/
END:VEVENT
BEGIN:VEVENT
DTSTART;TZID=America/New_York:20230327T110000
DTEND;TZID=America/New_York:20230327T120000
DTSTAMP:20260425T105706
CREATED:20221202T030602Z
LAST-MODIFIED:20260109T025858Z
UID:10009911-1679914800-1679918400@leisureknoll.org
SUMMARY:Ping Pong
DESCRIPTION:11am @ Recreation Hall
URL:https://leisureknoll.org/calendar/ping-pong/2023-03-27/
END:VEVENT
END:VCALENDAR