BEGIN:VCALENDAR
VERSION:2.0
PRODID:-//Leisure Knoll - ECPv6.15.20//NONSGML v1.0//EN
CALSCALE:GREGORIAN
METHOD:PUBLISH
X-ORIGINAL-URL:https://leisureknoll.org
X-WR-CALDESC:Events for Leisure Knoll
REFRESH-INTERVAL;VALUE=DURATION:PT1H
X-Robots-Tag:noindex
X-PUBLISHED-TTL:PT1H
BEGIN:VTIMEZONE
TZID:America/New_York
BEGIN:DAYLIGHT
TZOFFSETFROM:-0500
TZOFFSETTO:-0400
TZNAME:EDT
DTSTART:20220313T070000
END:DAYLIGHT
BEGIN:STANDARD
TZOFFSETFROM:-0400
TZOFFSETTO:-0500
TZNAME:EST
DTSTART:20221106T060000
END:STANDARD
BEGIN:DAYLIGHT
TZOFFSETFROM:-0500
TZOFFSETTO:-0400
TZNAME:EDT
DTSTART:20230312T070000
END:DAYLIGHT
BEGIN:STANDARD
TZOFFSETFROM:-0400
TZOFFSETTO:-0500
TZNAME:EST
DTSTART:20231105T060000
END:STANDARD
BEGIN:DAYLIGHT
TZOFFSETFROM:-0500
TZOFFSETTO:-0400
TZNAME:EDT
DTSTART:20240310T070000
END:DAYLIGHT
BEGIN:STANDARD
TZOFFSETFROM:-0400
TZOFFSETTO:-0500
TZNAME:EST
DTSTART:20241103T060000
END:STANDARD
END:VTIMEZONE
BEGIN:VEVENT
DTSTART;VALUE=DATE:20231103
DTEND;VALUE=DATE:20231104
DTSTAMP:20260419T125919
CREATED:20210416T001302Z
LAST-MODIFIED:20251215T033850Z
UID:10009545-1698969600-1699055999@leisureknoll.org
SUMMARY:Garbage Pick Up
DESCRIPTION:GARBAGE P/U -WINTERS BROS. WASTE – 631-491-4923\nGarbage pick up Tues. & Fri. except holidays Confirm Bulk P/U (on Thursday) with Winters Brothers
URL:https://leisureknoll.org/calendar/garbage-pick-up-fri/2023-11-03/
END:VEVENT
BEGIN:VEVENT
DTSTART;TZID=America/New_York:20231103T090000
DTEND;TZID=America/New_York:20231103T100000
DTSTAMP:20260419T125919
CREATED:20230312T035839Z
LAST-MODIFIED:20231128T012444Z
UID:10012236-1699002000-1699005600@leisureknoll.org
SUMMARY:Tennis Club
DESCRIPTION:
URL:https://leisureknoll.org/calendar/tennis-club/2023-11-03/
END:VEVENT
BEGIN:VEVENT
DTSTART;TZID=America/New_York:20231103T090000
DTEND;TZID=America/New_York:20231103T110000
DTSTAMP:20260419T125919
CREATED:20210416T003116Z
LAST-MODIFIED:20260109T025549Z
UID:10009834-1699002000-1699009200@leisureknoll.org
SUMMARY:Wood Shop
DESCRIPTION:
URL:https://leisureknoll.org/calendar/wood-shop/2023-11-03/
END:VEVENT
BEGIN:VEVENT
DTSTART;TZID=America/New_York:20231103T093000
DTEND;TZID=America/New_York:20231103T103000
DTSTAMP:20260419T125919
CREATED:20211209T023315Z
LAST-MODIFIED:20250101T175700Z
UID:10011483-1699003800-1699007400@leisureknoll.org
SUMMARY:Slimnastics
DESCRIPTION:9:30am @ Craft Center
URL:https://leisureknoll.org/calendar/slimnastics-4/2023-11-03/
END:VEVENT
BEGIN:VEVENT
DTSTART;TZID=America/New_York:20231103T130000
DTEND;TZID=America/New_York:20231103T150000
DTSTAMP:20260419T125919
CREATED:20210416T003503Z
LAST-MODIFIED:20240929T182527Z
UID:10010449-1699016400-1699023600@leisureknoll.org
SUMMARY:Billiards
DESCRIPTION:Recreation Center\, every day except Sunday
URL:https://leisureknoll.org/calendar/billiards/2023-11-03/
END:VEVENT
BEGIN:VEVENT
DTSTART;TZID=America/New_York:20231103T130000
DTEND;TZID=America/New_York:20231103T150000
DTSTAMP:20260419T125919
CREATED:20220602T022125Z
LAST-MODIFIED:20241106T040502Z
UID:10011535-1699016400-1699023600@leisureknoll.org
SUMMARY:Women's Card Game
DESCRIPTION:Craft Center @ 1pm
URL:https://leisureknoll.org/calendar/womens-card-game/2023-11-03/
END:VEVENT
BEGIN:VEVENT
DTSTART;TZID=America/New_York:20231103T143000
DTEND;TZID=America/New_York:20231103T160000
DTSTAMP:20260419T125919
CREATED:20230630T031357Z
LAST-MODIFIED:20231128T012532Z
UID:10012820-1699021800-1699027200@leisureknoll.org
SUMMARY:Pickleball Club
DESCRIPTION:@ 2:30pm
URL:https://leisureknoll.org/calendar/pickleball-club/2023-11-03/
END:VEVENT
BEGIN:VEVENT
DTSTART;TZID=America/New_York:20231103T180000
DTEND;TZID=America/New_York:20231103T200000
DTSTAMP:20260419T125919
CREATED:20221204T045026Z
LAST-MODIFIED:20221204T045026Z
UID:10009449-1699034400-1699041600@leisureknoll.org
SUMMARY:Texas Hold'em
DESCRIPTION:6pm @ Craft Center
URL:https://leisureknoll.org/calendar/texas-holdem-2/2023-11-03/
END:VEVENT
BEGIN:VEVENT
DTSTART;TZID=America/New_York:20231104T090000
DTEND;TZID=America/New_York:20231104T100000
DTSTAMP:20260419T125919
CREATED:20230312T035839Z
LAST-MODIFIED:20231128T012444Z
UID:10012237-1699088400-1699092000@leisureknoll.org
SUMMARY:Tennis Club
DESCRIPTION:
URL:https://leisureknoll.org/calendar/tennis-club/2023-11-04/
END:VEVENT
BEGIN:VEVENT
DTSTART;TZID=America/New_York:20231104T100000
DTEND;TZID=America/New_York:20231104T140000
DTSTAMP:20260419T125919
CREATED:20231104T195820Z
LAST-MODIFIED:20231104T195820Z
UID:10013279-1699092000-1699106400@leisureknoll.org
SUMMARY:American Legion Aux. Craft Fair
DESCRIPTION:10am-2pm @ Rec Center
URL:https://leisureknoll.org/calendar/american-legion-aux-craft-fair/
END:VEVENT
BEGIN:VEVENT
DTSTART;TZID=America/New_York:20231104T103000
DTEND;TZID=America/New_York:20231104T113000
DTSTAMP:20260419T125919
CREATED:20231104T195908Z
LAST-MODIFIED:20231104T195908Z
UID:10013280-1699093800-1699097400@leisureknoll.org
SUMMARY:Ent. Comm. Ticket Sale Cocktail Party
DESCRIPTION:10:30am-11:30am @ Craft Center
URL:https://leisureknoll.org/calendar/ent-comm-ticket-sale-cocktail-party/
END:VEVENT
BEGIN:VEVENT
DTSTART;TZID=America/New_York:20231104T130000
DTEND;TZID=America/New_York:20231104T150000
DTSTAMP:20260419T125919
CREATED:20210416T003503Z
LAST-MODIFIED:20240929T182527Z
UID:10010450-1699102800-1699110000@leisureknoll.org
SUMMARY:Billiards
DESCRIPTION:Recreation Center\, every day except Sunday
URL:https://leisureknoll.org/calendar/billiards/2023-11-04/
END:VEVENT
BEGIN:VEVENT
DTSTART;TZID=America/New_York:20231105T020000
DTEND;TZID=America/New_York:20231105T030000
DTSTAMP:20260419T125919
CREATED:20231104T195957Z
LAST-MODIFIED:20231104T195957Z
UID:10013281-1699149600-1699153200@leisureknoll.org
SUMMARY:Daylight Savings
DESCRIPTION:Clock Fall Back 1 hour
URL:https://leisureknoll.org/calendar/daylight-savings-2/
END:VEVENT
BEGIN:VEVENT
DTSTART;TZID=America/New_York:20231106T090000
DTEND;TZID=America/New_York:20231106T100000
DTSTAMP:20260419T125919
CREATED:20230312T035839Z
LAST-MODIFIED:20231128T012444Z
UID:10012238-1699261200-1699264800@leisureknoll.org
SUMMARY:Tennis Club
DESCRIPTION:
URL:https://leisureknoll.org/calendar/tennis-club/2023-11-06/
END:VEVENT
BEGIN:VEVENT
DTSTART;TZID=America/New_York:20231106T090000
DTEND;TZID=America/New_York:20231106T110000
DTSTAMP:20260419T125919
CREATED:20210416T003116Z
LAST-MODIFIED:20260109T025549Z
UID:10009835-1699261200-1699268400@leisureknoll.org
SUMMARY:Wood Shop
DESCRIPTION:
URL:https://leisureknoll.org/calendar/wood-shop/2023-11-06/
END:VEVENT
BEGIN:VEVENT
DTSTART;TZID=America/New_York:20231106T100000
DTEND;TZID=America/New_York:20231106T110000
DTSTAMP:20260419T125919
CREATED:20220301T013856Z
LAST-MODIFIED:20250101T175615Z
UID:10010119-1699264800-1699268400@leisureknoll.org
SUMMARY:Slimnastics
DESCRIPTION:Recreation Hall
URL:https://leisureknoll.org/calendar/slimnastics-5/2023-11-06/
END:VEVENT
BEGIN:VEVENT
DTSTART;TZID=America/New_York:20231106T110000
DTEND;TZID=America/New_York:20231106T120000
DTSTAMP:20260419T125919
CREATED:20221202T030602Z
LAST-MODIFIED:20260109T025858Z
UID:10010007-1699268400-1699272000@leisureknoll.org
SUMMARY:Ping Pong
DESCRIPTION:11am @ Recreation Hall
URL:https://leisureknoll.org/calendar/ping-pong/2023-11-06/
END:VEVENT
BEGIN:VEVENT
DTSTART;TZID=America/New_York:20231106T120000
DTEND;TZID=America/New_York:20231106T133000
DTSTAMP:20260419T125919
CREATED:20230630T031224Z
LAST-MODIFIED:20260109T030045Z
UID:10012706-1699272000-1699277400@leisureknoll.org
SUMMARY:Canasta
DESCRIPTION:12pm @ Craft Center
URL:https://leisureknoll.org/calendar/canasta/2023-11-06/
END:VEVENT
BEGIN:VEVENT
DTSTART;TZID=America/New_York:20231106T130000
DTEND;TZID=America/New_York:20231106T150000
DTSTAMP:20260419T125919
CREATED:20210416T003503Z
LAST-MODIFIED:20240929T182527Z
UID:10010451-1699275600-1699282800@leisureknoll.org
SUMMARY:Billiards
DESCRIPTION:Recreation Center\, every day except Sunday
URL:https://leisureknoll.org/calendar/billiards/2023-11-06/
END:VEVENT
BEGIN:VEVENT
DTSTART;TZID=America/New_York:20231106T143000
DTEND;TZID=America/New_York:20231106T160000
DTSTAMP:20260419T125919
CREATED:20230630T031357Z
LAST-MODIFIED:20231128T012532Z
UID:10012821-1699281000-1699286400@leisureknoll.org
SUMMARY:Pickleball Club
DESCRIPTION:@ 2:30pm
URL:https://leisureknoll.org/calendar/pickleball-club/2023-11-06/
END:VEVENT
BEGIN:VEVENT
DTSTART;TZID=America/New_York:20231106T180000
DTEND;TZID=America/New_York:20231106T200000
DTSTAMP:20260419T125919
CREATED:20210702T034900Z
LAST-MODIFIED:20240707T191247Z
UID:10016822-1699293600-1699300800@leisureknoll.org
SUMMARY:Ladies Poker
DESCRIPTION:Craft Center
URL:https://leisureknoll.org/calendar/ladies-poker-2021-09-13/2023-11-06/
END:VEVENT
BEGIN:VEVENT
DTSTART;TZID=America/New_York:20231106T180000
DTEND;TZID=America/New_York:20231106T203000
DTSTAMP:20260419T125919
CREATED:20231012T024902Z
LAST-MODIFIED:20231128T012715Z
UID:10013283-1699293600-1699302600@leisureknoll.org
SUMMARY:Bingo
DESCRIPTION:@ 6pm Rec Center \nLKA Residents Only
URL:https://leisureknoll.org/calendar/bingo-9/2023-11-06/
END:VEVENT
BEGIN:VEVENT
DTSTART;VALUE=DATE:20231107
DTEND;VALUE=DATE:20231108
DTSTAMP:20260419T125919
CREATED:20210416T001302Z
LAST-MODIFIED:20251215T033850Z
UID:10009546-1699315200-1699401599@leisureknoll.org
SUMMARY:Garbage Pick Up
DESCRIPTION:GARBAGE P/U -WINTERS BROS. WASTE – 631-491-4923\nGarbage pick up Tues. & Fri. except holidays Confirm Bulk P/U (on Thursday) with Winters Brothers
URL:https://leisureknoll.org/calendar/garbage-pick-up-fri/2023-11-07/
END:VEVENT
BEGIN:VEVENT
DTSTART;TZID=America/New_York:20231107T060000
DTEND;TZID=America/New_York:20231107T210000
DTSTAMP:20260419T125919
CREATED:20231104T200209Z
LAST-MODIFIED:20231104T200228Z
UID:10013285-1699336800-1699390800@leisureknoll.org
SUMMARY:Election Day
DESCRIPTION:Vote 6am – 9pm @ Rec Center \nNo other activities in the Rec Center today
URL:https://leisureknoll.org/calendar/election-day-2/
END:VEVENT
BEGIN:VEVENT
DTSTART;TZID=America/New_York:20231107T090000
DTEND;TZID=America/New_York:20231107T110000
DTSTAMP:20260419T125919
CREATED:20210416T003116Z
LAST-MODIFIED:20260109T025549Z
UID:10009836-1699347600-1699354800@leisureknoll.org
SUMMARY:Wood Shop
DESCRIPTION:
URL:https://leisureknoll.org/calendar/wood-shop/2023-11-07/
END:VEVENT
BEGIN:VEVENT
DTSTART;TZID=America/New_York:20231107T093000
DTEND;TZID=America/New_York:20231107T103000
DTSTAMP:20260419T125919
CREATED:20230312T040136Z
LAST-MODIFIED:20231128T012323Z
UID:10012491-1699349400-1699353000@leisureknoll.org
SUMMARY:Ladies Tennis
DESCRIPTION:
URL:https://leisureknoll.org/calendar/ladies-tennis-4/2023-11-07/
END:VEVENT
BEGIN:VEVENT
DTSTART;TZID=America/New_York:20231107T110000
DTEND;TZID=America/New_York:20231107T120000
DTSTAMP:20260419T125919
CREATED:20221202T030602Z
LAST-MODIFIED:20260109T025858Z
UID:10010008-1699354800-1699358400@leisureknoll.org
SUMMARY:Ping Pong
DESCRIPTION:11am @ Recreation Hall
URL:https://leisureknoll.org/calendar/ping-pong/2023-11-07/
END:VEVENT
BEGIN:VEVENT
DTSTART;TZID=America/New_York:20231107T123000
DTEND;TZID=America/New_York:20231107T163000
DTSTAMP:20260419T125919
CREATED:20210415T030726Z
LAST-MODIFIED:20240114T192346Z
UID:10010647-1699360200-1699374600@leisureknoll.org
SUMMARY:Bus to Yaphank & Middle Island
DESCRIPTION:Bus to Wal-Mart Yaphank/King Kullen Middle Island shopping center. \nLeaves Leisure Knoll at 12:30pm and returns 4:30pm.
URL:https://leisureknoll.org/calendar/bus-to-middle-island/2023-11-07/
END:VEVENT
BEGIN:VEVENT
DTSTART;TZID=America/New_York:20231107T130000
DTEND;TZID=America/New_York:20231107T150000
DTSTAMP:20260419T125919
CREATED:20210416T003503Z
LAST-MODIFIED:20240929T182527Z
UID:10010452-1699362000-1699369200@leisureknoll.org
SUMMARY:Billiards
DESCRIPTION:Recreation Center\, every day except Sunday
URL:https://leisureknoll.org/calendar/billiards/2023-11-07/
END:VEVENT
BEGIN:VEVENT
DTSTART;TZID=America/New_York:20231107T130000
DTEND;TZID=America/New_York:20231107T163000
DTSTAMP:20260419T125919
CREATED:20230312T032638Z
LAST-MODIFIED:20240929T181808Z
UID:10011722-1699362000-1699374600@leisureknoll.org
SUMMARY:Rummikub
DESCRIPTION:Craft Center \n1-4:30pm
URL:https://leisureknoll.org/calendar/rummikub-2-2/2023-11-07/
END:VEVENT
END:VCALENDAR