BEGIN:VCALENDAR
VERSION:2.0
PRODID:-//Leisure Knoll - ECPv6.15.20//NONSGML v1.0//EN
CALSCALE:GREGORIAN
METHOD:PUBLISH
X-ORIGINAL-URL:https://leisureknoll.org
X-WR-CALDESC:Events for Leisure Knoll
REFRESH-INTERVAL;VALUE=DURATION:PT1H
X-Robots-Tag:noindex
X-PUBLISHED-TTL:PT1H
BEGIN:VTIMEZONE
TZID:America/New_York
BEGIN:DAYLIGHT
TZOFFSETFROM:-0500
TZOFFSETTO:-0400
TZNAME:EDT
DTSTART:20220313T070000
END:DAYLIGHT
BEGIN:STANDARD
TZOFFSETFROM:-0400
TZOFFSETTO:-0500
TZNAME:EST
DTSTART:20221106T060000
END:STANDARD
BEGIN:DAYLIGHT
TZOFFSETFROM:-0500
TZOFFSETTO:-0400
TZNAME:EDT
DTSTART:20230312T070000
END:DAYLIGHT
BEGIN:STANDARD
TZOFFSETFROM:-0400
TZOFFSETTO:-0500
TZNAME:EST
DTSTART:20231105T060000
END:STANDARD
BEGIN:DAYLIGHT
TZOFFSETFROM:-0500
TZOFFSETTO:-0400
TZNAME:EDT
DTSTART:20240310T070000
END:DAYLIGHT
BEGIN:STANDARD
TZOFFSETFROM:-0400
TZOFFSETTO:-0500
TZNAME:EST
DTSTART:20241103T060000
END:STANDARD
END:VTIMEZONE
BEGIN:VEVENT
DTSTART;VALUE=DATE:20230501
DTEND;VALUE=DATE:20230905
DTSTAMP:20260422T180241
CREATED:20230501T201015Z
LAST-MODIFIED:20230501T201145Z
UID:10012653-1682899200-1693871999@leisureknoll.org
SUMMARY:Pool Open 5/27/23 - 9/4/23
DESCRIPTION:POOL HOURS ADULTS & ADULT GUESTS \n\n\n\n\nMay 27th-June 24th  \n\nSat.-Thurs: 10:00am-5:15pm\nFri:10:00am-6:30pm\n\n\n\nJune 25th-Sept. 4th  \n\nSat.-Thurs:10:00am-6:45pm\nFri:10:00am-6:30pm\n\n\n\n\n\nCHILDREN’S HOURS (AGES 4 THROUGH 12) \n\nMon\, Wed\, Fri: 11:30am-2:00pm & 4:00pm-5:15pm\nSaturday & Sunday: 12:00pm-4:00pm\n\nOnce lifeguard off–duty\, pool will remain open until 9pm (RESIDENTS ONLY\, NO CHILDREN—swim at your own risk)
URL:https://leisureknoll.org/calendar/pool-open-5-27-23-9-4-23/
END:VEVENT
BEGIN:VEVENT
DTSTART;TZID=America/New_York:20230810T090000
DTEND;TZID=America/New_York:20230810T110000
DTSTAMP:20260422T180241
CREATED:20210416T003116Z
LAST-MODIFIED:20260109T025549Z
UID:10009773-1691658000-1691665200@leisureknoll.org
SUMMARY:Wood Shop
DESCRIPTION:
URL:https://leisureknoll.org/calendar/wood-shop/2023-08-10/
END:VEVENT
BEGIN:VEVENT
DTSTART;TZID=America/New_York:20230810T093000
DTEND;TZID=America/New_York:20230810T103000
DTSTAMP:20260422T180241
CREATED:20230312T040136Z
LAST-MODIFIED:20231128T012323Z
UID:10012466-1691659800-1691663400@leisureknoll.org
SUMMARY:Ladies Tennis
DESCRIPTION:
URL:https://leisureknoll.org/calendar/ladies-tennis-4/2023-08-10/
END:VEVENT
BEGIN:VEVENT
DTSTART;TZID=America/New_York:20230810T100000
DTEND;TZID=America/New_York:20230810T130000
DTSTAMP:20260422T180242
CREATED:20210415T031404Z
LAST-MODIFIED:20240114T192421Z
UID:10011102-1691661600-1691672400@leisureknoll.org
SUMMARY:Bus to Port Jefferson Station
DESCRIPTION:Bus to Port Jefferson Station\, Meat Farms\, Shop Rite\, TJ Max shopping center. \nLeaves Leisure Knoll at 10:00 am.
URL:https://leisureknoll.org/calendar/bus-to-port-jefferson-station/2023-08-10/
END:VEVENT
BEGIN:VEVENT
DTSTART;TZID=America/New_York:20230810T101500
DTEND;TZID=America/New_York:20230810T113000
DTSTAMP:20260422T180242
CREATED:20230312T032913Z
LAST-MODIFIED:20230312T032913Z
UID:10011154-1691662500-1691667000@leisureknoll.org
SUMMARY:Bible Study
DESCRIPTION:@ Craft Center
URL:https://leisureknoll.org/calendar/bible-study-2/2023-08-10/
END:VEVENT
BEGIN:VEVENT
DTSTART;TZID=America/New_York:20230810T110000
DTEND;TZID=America/New_York:20230810T120000
DTSTAMP:20260422T180242
CREATED:20221202T030602Z
LAST-MODIFIED:20260109T025858Z
UID:10009970-1691665200-1691668800@leisureknoll.org
SUMMARY:Ping Pong
DESCRIPTION:11am @ Recreation Hall
URL:https://leisureknoll.org/calendar/ping-pong/2023-08-10/
END:VEVENT
BEGIN:VEVENT
DTSTART;TZID=America/New_York:20230810T123000
DTEND;TZID=America/New_York:20230810T140000
DTSTAMP:20260422T180242
CREATED:20230805T013619Z
LAST-MODIFIED:20230805T013619Z
UID:10013008-1691670600-1691676000@leisureknoll.org
SUMMARY:Board of Directors "90 & Over" Birthday Celebration
DESCRIPTION:12:30pm @ Recreation Center
URL:https://leisureknoll.org/calendar/board-of-directors-90-over-birthday-celebration/
END:VEVENT
BEGIN:VEVENT
DTSTART;TZID=America/New_York:20230810T130000
DTEND;TZID=America/New_York:20230810T150000
DTSTAMP:20260422T180242
CREATED:20210416T003503Z
LAST-MODIFIED:20240929T182527Z
UID:10010376-1691672400-1691679600@leisureknoll.org
SUMMARY:Billiards
DESCRIPTION:Recreation Center\, every day except Sunday
URL:https://leisureknoll.org/calendar/billiards/2023-08-10/
END:VEVENT
BEGIN:VEVENT
DTSTART;TZID=America/New_York:20230810T130000
DTEND;TZID=America/New_York:20230810T150000
DTSTAMP:20260422T180242
CREATED:20210416T010104Z
LAST-MODIFIED:20230106T202026Z
UID:10011206-1691672400-1691679600@leisureknoll.org
SUMMARY:Bridge/Canasta
DESCRIPTION:Craft Center
URL:https://leisureknoll.org/calendar/bridge-canasta/2023-08-10/
END:VEVENT
BEGIN:VEVENT
DTSTART;TZID=America/New_York:20230810T183000
DTEND;TZID=America/New_York:20230810T203000
DTSTAMP:20260422T180242
CREATED:20210702T035015Z
LAST-MODIFIED:20230106T202125Z
UID:10011310-1691692200-1691699400@leisureknoll.org
SUMMARY:Men's Low Stakes Poker
DESCRIPTION:
URL:https://leisureknoll.org/calendar/mens-low-stakes-poker/2023-08-10/
END:VEVENT
BEGIN:VEVENT
DTSTART;TZID=America/New_York:20230810T183000
DTEND;TZID=America/New_York:20230810T203000
DTSTAMP:20260422T180242
CREATED:20230630T032653Z
LAST-MODIFIED:20230630T032653Z
UID:10011258-1691692200-1691699400@leisureknoll.org
SUMMARY:Mixed Games Poker
DESCRIPTION:Craft Center
URL:https://leisureknoll.org/calendar/ladies-poker-2-2/2023-08-10/
END:VEVENT
BEGIN:VEVENT
DTSTART;TZID=America/New_York:20230810T190000
DTEND;TZID=America/New_York:20230810T210000
DTSTAMP:20260422T180242
CREATED:20230312T032808Z
LAST-MODIFIED:20231104T195522Z
UID:10011362-1691694000-1691701200@leisureknoll.org
SUMMARY:Game Night
DESCRIPTION:BYO \n@ 7pm
URL:https://leisureknoll.org/calendar/game-night-2-2/2023-08-10/
END:VEVENT
BEGIN:VEVENT
DTSTART;VALUE=DATE:20230811
DTEND;VALUE=DATE:20230812
DTSTAMP:20260422T180242
CREATED:20210416T001302Z
LAST-MODIFIED:20251215T033850Z
UID:10009521-1691712000-1691798399@leisureknoll.org
SUMMARY:Garbage Pick Up
DESCRIPTION:GARBAGE P/U -WINTERS BROS. WASTE – 631-491-4923\nGarbage pick up Tues. & Fri. except holidays Confirm Bulk P/U (on Thursday) with Winters Brothers
URL:https://leisureknoll.org/calendar/garbage-pick-up-fri/2023-08-11/
END:VEVENT
BEGIN:VEVENT
DTSTART;TZID=America/New_York:20230811T090000
DTEND;TZID=America/New_York:20230811T100000
DTSTAMP:20260422T180242
CREATED:20230312T035839Z
LAST-MODIFIED:20231128T012444Z
UID:10012188-1691744400-1691748000@leisureknoll.org
SUMMARY:Tennis Club
DESCRIPTION:
URL:https://leisureknoll.org/calendar/tennis-club/2023-08-11/
END:VEVENT
BEGIN:VEVENT
DTSTART;TZID=America/New_York:20230811T090000
DTEND;TZID=America/New_York:20230811T110000
DTSTAMP:20260422T180242
CREATED:20210416T003116Z
LAST-MODIFIED:20260109T025549Z
UID:10009774-1691744400-1691751600@leisureknoll.org
SUMMARY:Wood Shop
DESCRIPTION:
URL:https://leisureknoll.org/calendar/wood-shop/2023-08-11/
END:VEVENT
BEGIN:VEVENT
DTSTART;TZID=America/New_York:20230811T093000
DTEND;TZID=America/New_York:20230811T103000
DTSTAMP:20260422T180242
CREATED:20211209T023315Z
LAST-MODIFIED:20250101T175700Z
UID:10011471-1691746200-1691749800@leisureknoll.org
SUMMARY:Slimnastics
DESCRIPTION:9:30am @ Craft Center
URL:https://leisureknoll.org/calendar/slimnastics-4/2023-08-11/
END:VEVENT
BEGIN:VEVENT
DTSTART;TZID=America/New_York:20230811T113000
DTEND;TZID=America/New_York:20230811T140000
DTSTAMP:20260422T180242
CREATED:20230805T013936Z
LAST-MODIFIED:20230805T013936Z
UID:10013011-1691753400-1691762400@leisureknoll.org
SUMMARY:Bus to Riverhead
DESCRIPTION:Bus to Riverhead area departs at 11:30am
URL:https://leisureknoll.org/calendar/bus-to-riverhead-6/
END:VEVENT
BEGIN:VEVENT
DTSTART;TZID=America/New_York:20230811T130000
DTEND;TZID=America/New_York:20230811T150000
DTSTAMP:20260422T180242
CREATED:20210416T003503Z
LAST-MODIFIED:20240929T182527Z
UID:10010377-1691758800-1691766000@leisureknoll.org
SUMMARY:Billiards
DESCRIPTION:Recreation Center\, every day except Sunday
URL:https://leisureknoll.org/calendar/billiards/2023-08-11/
END:VEVENT
BEGIN:VEVENT
DTSTART;TZID=America/New_York:20230811T130000
DTEND;TZID=America/New_York:20230811T150000
DTSTAMP:20260422T180242
CREATED:20220602T022125Z
LAST-MODIFIED:20241106T040502Z
UID:10011523-1691758800-1691766000@leisureknoll.org
SUMMARY:Women's Card Game
DESCRIPTION:Craft Center @ 1pm
URL:https://leisureknoll.org/calendar/womens-card-game/2023-08-11/
END:VEVENT
BEGIN:VEVENT
DTSTART;TZID=America/New_York:20230811T143000
DTEND;TZID=America/New_York:20230811T160000
DTSTAMP:20260422T180242
CREATED:20230630T031357Z
LAST-MODIFIED:20231128T012532Z
UID:10012784-1691764200-1691769600@leisureknoll.org
SUMMARY:Pickleball Club
DESCRIPTION:@ 2:30pm
URL:https://leisureknoll.org/calendar/pickleball-club/2023-08-11/
END:VEVENT
BEGIN:VEVENT
DTSTART;TZID=America/New_York:20230811T180000
DTEND;TZID=America/New_York:20230811T200000
DTSTAMP:20260422T180242
CREATED:20221204T045026Z
LAST-MODIFIED:20221204T045026Z
UID:10009437-1691776800-1691784000@leisureknoll.org
SUMMARY:Texas Hold'em
DESCRIPTION:6pm @ Craft Center
URL:https://leisureknoll.org/calendar/texas-holdem-2/2023-08-11/
END:VEVENT
BEGIN:VEVENT
DTSTART;TZID=America/New_York:20230811T190000
DTEND;TZID=America/New_York:20230811T210000
DTSTAMP:20260422T180242
CREATED:20230209T024948Z
LAST-MODIFIED:20230901T001345Z
UID:10011419-1691780400-1691787600@leisureknoll.org
SUMMARY:Corn Hole League
DESCRIPTION:7pm @ Rec Hall
URL:https://leisureknoll.org/calendar/corn-hole-league-2/2023-08-11/
END:VEVENT
BEGIN:VEVENT
DTSTART;TZID=America/New_York:20230812T090000
DTEND;TZID=America/New_York:20230812T100000
DTSTAMP:20260422T180242
CREATED:20230312T035839Z
LAST-MODIFIED:20231128T012444Z
UID:10012189-1691830800-1691834400@leisureknoll.org
SUMMARY:Tennis Club
DESCRIPTION:
URL:https://leisureknoll.org/calendar/tennis-club/2023-08-12/
END:VEVENT
BEGIN:VEVENT
DTSTART;TZID=America/New_York:20230812T130000
DTEND;TZID=America/New_York:20230812T150000
DTSTAMP:20260422T180242
CREATED:20210416T003503Z
LAST-MODIFIED:20240929T182527Z
UID:10010378-1691845200-1691852400@leisureknoll.org
SUMMARY:Billiards
DESCRIPTION:Recreation Center\, every day except Sunday
URL:https://leisureknoll.org/calendar/billiards/2023-08-12/
END:VEVENT
BEGIN:VEVENT
DTSTART;TZID=America/New_York:20230814T090000
DTEND;TZID=America/New_York:20230814T100000
DTSTAMP:20260422T180242
CREATED:20230312T035839Z
LAST-MODIFIED:20231128T012444Z
UID:10012190-1692003600-1692007200@leisureknoll.org
SUMMARY:Tennis Club
DESCRIPTION:
URL:https://leisureknoll.org/calendar/tennis-club/2023-08-14/
END:VEVENT
BEGIN:VEVENT
DTSTART;TZID=America/New_York:20230814T090000
DTEND;TZID=America/New_York:20230814T110000
DTSTAMP:20260422T180242
CREATED:20210416T003116Z
LAST-MODIFIED:20260109T025549Z
UID:10009775-1692003600-1692010800@leisureknoll.org
SUMMARY:Wood Shop
DESCRIPTION:
URL:https://leisureknoll.org/calendar/wood-shop/2023-08-14/
END:VEVENT
BEGIN:VEVENT
DTSTART;TZID=America/New_York:20230814T100000
DTEND;TZID=America/New_York:20230814T110000
DTSTAMP:20260422T180242
CREATED:20220301T013856Z
LAST-MODIFIED:20250101T175615Z
UID:10010095-1692007200-1692010800@leisureknoll.org
SUMMARY:Slimnastics
DESCRIPTION:Recreation Hall
URL:https://leisureknoll.org/calendar/slimnastics-5/2023-08-14/
END:VEVENT
BEGIN:VEVENT
DTSTART;TZID=America/New_York:20230814T110000
DTEND;TZID=America/New_York:20230814T120000
DTSTAMP:20260422T180242
CREATED:20221202T030602Z
LAST-MODIFIED:20260109T025858Z
UID:10009971-1692010800-1692014400@leisureknoll.org
SUMMARY:Ping Pong
DESCRIPTION:11am @ Recreation Hall
URL:https://leisureknoll.org/calendar/ping-pong/2023-08-14/
END:VEVENT
BEGIN:VEVENT
DTSTART;TZID=America/New_York:20230814T120000
DTEND;TZID=America/New_York:20230814T133000
DTSTAMP:20260422T180242
CREATED:20230630T031224Z
LAST-MODIFIED:20260109T030045Z
UID:10012694-1692014400-1692019800@leisureknoll.org
SUMMARY:Canasta
DESCRIPTION:12pm @ Craft Center
URL:https://leisureknoll.org/calendar/canasta/2023-08-14/
END:VEVENT
BEGIN:VEVENT
DTSTART;TZID=America/New_York:20230814T123000
DTEND;TZID=America/New_York:20230814T143000
DTSTAMP:20260422T180242
CREATED:20210702T030121Z
LAST-MODIFIED:20230106T200950Z
UID:10010167-1692016200-1692023400@leisureknoll.org
SUMMARY:Mah Jongg
DESCRIPTION:@ Craft Center
URL:https://leisureknoll.org/calendar/mah-jongg-5/2023-08-14/
END:VEVENT
END:VCALENDAR