BEGIN:VCALENDAR
VERSION:2.0
PRODID:-//Leisure Knoll - ECPv6.15.20//NONSGML v1.0//EN
CALSCALE:GREGORIAN
METHOD:PUBLISH
X-ORIGINAL-URL:https://leisureknoll.org
X-WR-CALDESC:Events for Leisure Knoll
REFRESH-INTERVAL;VALUE=DURATION:PT1H
X-Robots-Tag:noindex
X-PUBLISHED-TTL:PT1H
BEGIN:VTIMEZONE
TZID:America/New_York
BEGIN:DAYLIGHT
TZOFFSETFROM:-0500
TZOFFSETTO:-0400
TZNAME:EDT
DTSTART:20220313T070000
END:DAYLIGHT
BEGIN:STANDARD
TZOFFSETFROM:-0400
TZOFFSETTO:-0500
TZNAME:EST
DTSTART:20221106T060000
END:STANDARD
BEGIN:DAYLIGHT
TZOFFSETFROM:-0500
TZOFFSETTO:-0400
TZNAME:EDT
DTSTART:20230312T070000
END:DAYLIGHT
BEGIN:STANDARD
TZOFFSETFROM:-0400
TZOFFSETTO:-0500
TZNAME:EST
DTSTART:20231105T060000
END:STANDARD
BEGIN:DAYLIGHT
TZOFFSETFROM:-0500
TZOFFSETTO:-0400
TZNAME:EDT
DTSTART:20240310T070000
END:DAYLIGHT
BEGIN:STANDARD
TZOFFSETFROM:-0400
TZOFFSETTO:-0500
TZNAME:EST
DTSTART:20241103T060000
END:STANDARD
END:VTIMEZONE
BEGIN:VEVENT
DTSTART;VALUE=DATE:20230501
DTEND;VALUE=DATE:20230905
DTSTAMP:20260422T180326
CREATED:20230501T201015Z
LAST-MODIFIED:20230501T201145Z
UID:10012653-1682899200-1693871999@leisureknoll.org
SUMMARY:Pool Open 5/27/23 - 9/4/23
DESCRIPTION:POOL HOURS ADULTS & ADULT GUESTS \n\n\n\n\nMay 27th-June 24th  \n\nSat.-Thurs: 10:00am-5:15pm\nFri:10:00am-6:30pm\n\n\n\nJune 25th-Sept. 4th  \n\nSat.-Thurs:10:00am-6:45pm\nFri:10:00am-6:30pm\n\n\n\n\n\nCHILDREN’S HOURS (AGES 4 THROUGH 12) \n\nMon\, Wed\, Fri: 11:30am-2:00pm & 4:00pm-5:15pm\nSaturday & Sunday: 12:00pm-4:00pm\n\nOnce lifeguard off–duty\, pool will remain open until 9pm (RESIDENTS ONLY\, NO CHILDREN—swim at your own risk)
URL:https://leisureknoll.org/calendar/pool-open-5-27-23-9-4-23/
END:VEVENT
BEGIN:VEVENT
DTSTART;VALUE=DATE:20230809
DTEND;VALUE=DATE:20230810
DTSTAMP:20260422T180326
CREATED:20210416T002146Z
LAST-MODIFIED:20250607T015434Z
UID:10020632-1691539200-1691625599@leisureknoll.org
SUMMARY:Recycling - Cans & Plastic
DESCRIPTION:Cans and plastic
URL:https://leisureknoll.org/calendar/recycling-cans-plastic-2022-07-13/
END:VEVENT
BEGIN:VEVENT
DTSTART;VALUE=DATE:20230809
DTEND;VALUE=DATE:20230810
DTSTAMP:20260422T180326
CREATED:20210416T002146Z
LAST-MODIFIED:20250607T015435Z
UID:10021070-1691539200-1691625599@leisureknoll.org
SUMMARY:Recycling - Cans & Plastic
DESCRIPTION:Cans and plastic
URL:https://leisureknoll.org/calendar/recycling-cans-plastic-2022-09-21/
END:VEVENT
BEGIN:VEVENT
DTSTART;VALUE=DATE:20230809
DTEND;VALUE=DATE:20230810
DTSTAMP:20260422T180326
CREATED:20210416T002146Z
LAST-MODIFIED:20250608T235413Z
UID:10021492-1691539200-1691625599@leisureknoll.org
SUMMARY:Recycling - Cans & Plastic
DESCRIPTION:Cans and plastic
URL:https://leisureknoll.org/calendar/recycling-cans-plastic-2022-11-16/
END:VEVENT
BEGIN:VEVENT
DTSTART;VALUE=DATE:20230809
DTEND;VALUE=DATE:20230810
DTSTAMP:20260422T180326
CREATED:20210416T002146Z
LAST-MODIFIED:20250608T235414Z
UID:10021798-1691539200-1691625599@leisureknoll.org
SUMMARY:Recycling - Cans & Plastic
DESCRIPTION:Cans and plastic
URL:https://leisureknoll.org/calendar/recycling-cans-plastic-2022-12-28/
END:VEVENT
BEGIN:VEVENT
DTSTART;VALUE=DATE:20230809
DTEND;VALUE=DATE:20230810
DTSTAMP:20260422T180326
CREATED:20210416T002146Z
LAST-MODIFIED:20250607T015433Z
UID:10020520-1691539200-1691625599@leisureknoll.org
SUMMARY:Recycling - Cans & Plastic
DESCRIPTION:Cans and plastic
URL:https://leisureknoll.org/calendar/recycling-cans-plastic-2022-06-29/
END:VEVENT
BEGIN:VEVENT
DTSTART;VALUE=DATE:20230809
DTEND;VALUE=DATE:20230810
DTSTAMP:20260422T180326
CREATED:20210416T002146Z
LAST-MODIFIED:20250607T015435Z
UID:10020962-1691539200-1691625599@leisureknoll.org
SUMMARY:Recycling - Cans & Plastic
DESCRIPTION:Cans and plastic
URL:https://leisureknoll.org/calendar/recycling-cans-plastic-2022-08-24/
END:VEVENT
BEGIN:VEVENT
DTSTART;VALUE=DATE:20230809
DTEND;VALUE=DATE:20230810
DTSTAMP:20260422T180326
CREATED:20210416T002146Z
LAST-MODIFIED:20250607T015436Z
UID:10021388-1691539200-1691625599@leisureknoll.org
SUMMARY:Recycling - Cans & Plastic
DESCRIPTION:Cans and plastic
URL:https://leisureknoll.org/calendar/recycling-cans-plastic-2022-11-02/
END:VEVENT
BEGIN:VEVENT
DTSTART;VALUE=DATE:20230809
DTEND;VALUE=DATE:20230810
DTSTAMP:20260422T180326
CREATED:20210416T002146Z
LAST-MODIFIED:20250608T235414Z
UID:10021697-1691539200-1691625599@leisureknoll.org
SUMMARY:Recycling - Cans & Plastic
DESCRIPTION:Cans and plastic
URL:https://leisureknoll.org/calendar/recycling-cans-plastic-2022-12-14/
END:VEVENT
BEGIN:VEVENT
DTSTART;VALUE=DATE:20230809
DTEND;VALUE=DATE:20230810
DTSTAMP:20260422T180326
CREATED:20210416T002146Z
LAST-MODIFIED:20250607T015435Z
UID:10020853-1691539200-1691625599@leisureknoll.org
SUMMARY:Recycling - Cans & Plastic
DESCRIPTION:Cans and plastic
URL:https://leisureknoll.org/calendar/recycling-cans-plastic-2022-08-10/
END:VEVENT
BEGIN:VEVENT
DTSTART;VALUE=DATE:20230809
DTEND;VALUE=DATE:20230810
DTSTAMP:20260422T180326
CREATED:20210416T002146Z
LAST-MODIFIED:20250607T015436Z
UID:10021283-1691539200-1691625599@leisureknoll.org
SUMMARY:Recycling - Cans & Plastic
DESCRIPTION:Cans and plastic
URL:https://leisureknoll.org/calendar/recycling-cans-plastic-2022-10-19/
END:VEVENT
BEGIN:VEVENT
DTSTART;VALUE=DATE:20230809
DTEND;VALUE=DATE:20230810
DTSTAMP:20260422T180326
CREATED:20210416T002146Z
LAST-MODIFIED:20250608T235414Z
UID:10021595-1691539200-1691625599@leisureknoll.org
SUMMARY:Recycling - Cans & Plastic
DESCRIPTION:Cans and plastic
URL:https://leisureknoll.org/calendar/recycling-cans-plastic-2022-11-30/
END:VEVENT
BEGIN:VEVENT
DTSTART;VALUE=DATE:20230809
DTEND;VALUE=DATE:20230810
DTSTAMP:20260422T180326
CREATED:20210416T002146Z
LAST-MODIFIED:20250607T015434Z
UID:10020743-1691539200-1691625599@leisureknoll.org
SUMMARY:Recycling - Cans & Plastic
DESCRIPTION:Cans and plastic
URL:https://leisureknoll.org/calendar/recycling-cans-plastic-2022-07-27/
END:VEVENT
BEGIN:VEVENT
DTSTART;VALUE=DATE:20230809
DTEND;VALUE=DATE:20230810
DTSTAMP:20260422T180326
CREATED:20210416T002146Z
LAST-MODIFIED:20250607T015435Z
UID:10021177-1691539200-1691625599@leisureknoll.org
SUMMARY:Recycling - Cans & Plastic
DESCRIPTION:Cans and plastic
URL:https://leisureknoll.org/calendar/recycling-cans-plastic-2022-10-05/
END:VEVENT
BEGIN:VEVENT
DTSTART;TZID=America/New_York:20230809T090000
DTEND;TZID=America/New_York:20230809T100000
DTSTAMP:20260422T180326
CREATED:20230312T035839Z
LAST-MODIFIED:20231128T012444Z
UID:10012187-1691571600-1691575200@leisureknoll.org
SUMMARY:Tennis Club
DESCRIPTION:
URL:https://leisureknoll.org/calendar/tennis-club/2023-08-09/
END:VEVENT
BEGIN:VEVENT
DTSTART;TZID=America/New_York:20230809T090000
DTEND;TZID=America/New_York:20230809T110000
DTSTAMP:20260422T180326
CREATED:20210416T003116Z
LAST-MODIFIED:20260109T025549Z
UID:10009772-1691571600-1691578800@leisureknoll.org
SUMMARY:Wood Shop
DESCRIPTION:
URL:https://leisureknoll.org/calendar/wood-shop/2023-08-09/
END:VEVENT
BEGIN:VEVENT
DTSTART;TZID=America/New_York:20230809T093000
DTEND;TZID=America/New_York:20230809T113000
DTSTAMP:20260422T180327
CREATED:20210901T030231Z
LAST-MODIFIED:20260109T030159Z
UID:10010790-1691573400-1691580600@leisureknoll.org
SUMMARY:Art Club
DESCRIPTION:Craft Room
URL:https://leisureknoll.org/calendar/art-club/2023-08-09/
END:VEVENT
BEGIN:VEVENT
DTSTART;TZID=America/New_York:20230809T100000
DTEND;TZID=America/New_York:20230809T110000
DTSTAMP:20260422T180327
CREATED:20220301T013856Z
LAST-MODIFIED:20250101T175615Z
UID:10010094-1691575200-1691578800@leisureknoll.org
SUMMARY:Slimnastics
DESCRIPTION:Recreation Hall
URL:https://leisureknoll.org/calendar/slimnastics-5/2023-08-09/
END:VEVENT
BEGIN:VEVENT
DTSTART;TZID=America/New_York:20230809T113000
DTEND;TZID=America/New_York:20230809T143000
DTSTAMP:20260422T180327
CREATED:20230617T023550Z
LAST-MODIFIED:20230617T023550Z
UID:10010842-1691580600-1691591400@leisureknoll.org
SUMMARY:Men's Bowling
DESCRIPTION:@ 11:30am
URL:https://leisureknoll.org/calendar/mens-bowling-2021-09-15-2/2023-08-09/
END:VEVENT
BEGIN:VEVENT
DTSTART;TZID=America/New_York:20230809T130000
DTEND;TZID=America/New_York:20230809T150000
DTSTAMP:20260422T180327
CREATED:20210416T003503Z
LAST-MODIFIED:20240929T182527Z
UID:10010375-1691586000-1691593200@leisureknoll.org
SUMMARY:Billiards
DESCRIPTION:Recreation Center\, every day except Sunday
URL:https://leisureknoll.org/calendar/billiards/2023-08-09/
END:VEVENT
BEGIN:VEVENT
DTSTART;TZID=America/New_York:20230809T130000
DTEND;TZID=America/New_York:20230809T150000
DTSTAMP:20260422T180327
CREATED:20210416T005743Z
LAST-MODIFIED:20260109T030323Z
UID:10010894-1691586000-1691593200@leisureknoll.org
SUMMARY:Bridge
DESCRIPTION:Craft Center
URL:https://leisureknoll.org/calendar/bridge/2023-08-09/
END:VEVENT
BEGIN:VEVENT
DTSTART;TZID=America/New_York:20230809T143000
DTEND;TZID=America/New_York:20230809T160000
DTSTAMP:20260422T180327
CREATED:20230630T031357Z
LAST-MODIFIED:20231128T012532Z
UID:10012783-1691591400-1691596800@leisureknoll.org
SUMMARY:Pickleball Club
DESCRIPTION:@ 2:30pm
URL:https://leisureknoll.org/calendar/pickleball-club/2023-08-09/
END:VEVENT
BEGIN:VEVENT
DTSTART;TZID=America/New_York:20230809T180000
DTEND;TZID=America/New_York:20230809T200000
DTSTAMP:20260422T180327
CREATED:20210416T005957Z
LAST-MODIFIED:20240929T182030Z
UID:10010998-1691604000-1691611200@leisureknoll.org
SUMMARY:Men's Poker
DESCRIPTION:Craft Center
URL:https://leisureknoll.org/calendar/mens-poker-2022-08-31/2023-08-09/
END:VEVENT
BEGIN:VEVENT
DTSTART;TZID=America/New_York:20230809T184500
DTEND;TZID=America/New_York:20230809T204500
DTSTAMP:20260422T180327
CREATED:20210505T022532Z
LAST-MODIFIED:20260109T031152Z
UID:10011050-1691606700-1691613900@leisureknoll.org
SUMMARY:Dominoes
DESCRIPTION:Recreation Hall
URL:https://leisureknoll.org/calendar/dominoes/2023-08-09/
END:VEVENT
BEGIN:VEVENT
DTSTART;TZID=America/New_York:20230810T090000
DTEND;TZID=America/New_York:20230810T110000
DTSTAMP:20260422T180327
CREATED:20210416T003116Z
LAST-MODIFIED:20260109T025549Z
UID:10009773-1691658000-1691665200@leisureknoll.org
SUMMARY:Wood Shop
DESCRIPTION:
URL:https://leisureknoll.org/calendar/wood-shop/2023-08-10/
END:VEVENT
BEGIN:VEVENT
DTSTART;TZID=America/New_York:20230810T093000
DTEND;TZID=America/New_York:20230810T103000
DTSTAMP:20260422T180327
CREATED:20230312T040136Z
LAST-MODIFIED:20231128T012323Z
UID:10012466-1691659800-1691663400@leisureknoll.org
SUMMARY:Ladies Tennis
DESCRIPTION:
URL:https://leisureknoll.org/calendar/ladies-tennis-4/2023-08-10/
END:VEVENT
BEGIN:VEVENT
DTSTART;TZID=America/New_York:20230810T100000
DTEND;TZID=America/New_York:20230810T130000
DTSTAMP:20260422T180327
CREATED:20210415T031404Z
LAST-MODIFIED:20240114T192421Z
UID:10011102-1691661600-1691672400@leisureknoll.org
SUMMARY:Bus to Port Jefferson Station
DESCRIPTION:Bus to Port Jefferson Station\, Meat Farms\, Shop Rite\, TJ Max shopping center. \nLeaves Leisure Knoll at 10:00 am.
URL:https://leisureknoll.org/calendar/bus-to-port-jefferson-station/2023-08-10/
END:VEVENT
BEGIN:VEVENT
DTSTART;TZID=America/New_York:20230810T101500
DTEND;TZID=America/New_York:20230810T113000
DTSTAMP:20260422T180327
CREATED:20230312T032913Z
LAST-MODIFIED:20230312T032913Z
UID:10011154-1691662500-1691667000@leisureknoll.org
SUMMARY:Bible Study
DESCRIPTION:@ Craft Center
URL:https://leisureknoll.org/calendar/bible-study-2/2023-08-10/
END:VEVENT
BEGIN:VEVENT
DTSTART;TZID=America/New_York:20230810T110000
DTEND;TZID=America/New_York:20230810T120000
DTSTAMP:20260422T180327
CREATED:20221202T030602Z
LAST-MODIFIED:20260109T025858Z
UID:10009970-1691665200-1691668800@leisureknoll.org
SUMMARY:Ping Pong
DESCRIPTION:11am @ Recreation Hall
URL:https://leisureknoll.org/calendar/ping-pong/2023-08-10/
END:VEVENT
BEGIN:VEVENT
DTSTART;TZID=America/New_York:20230810T123000
DTEND;TZID=America/New_York:20230810T140000
DTSTAMP:20260422T180327
CREATED:20230805T013619Z
LAST-MODIFIED:20230805T013619Z
UID:10013008-1691670600-1691676000@leisureknoll.org
SUMMARY:Board of Directors "90 & Over" Birthday Celebration
DESCRIPTION:12:30pm @ Recreation Center
URL:https://leisureknoll.org/calendar/board-of-directors-90-over-birthday-celebration/
END:VEVENT
END:VCALENDAR