BEGIN:VCALENDAR
VERSION:2.0
PRODID:-//Leisure Knoll - ECPv6.15.20//NONSGML v1.0//EN
CALSCALE:GREGORIAN
METHOD:PUBLISH
X-ORIGINAL-URL:https://leisureknoll.org
X-WR-CALDESC:Events for Leisure Knoll
REFRESH-INTERVAL;VALUE=DURATION:PT1H
X-Robots-Tag:noindex
X-PUBLISHED-TTL:PT1H
BEGIN:VTIMEZONE
TZID:America/New_York
BEGIN:DAYLIGHT
TZOFFSETFROM:-0500
TZOFFSETTO:-0400
TZNAME:EDT
DTSTART:20220313T070000
END:DAYLIGHT
BEGIN:STANDARD
TZOFFSETFROM:-0400
TZOFFSETTO:-0500
TZNAME:EST
DTSTART:20221106T060000
END:STANDARD
BEGIN:DAYLIGHT
TZOFFSETFROM:-0500
TZOFFSETTO:-0400
TZNAME:EDT
DTSTART:20230312T070000
END:DAYLIGHT
BEGIN:STANDARD
TZOFFSETFROM:-0400
TZOFFSETTO:-0500
TZNAME:EST
DTSTART:20231105T060000
END:STANDARD
BEGIN:DAYLIGHT
TZOFFSETFROM:-0500
TZOFFSETTO:-0400
TZNAME:EDT
DTSTART:20240310T070000
END:DAYLIGHT
BEGIN:STANDARD
TZOFFSETFROM:-0400
TZOFFSETTO:-0500
TZNAME:EST
DTSTART:20241103T060000
END:STANDARD
END:VTIMEZONE
BEGIN:VEVENT
DTSTART;VALUE=DATE:20230501
DTEND;VALUE=DATE:20230905
DTSTAMP:20260423T015524
CREATED:20230501T201015Z
LAST-MODIFIED:20230501T201145Z
UID:10012653-1682899200-1693871999@leisureknoll.org
SUMMARY:Pool Open 5/27/23 - 9/4/23
DESCRIPTION:POOL HOURS ADULTS & ADULT GUESTS \n\n\n\n\nMay 27th-June 24th  \n\nSat.-Thurs: 10:00am-5:15pm\nFri:10:00am-6:30pm\n\n\n\nJune 25th-Sept. 4th  \n\nSat.-Thurs:10:00am-6:45pm\nFri:10:00am-6:30pm\n\n\n\n\n\nCHILDREN’S HOURS (AGES 4 THROUGH 12) \n\nMon\, Wed\, Fri: 11:30am-2:00pm & 4:00pm-5:15pm\nSaturday & Sunday: 12:00pm-4:00pm\n\nOnce lifeguard off–duty\, pool will remain open until 9pm (RESIDENTS ONLY\, NO CHILDREN—swim at your own risk)
URL:https://leisureknoll.org/calendar/pool-open-5-27-23-9-4-23/
END:VEVENT
BEGIN:VEVENT
DTSTART;TZID=America/New_York:20230713T090000
DTEND;TZID=America/New_York:20230713T110000
DTSTAMP:20260423T015524
CREATED:20210416T003116Z
LAST-MODIFIED:20260109T025549Z
UID:10009753-1689238800-1689246000@leisureknoll.org
SUMMARY:Wood Shop
DESCRIPTION:
URL:https://leisureknoll.org/calendar/wood-shop/2023-07-13/
END:VEVENT
BEGIN:VEVENT
DTSTART;TZID=America/New_York:20230713T093000
DTEND;TZID=America/New_York:20230713T103000
DTSTAMP:20260423T015524
CREATED:20230312T040136Z
LAST-MODIFIED:20231128T012323Z
UID:10012458-1689240600-1689244200@leisureknoll.org
SUMMARY:Ladies Tennis
DESCRIPTION:
URL:https://leisureknoll.org/calendar/ladies-tennis-4/2023-07-13/
END:VEVENT
BEGIN:VEVENT
DTSTART;TZID=America/New_York:20230713T100000
DTEND;TZID=America/New_York:20230713T130000
DTSTAMP:20260423T015524
CREATED:20210415T031404Z
LAST-MODIFIED:20240114T192421Z
UID:10011098-1689242400-1689253200@leisureknoll.org
SUMMARY:Bus to Port Jefferson Station
DESCRIPTION:Bus to Port Jefferson Station\, Meat Farms\, Shop Rite\, TJ Max shopping center. \nLeaves Leisure Knoll at 10:00 am.
URL:https://leisureknoll.org/calendar/bus-to-port-jefferson-station/2023-07-13/
END:VEVENT
BEGIN:VEVENT
DTSTART;TZID=America/New_York:20230713T101500
DTEND;TZID=America/New_York:20230713T113000
DTSTAMP:20260423T015524
CREATED:20230312T032913Z
LAST-MODIFIED:20230312T032913Z
UID:10011150-1689243300-1689247800@leisureknoll.org
SUMMARY:Bible Study
DESCRIPTION:@ Craft Center
URL:https://leisureknoll.org/calendar/bible-study-2/2023-07-13/
END:VEVENT
BEGIN:VEVENT
DTSTART;TZID=America/New_York:20230713T110000
DTEND;TZID=America/New_York:20230713T120000
DTSTAMP:20260423T015524
CREATED:20221202T030602Z
LAST-MODIFIED:20260109T025858Z
UID:10009958-1689246000-1689249600@leisureknoll.org
SUMMARY:Ping Pong
DESCRIPTION:11am @ Recreation Hall
URL:https://leisureknoll.org/calendar/ping-pong/2023-07-13/
END:VEVENT
BEGIN:VEVENT
DTSTART;TZID=America/New_York:20230713T130000
DTEND;TZID=America/New_York:20230713T150000
DTSTAMP:20260423T015524
CREATED:20210416T003503Z
LAST-MODIFIED:20240929T182527Z
UID:10010352-1689253200-1689260400@leisureknoll.org
SUMMARY:Billiards
DESCRIPTION:Recreation Center\, every day except Sunday
URL:https://leisureknoll.org/calendar/billiards/2023-07-13/
END:VEVENT
BEGIN:VEVENT
DTSTART;TZID=America/New_York:20230713T130000
DTEND;TZID=America/New_York:20230713T150000
DTSTAMP:20260423T015524
CREATED:20210416T010104Z
LAST-MODIFIED:20230106T202026Z
UID:10011202-1689253200-1689260400@leisureknoll.org
SUMMARY:Bridge/Canasta
DESCRIPTION:Craft Center
URL:https://leisureknoll.org/calendar/bridge-canasta/2023-07-13/
END:VEVENT
BEGIN:VEVENT
DTSTART;TZID=America/New_York:20230713T183000
DTEND;TZID=America/New_York:20230713T203000
DTSTAMP:20260423T015524
CREATED:20210702T035015Z
LAST-MODIFIED:20230106T202125Z
UID:10011306-1689273000-1689280200@leisureknoll.org
SUMMARY:Men's Low Stakes Poker
DESCRIPTION:
URL:https://leisureknoll.org/calendar/mens-low-stakes-poker/2023-07-13/
END:VEVENT
BEGIN:VEVENT
DTSTART;TZID=America/New_York:20230713T183000
DTEND;TZID=America/New_York:20230713T203000
DTSTAMP:20260423T015524
CREATED:20230630T032653Z
LAST-MODIFIED:20230630T032653Z
UID:10011254-1689273000-1689280200@leisureknoll.org
SUMMARY:Mixed Games Poker
DESCRIPTION:Craft Center
URL:https://leisureknoll.org/calendar/ladies-poker-2-2/2023-07-13/
END:VEVENT
BEGIN:VEVENT
DTSTART;TZID=America/New_York:20230713T190000
DTEND;TZID=America/New_York:20230713T210000
DTSTAMP:20260423T015524
CREATED:20230312T032808Z
LAST-MODIFIED:20231104T195522Z
UID:10011358-1689274800-1689282000@leisureknoll.org
SUMMARY:Game Night
DESCRIPTION:BYO \n@ 7pm
URL:https://leisureknoll.org/calendar/game-night-2-2/2023-07-13/
END:VEVENT
BEGIN:VEVENT
DTSTART;VALUE=DATE:20230714
DTEND;VALUE=DATE:20230715
DTSTAMP:20260423T015524
CREATED:20210416T001302Z
LAST-MODIFIED:20251215T033850Z
UID:10009513-1689292800-1689379199@leisureknoll.org
SUMMARY:Garbage Pick Up
DESCRIPTION:GARBAGE P/U -WINTERS BROS. WASTE – 631-491-4923\nGarbage pick up Tues. & Fri. except holidays Confirm Bulk P/U (on Thursday) with Winters Brothers
URL:https://leisureknoll.org/calendar/garbage-pick-up-fri/2023-07-14/
END:VEVENT
BEGIN:VEVENT
DTSTART;TZID=America/New_York:20230714T090000
DTEND;TZID=America/New_York:20230714T100000
DTSTAMP:20260423T015524
CREATED:20230312T035839Z
LAST-MODIFIED:20231128T012444Z
UID:10012172-1689325200-1689328800@leisureknoll.org
SUMMARY:Tennis Club
DESCRIPTION:
URL:https://leisureknoll.org/calendar/tennis-club/2023-07-14/
END:VEVENT
BEGIN:VEVENT
DTSTART;TZID=America/New_York:20230714T090000
DTEND;TZID=America/New_York:20230714T110000
DTSTAMP:20260423T015524
CREATED:20210416T003116Z
LAST-MODIFIED:20260109T025549Z
UID:10009754-1689325200-1689332400@leisureknoll.org
SUMMARY:Wood Shop
DESCRIPTION:
URL:https://leisureknoll.org/calendar/wood-shop/2023-07-14/
END:VEVENT
BEGIN:VEVENT
DTSTART;TZID=America/New_York:20230714T093000
DTEND;TZID=America/New_York:20230714T103000
DTSTAMP:20260423T015524
CREATED:20211209T023315Z
LAST-MODIFIED:20250101T175700Z
UID:10011467-1689327000-1689330600@leisureknoll.org
SUMMARY:Slimnastics
DESCRIPTION:9:30am @ Craft Center
URL:https://leisureknoll.org/calendar/slimnastics-4/2023-07-14/
END:VEVENT
BEGIN:VEVENT
DTSTART;TZID=America/New_York:20230714T113000
DTEND;TZID=America/New_York:20230714T143000
DTSTAMP:20260423T015524
CREATED:20230630T034901Z
LAST-MODIFIED:20230630T034901Z
UID:10013003-1689334200-1689345000@leisureknoll.org
SUMMARY:Bus to Smith Haven Mall
DESCRIPTION:
URL:https://leisureknoll.org/calendar/bus-to-smith-haven-mall-4/
END:VEVENT
BEGIN:VEVENT
DTSTART;TZID=America/New_York:20230714T130000
DTEND;TZID=America/New_York:20230714T150000
DTSTAMP:20260423T015524
CREATED:20210416T003503Z
LAST-MODIFIED:20240929T182527Z
UID:10010353-1689339600-1689346800@leisureknoll.org
SUMMARY:Billiards
DESCRIPTION:Recreation Center\, every day except Sunday
URL:https://leisureknoll.org/calendar/billiards/2023-07-14/
END:VEVENT
BEGIN:VEVENT
DTSTART;TZID=America/New_York:20230714T130000
DTEND;TZID=America/New_York:20230714T150000
DTSTAMP:20260423T015524
CREATED:20220602T022125Z
LAST-MODIFIED:20241106T040502Z
UID:10011519-1689339600-1689346800@leisureknoll.org
SUMMARY:Women's Card Game
DESCRIPTION:Craft Center @ 1pm
URL:https://leisureknoll.org/calendar/womens-card-game/2023-07-14/
END:VEVENT
BEGIN:VEVENT
DTSTART;TZID=America/New_York:20230714T143000
DTEND;TZID=America/New_York:20230714T160000
DTSTAMP:20260423T015524
CREATED:20230630T031357Z
LAST-MODIFIED:20231128T012532Z
UID:10012772-1689345000-1689350400@leisureknoll.org
SUMMARY:Pickleball Club
DESCRIPTION:@ 2:30pm
URL:https://leisureknoll.org/calendar/pickleball-club/2023-07-14/
END:VEVENT
BEGIN:VEVENT
DTSTART;TZID=America/New_York:20230714T180000
DTEND;TZID=America/New_York:20230714T200000
DTSTAMP:20260423T015524
CREATED:20221204T045026Z
LAST-MODIFIED:20221204T045026Z
UID:10009433-1689357600-1689364800@leisureknoll.org
SUMMARY:Texas Hold'em
DESCRIPTION:6pm @ Craft Center
URL:https://leisureknoll.org/calendar/texas-holdem-2/2023-07-14/
END:VEVENT
BEGIN:VEVENT
DTSTART;TZID=America/New_York:20230714T190000
DTEND;TZID=America/New_York:20230714T210000
DTSTAMP:20260423T015524
CREATED:20230209T024948Z
LAST-MODIFIED:20230901T001345Z
UID:10011415-1689361200-1689368400@leisureknoll.org
SUMMARY:Corn Hole League
DESCRIPTION:7pm @ Rec Hall
URL:https://leisureknoll.org/calendar/corn-hole-league-2/2023-07-14/
END:VEVENT
BEGIN:VEVENT
DTSTART;TZID=America/New_York:20230715T090000
DTEND;TZID=America/New_York:20230715T100000
DTSTAMP:20260423T015524
CREATED:20230312T035839Z
LAST-MODIFIED:20231128T012444Z
UID:10012173-1689411600-1689415200@leisureknoll.org
SUMMARY:Tennis Club
DESCRIPTION:
URL:https://leisureknoll.org/calendar/tennis-club/2023-07-15/
END:VEVENT
BEGIN:VEVENT
DTSTART;TZID=America/New_York:20230715T130000
DTEND;TZID=America/New_York:20230715T150000
DTSTAMP:20260423T015524
CREATED:20210416T003503Z
LAST-MODIFIED:20240929T182527Z
UID:10010354-1689426000-1689433200@leisureknoll.org
SUMMARY:Billiards
DESCRIPTION:Recreation Center\, every day except Sunday
URL:https://leisureknoll.org/calendar/billiards/2023-07-15/
END:VEVENT
BEGIN:VEVENT
DTSTART;TZID=America/New_York:20230717T090000
DTEND;TZID=America/New_York:20230717T100000
DTSTAMP:20260423T015524
CREATED:20230312T035839Z
LAST-MODIFIED:20231128T012444Z
UID:10012174-1689584400-1689588000@leisureknoll.org
SUMMARY:Tennis Club
DESCRIPTION:
URL:https://leisureknoll.org/calendar/tennis-club/2023-07-17/
END:VEVENT
BEGIN:VEVENT
DTSTART;TZID=America/New_York:20230717T090000
DTEND;TZID=America/New_York:20230717T110000
DTSTAMP:20260423T015524
CREATED:20210416T003116Z
LAST-MODIFIED:20260109T025549Z
UID:10009755-1689584400-1689591600@leisureknoll.org
SUMMARY:Wood Shop
DESCRIPTION:
URL:https://leisureknoll.org/calendar/wood-shop/2023-07-17/
END:VEVENT
BEGIN:VEVENT
DTSTART;TZID=America/New_York:20230717T100000
DTEND;TZID=America/New_York:20230717T110000
DTSTAMP:20260423T015524
CREATED:20220301T013856Z
LAST-MODIFIED:20250101T175615Z
UID:10010087-1689588000-1689591600@leisureknoll.org
SUMMARY:Slimnastics
DESCRIPTION:Recreation Hall
URL:https://leisureknoll.org/calendar/slimnastics-5/2023-07-17/
END:VEVENT
BEGIN:VEVENT
DTSTART;TZID=America/New_York:20230717T110000
DTEND;TZID=America/New_York:20230717T120000
DTSTAMP:20260423T015524
CREATED:20221202T030602Z
LAST-MODIFIED:20260109T025858Z
UID:10009959-1689591600-1689595200@leisureknoll.org
SUMMARY:Ping Pong
DESCRIPTION:11am @ Recreation Hall
URL:https://leisureknoll.org/calendar/ping-pong/2023-07-17/
END:VEVENT
BEGIN:VEVENT
DTSTART;TZID=America/New_York:20230717T120000
DTEND;TZID=America/New_York:20230717T133000
DTSTAMP:20260423T015524
CREATED:20230630T031224Z
LAST-MODIFIED:20260109T030045Z
UID:10012690-1689595200-1689600600@leisureknoll.org
SUMMARY:Canasta
DESCRIPTION:12pm @ Craft Center
URL:https://leisureknoll.org/calendar/canasta/2023-07-17/
END:VEVENT
BEGIN:VEVENT
DTSTART;TZID=America/New_York:20230717T123000
DTEND;TZID=America/New_York:20230717T143000
DTSTAMP:20260423T015524
CREATED:20210702T030121Z
LAST-MODIFIED:20230106T200950Z
UID:10010163-1689597000-1689604200@leisureknoll.org
SUMMARY:Mah Jongg
DESCRIPTION:@ Craft Center
URL:https://leisureknoll.org/calendar/mah-jongg-5/2023-07-17/
END:VEVENT
BEGIN:VEVENT
DTSTART;TZID=America/New_York:20230717T130000
DTEND;TZID=America/New_York:20230717T150000
DTSTAMP:20260423T015524
CREATED:20210416T003503Z
LAST-MODIFIED:20240929T182527Z
UID:10010355-1689598800-1689606000@leisureknoll.org
SUMMARY:Billiards
DESCRIPTION:Recreation Center\, every day except Sunday
URL:https://leisureknoll.org/calendar/billiards/2023-07-17/
END:VEVENT
END:VCALENDAR