BEGIN:VCALENDAR
VERSION:2.0
PRODID:-//Leisure Knoll - ECPv6.15.20//NONSGML v1.0//EN
CALSCALE:GREGORIAN
METHOD:PUBLISH
X-ORIGINAL-URL:https://leisureknoll.org
X-WR-CALDESC:Events for Leisure Knoll
REFRESH-INTERVAL;VALUE=DURATION:PT1H
X-Robots-Tag:noindex
X-PUBLISHED-TTL:PT1H
BEGIN:VTIMEZONE
TZID:America/New_York
BEGIN:DAYLIGHT
TZOFFSETFROM:-0500
TZOFFSETTO:-0400
TZNAME:EDT
DTSTART:20220313T070000
END:DAYLIGHT
BEGIN:STANDARD
TZOFFSETFROM:-0400
TZOFFSETTO:-0500
TZNAME:EST
DTSTART:20221106T060000
END:STANDARD
BEGIN:DAYLIGHT
TZOFFSETFROM:-0500
TZOFFSETTO:-0400
TZNAME:EDT
DTSTART:20230312T070000
END:DAYLIGHT
BEGIN:STANDARD
TZOFFSETFROM:-0400
TZOFFSETTO:-0500
TZNAME:EST
DTSTART:20231105T060000
END:STANDARD
BEGIN:DAYLIGHT
TZOFFSETFROM:-0500
TZOFFSETTO:-0400
TZNAME:EDT
DTSTART:20240310T070000
END:DAYLIGHT
BEGIN:STANDARD
TZOFFSETFROM:-0400
TZOFFSETTO:-0500
TZNAME:EST
DTSTART:20241103T060000
END:STANDARD
END:VTIMEZONE
BEGIN:VEVENT
DTSTART;VALUE=DATE:20230501
DTEND;VALUE=DATE:20230905
DTSTAMP:20260423T211759
CREATED:20230501T201015Z
LAST-MODIFIED:20230501T201145Z
UID:10012653-1682899200-1693871999@leisureknoll.org
SUMMARY:Pool Open 5/27/23 - 9/4/23
DESCRIPTION:POOL HOURS ADULTS & ADULT GUESTS \n\n\n\n\nMay 27th-June 24th  \n\nSat.-Thurs: 10:00am-5:15pm\nFri:10:00am-6:30pm\n\n\n\nJune 25th-Sept. 4th  \n\nSat.-Thurs:10:00am-6:45pm\nFri:10:00am-6:30pm\n\n\n\n\n\nCHILDREN’S HOURS (AGES 4 THROUGH 12) \n\nMon\, Wed\, Fri: 11:30am-2:00pm & 4:00pm-5:15pm\nSaturday & Sunday: 12:00pm-4:00pm\n\nOnce lifeguard off–duty\, pool will remain open until 9pm (RESIDENTS ONLY\, NO CHILDREN—swim at your own risk)
URL:https://leisureknoll.org/calendar/pool-open-5-27-23-9-4-23/
END:VEVENT
BEGIN:VEVENT
DTSTART;VALUE=DATE:20230519
DTEND;VALUE=DATE:20230520
DTSTAMP:20260423T211759
CREATED:20210416T001302Z
LAST-MODIFIED:20251215T033850Z
UID:10009497-1684454400-1684540799@leisureknoll.org
SUMMARY:Garbage Pick Up
DESCRIPTION:GARBAGE P/U -WINTERS BROS. WASTE – 631-491-4923\nGarbage pick up Tues. & Fri. except holidays Confirm Bulk P/U (on Thursday) with Winters Brothers
URL:https://leisureknoll.org/calendar/garbage-pick-up-fri/2023-05-19/
END:VEVENT
BEGIN:VEVENT
DTSTART;TZID=America/New_York:20230519T090000
DTEND;TZID=America/New_York:20230519T100000
DTSTAMP:20260423T211759
CREATED:20230312T035839Z
LAST-MODIFIED:20231128T012444Z
UID:10012140-1684486800-1684490400@leisureknoll.org
SUMMARY:Tennis Club
DESCRIPTION:
URL:https://leisureknoll.org/calendar/tennis-club/2023-05-19/
END:VEVENT
BEGIN:VEVENT
DTSTART;TZID=America/New_York:20230519T090000
DTEND;TZID=America/New_York:20230519T110000
DTSTAMP:20260423T211759
CREATED:20210416T003116Z
LAST-MODIFIED:20260109T025549Z
UID:10009714-1684486800-1684494000@leisureknoll.org
SUMMARY:Wood Shop
DESCRIPTION:
URL:https://leisureknoll.org/calendar/wood-shop/2023-05-19/
END:VEVENT
BEGIN:VEVENT
DTSTART;TZID=America/New_York:20230519T093000
DTEND;TZID=America/New_York:20230519T103000
DTSTAMP:20260423T211759
CREATED:20211209T023315Z
LAST-MODIFIED:20250101T175700Z
UID:10011459-1684488600-1684492200@leisureknoll.org
SUMMARY:Slimnastics
DESCRIPTION:9:30am @ Craft Center
URL:https://leisureknoll.org/calendar/slimnastics-4/2023-05-19/
END:VEVENT
BEGIN:VEVENT
DTSTART;TZID=America/New_York:20230519T110000
DTEND;TZID=America/New_York:20230519T120000
DTSTAMP:20260423T211759
CREATED:20230501T200516Z
LAST-MODIFIED:20230501T200516Z
UID:10012652-1684494000-1684497600@leisureknoll.org
SUMMARY:BOD/AML Information Fair
DESCRIPTION:11am @ Rec Center
URL:https://leisureknoll.org/calendar/bod-aml-information-fair/
END:VEVENT
BEGIN:VEVENT
DTSTART;TZID=America/New_York:20230519T130000
DTEND;TZID=America/New_York:20230519T150000
DTSTAMP:20260423T211759
CREATED:20210416T003503Z
LAST-MODIFIED:20240929T182527Z
UID:10010305-1684501200-1684508400@leisureknoll.org
SUMMARY:Billiards
DESCRIPTION:Recreation Center\, every day except Sunday
URL:https://leisureknoll.org/calendar/billiards/2023-05-19/
END:VEVENT
BEGIN:VEVENT
DTSTART;TZID=America/New_York:20230519T130000
DTEND;TZID=America/New_York:20230519T150000
DTSTAMP:20260423T211759
CREATED:20220602T022125Z
LAST-MODIFIED:20241106T040502Z
UID:10011511-1684501200-1684508400@leisureknoll.org
SUMMARY:Women's Card Game
DESCRIPTION:Craft Center @ 1pm
URL:https://leisureknoll.org/calendar/womens-card-game/2023-05-19/
END:VEVENT
BEGIN:VEVENT
DTSTART;TZID=America/New_York:20230519T180000
DTEND;TZID=America/New_York:20230519T200000
DTSTAMP:20260423T211759
CREATED:20221204T045026Z
LAST-MODIFIED:20221204T045026Z
UID:10009425-1684519200-1684526400@leisureknoll.org
SUMMARY:Texas Hold'em
DESCRIPTION:6pm @ Craft Center
URL:https://leisureknoll.org/calendar/texas-holdem-2/2023-05-19/
END:VEVENT
BEGIN:VEVENT
DTSTART;TZID=America/New_York:20230519T190000
DTEND;TZID=America/New_York:20230519T210000
DTSTAMP:20260423T211759
CREATED:20230209T024948Z
LAST-MODIFIED:20230901T001345Z
UID:10011407-1684522800-1684530000@leisureknoll.org
SUMMARY:Corn Hole League
DESCRIPTION:7pm @ Rec Hall
URL:https://leisureknoll.org/calendar/corn-hole-league-2/2023-05-19/
END:VEVENT
BEGIN:VEVENT
DTSTART;VALUE=DATE:20230520
DTEND;VALUE=DATE:20230521
DTSTAMP:20260423T211759
CREATED:20230501T200223Z
LAST-MODIFIED:20230501T200223Z
UID:10012649-1684540800-1684627199@leisureknoll.org
SUMMARY:Armed Forces Day
DESCRIPTION:Armed Forces Day
URL:https://leisureknoll.org/calendar/armed-forces-day-3/
END:VEVENT
BEGIN:VEVENT
DTSTART;TZID=America/New_York:20230520T090000
DTEND;TZID=America/New_York:20230520T100000
DTSTAMP:20260423T211759
CREATED:20230312T035839Z
LAST-MODIFIED:20231128T012444Z
UID:10012141-1684573200-1684576800@leisureknoll.org
SUMMARY:Tennis Club
DESCRIPTION:
URL:https://leisureknoll.org/calendar/tennis-club/2023-05-20/
END:VEVENT
BEGIN:VEVENT
DTSTART;TZID=America/New_York:20230520T130000
DTEND;TZID=America/New_York:20230520T150000
DTSTAMP:20260423T211759
CREATED:20210416T003503Z
LAST-MODIFIED:20240929T182527Z
UID:10010306-1684587600-1684594800@leisureknoll.org
SUMMARY:Billiards
DESCRIPTION:Recreation Center\, every day except Sunday
URL:https://leisureknoll.org/calendar/billiards/2023-05-20/
END:VEVENT
BEGIN:VEVENT
DTSTART;TZID=America/New_York:20230521T123000
DTEND;TZID=America/New_York:20230521T140000
DTSTAMP:20260423T211759
CREATED:20230501T195226Z
LAST-MODIFIED:20230501T195226Z
UID:10012611-1684672200-1684677600@leisureknoll.org
SUMMARY:Mah Jongg
DESCRIPTION:12:30pm @ Craft Center
URL:https://leisureknoll.org/calendar/mah-jongg-10-2/2023-05-21/
END:VEVENT
BEGIN:VEVENT
DTSTART;TZID=America/New_York:20230522T090000
DTEND;TZID=America/New_York:20230522T100000
DTSTAMP:20260423T211759
CREATED:20230312T035839Z
LAST-MODIFIED:20231128T012444Z
UID:10012142-1684746000-1684749600@leisureknoll.org
SUMMARY:Tennis Club
DESCRIPTION:
URL:https://leisureknoll.org/calendar/tennis-club/2023-05-22/
END:VEVENT
BEGIN:VEVENT
DTSTART;TZID=America/New_York:20230522T090000
DTEND;TZID=America/New_York:20230522T110000
DTSTAMP:20260423T211759
CREATED:20210416T003116Z
LAST-MODIFIED:20260109T025549Z
UID:10009715-1684746000-1684753200@leisureknoll.org
SUMMARY:Wood Shop
DESCRIPTION:
URL:https://leisureknoll.org/calendar/wood-shop/2023-05-22/
END:VEVENT
BEGIN:VEVENT
DTSTART;TZID=America/New_York:20230522T100000
DTEND;TZID=America/New_York:20230522T110000
DTSTAMP:20260423T211759
CREATED:20220301T013856Z
LAST-MODIFIED:20250101T175615Z
UID:10010071-1684749600-1684753200@leisureknoll.org
SUMMARY:Slimnastics
DESCRIPTION:Recreation Hall
URL:https://leisureknoll.org/calendar/slimnastics-5/2023-05-22/
END:VEVENT
BEGIN:VEVENT
DTSTART;TZID=America/New_York:20230522T110000
DTEND;TZID=America/New_York:20230522T120000
DTSTAMP:20260423T211759
CREATED:20221202T030602Z
LAST-MODIFIED:20260109T025858Z
UID:10009935-1684753200-1684756800@leisureknoll.org
SUMMARY:Ping Pong
DESCRIPTION:11am @ Recreation Hall
URL:https://leisureknoll.org/calendar/ping-pong/2023-05-22/
END:VEVENT
BEGIN:VEVENT
DTSTART;TZID=America/New_York:20230522T123000
DTEND;TZID=America/New_York:20230522T143000
DTSTAMP:20260423T211759
CREATED:20210702T030121Z
LAST-MODIFIED:20230106T200950Z
UID:10010155-1684758600-1684765800@leisureknoll.org
SUMMARY:Mah Jongg
DESCRIPTION:@ Craft Center
URL:https://leisureknoll.org/calendar/mah-jongg-5/2023-05-22/
END:VEVENT
BEGIN:VEVENT
DTSTART;TZID=America/New_York:20230522T130000
DTEND;TZID=America/New_York:20230522T150000
DTSTAMP:20260423T211759
CREATED:20210416T003503Z
LAST-MODIFIED:20240929T182527Z
UID:10010307-1684760400-1684767600@leisureknoll.org
SUMMARY:Billiards
DESCRIPTION:Recreation Center\, every day except Sunday
URL:https://leisureknoll.org/calendar/billiards/2023-05-22/
END:VEVENT
BEGIN:VEVENT
DTSTART;TZID=America/New_York:20230522T180000
DTEND;TZID=America/New_York:20230522T200000
DTSTAMP:20260423T211759
CREATED:20210702T034900Z
LAST-MODIFIED:20240707T191247Z
UID:10016798-1684778400-1684785600@leisureknoll.org
SUMMARY:Ladies Poker
DESCRIPTION:Craft Center
URL:https://leisureknoll.org/calendar/ladies-poker-2021-09-13/2023-05-22/
END:VEVENT
BEGIN:VEVENT
DTSTART;VALUE=DATE:20230523
DTEND;VALUE=DATE:20230524
DTSTAMP:20260423T211759
CREATED:20210416T001302Z
LAST-MODIFIED:20251215T033850Z
UID:10009498-1684800000-1684886399@leisureknoll.org
SUMMARY:Garbage Pick Up
DESCRIPTION:GARBAGE P/U -WINTERS BROS. WASTE – 631-491-4923\nGarbage pick up Tues. & Fri. except holidays Confirm Bulk P/U (on Thursday) with Winters Brothers
URL:https://leisureknoll.org/calendar/garbage-pick-up-fri/2023-05-23/
END:VEVENT
BEGIN:VEVENT
DTSTART;TZID=America/New_York:20230523T090000
DTEND;TZID=America/New_York:20230523T110000
DTSTAMP:20260423T211759
CREATED:20210416T003116Z
LAST-MODIFIED:20260109T025549Z
UID:10009716-1684832400-1684839600@leisureknoll.org
SUMMARY:Wood Shop
DESCRIPTION:
URL:https://leisureknoll.org/calendar/wood-shop/2023-05-23/
END:VEVENT
BEGIN:VEVENT
DTSTART;TZID=America/New_York:20230523T093000
DTEND;TZID=America/New_York:20230523T103000
DTSTAMP:20260423T211759
CREATED:20230312T040136Z
LAST-MODIFIED:20231128T012323Z
UID:10012443-1684834200-1684837800@leisureknoll.org
SUMMARY:Ladies Tennis
DESCRIPTION:
URL:https://leisureknoll.org/calendar/ladies-tennis-4/2023-05-23/
END:VEVENT
BEGIN:VEVENT
DTSTART;TZID=America/New_York:20230523T110000
DTEND;TZID=America/New_York:20230523T120000
DTSTAMP:20260423T211759
CREATED:20221202T030602Z
LAST-MODIFIED:20260109T025858Z
UID:10009936-1684839600-1684843200@leisureknoll.org
SUMMARY:Ping Pong
DESCRIPTION:11am @ Recreation Hall
URL:https://leisureknoll.org/calendar/ping-pong/2023-05-23/
END:VEVENT
BEGIN:VEVENT
DTSTART;TZID=America/New_York:20230523T123000
DTEND;TZID=America/New_York:20230523T163000
DTSTAMP:20260423T211759
CREATED:20210415T030726Z
LAST-MODIFIED:20240114T192346Z
UID:10010623-1684845000-1684859400@leisureknoll.org
SUMMARY:Bus to Yaphank & Middle Island
DESCRIPTION:Bus to Wal-Mart Yaphank/King Kullen Middle Island shopping center. \nLeaves Leisure Knoll at 12:30pm and returns 4:30pm.
URL:https://leisureknoll.org/calendar/bus-to-middle-island/2023-05-23/
END:VEVENT
BEGIN:VEVENT
DTSTART;TZID=America/New_York:20230523T130000
DTEND;TZID=America/New_York:20230523T140000
DTSTAMP:20260423T211759
CREATED:20230209T030412Z
LAST-MODIFIED:20230501T203608Z
UID:10012656-1684846800-1684850400@leisureknoll.org
SUMMARY:Architectural Committee Meeting
DESCRIPTION:1-2pm @ Craft Center
URL:https://leisureknoll.org/calendar/architectural-committee-meeting-12/2023-05-23/
END:VEVENT
BEGIN:VEVENT
DTSTART;TZID=America/New_York:20230523T130000
DTEND;TZID=America/New_York:20230523T150000
DTSTAMP:20260423T211759
CREATED:20210416T003503Z
LAST-MODIFIED:20240929T182527Z
UID:10010308-1684846800-1684854000@leisureknoll.org
SUMMARY:Billiards
DESCRIPTION:Recreation Center\, every day except Sunday
URL:https://leisureknoll.org/calendar/billiards/2023-05-23/
END:VEVENT
BEGIN:VEVENT
DTSTART;TZID=America/New_York:20230523T130000
DTEND;TZID=America/New_York:20230523T163000
DTSTAMP:20260423T211759
CREATED:20230312T032638Z
LAST-MODIFIED:20240929T181808Z
UID:10011698-1684846800-1684859400@leisureknoll.org
SUMMARY:Rummikub
DESCRIPTION:Craft Center \n1-4:30pm
URL:https://leisureknoll.org/calendar/rummikub-2-2/2023-05-23/
END:VEVENT
BEGIN:VEVENT
DTSTART;TZID=America/New_York:20230523T183000
DTEND;TZID=America/New_York:20230523T203000
DTSTAMP:20260423T211759
CREATED:20210702T033018Z
LAST-MODIFIED:20230501T195018Z
UID:10010727-1684866600-1684873800@leisureknoll.org
SUMMARY:Mixed Card Game
DESCRIPTION:Craft Center
URL:https://leisureknoll.org/calendar/guys-gals-card-game/2023-05-23/
END:VEVENT
END:VCALENDAR