BEGIN:VCALENDAR
VERSION:2.0
PRODID:-//Leisure Knoll - ECPv6.15.20//NONSGML v1.0//EN
CALSCALE:GREGORIAN
METHOD:PUBLISH
X-ORIGINAL-URL:https://leisureknoll.org
X-WR-CALDESC:Events for Leisure Knoll
REFRESH-INTERVAL;VALUE=DURATION:PT1H
X-Robots-Tag:noindex
X-PUBLISHED-TTL:PT1H
BEGIN:VTIMEZONE
TZID:America/New_York
BEGIN:DAYLIGHT
TZOFFSETFROM:-0500
TZOFFSETTO:-0400
TZNAME:EDT
DTSTART:20200308T070000
END:DAYLIGHT
BEGIN:STANDARD
TZOFFSETFROM:-0400
TZOFFSETTO:-0500
TZNAME:EST
DTSTART:20201101T060000
END:STANDARD
BEGIN:DAYLIGHT
TZOFFSETFROM:-0500
TZOFFSETTO:-0400
TZNAME:EDT
DTSTART:20210314T070000
END:DAYLIGHT
BEGIN:STANDARD
TZOFFSETFROM:-0400
TZOFFSETTO:-0500
TZNAME:EST
DTSTART:20211107T060000
END:STANDARD
BEGIN:DAYLIGHT
TZOFFSETFROM:-0500
TZOFFSETTO:-0400
TZNAME:EDT
DTSTART:20220313T070000
END:DAYLIGHT
BEGIN:STANDARD
TZOFFSETFROM:-0400
TZOFFSETTO:-0500
TZNAME:EST
DTSTART:20221106T060000
END:STANDARD
END:VTIMEZONE
BEGIN:VEVENT
DTSTART;VALUE=DATE:20210411
DTEND;VALUE=DATE:20210418
DTSTAMP:20260425T125407
CREATED:20210416T000056Z
LAST-MODIFIED:20220508T163151Z
UID:10004530-1618099200-1618703999@leisureknoll.org
SUMMARY:First Bus Stop #25
DESCRIPTION:The bus will begin at stop #25 and proceed to stop #1.
URL:https://leisureknoll.org/calendar/first-bus-stop-25/2021-04-11/
END:VEVENT
BEGIN:VEVENT
DTSTART;VALUE=DATE:20210413
DTEND;VALUE=DATE:20210414
DTSTAMP:20260425T125407
CREATED:20210416T001050Z
LAST-MODIFIED:20210416T001050Z
UID:10004587-1618272000-1618358399@leisureknoll.org
SUMMARY:Garbage Pick Up
DESCRIPTION:GARBAGE P/U -WINTERS BROS. WASTE – 631-491-4923\nGarbage pick up Tues. & Fri. except holidays Confirm Bulk P/U (on Thursday) with Winters Brothers
URL:https://leisureknoll.org/calendar/garbage-pick-up-tues/2021-04-13/
END:VEVENT
BEGIN:VEVENT
DTSTART;TZID=America/New_York:20210413T090000
DTEND;TZID=America/New_York:20210413T110000
DTSTAMP:20260425T125407
CREATED:20210416T003116Z
LAST-MODIFIED:20260109T025549Z
UID:10004938-1618304400-1618311600@leisureknoll.org
SUMMARY:Wood Shop
DESCRIPTION:
URL:https://leisureknoll.org/calendar/wood-shop/2021-04-13/
END:VEVENT
BEGIN:VEVENT
DTSTART;TZID=America/New_York:20210413T093000
DTEND;TZID=America/New_York:20210413T103000
DTSTAMP:20260425T125407
CREATED:20210416T004451Z
LAST-MODIFIED:20210416T011905Z
UID:10005936-1618306200-1618309800@leisureknoll.org
SUMMARY:Ladies Tennis
DESCRIPTION:Tennis Courts
URL:https://leisureknoll.org/calendar/ladies-tennis/2021-04-13/
END:VEVENT
BEGIN:VEVENT
DTSTART;TZID=America/New_York:20210413T100000
DTEND;TZID=America/New_York:20210413T110000
DTSTAMP:20260425T125407
CREATED:20210416T004620Z
LAST-MODIFIED:20210416T004620Z
UID:10005943-1618308000-1618311600@leisureknoll.org
SUMMARY:Slimnastics
DESCRIPTION:Rec Hall
URL:https://leisureknoll.org/calendar/slimnastics/2021-04-13/
END:VEVENT
BEGIN:VEVENT
DTSTART;TZID=America/New_York:20210413T120000
DTEND;TZID=America/New_York:20210413T140000
DTSTAMP:20260425T125407
CREATED:20210416T004721Z
LAST-MODIFIED:20210416T004721Z
UID:10005947-1618315200-1618322400@leisureknoll.org
SUMMARY:Mah Jongg
DESCRIPTION:Rec Center
URL:https://leisureknoll.org/calendar/mah-jongg-3/2021-04-13/
END:VEVENT
BEGIN:VEVENT
DTSTART;TZID=America/New_York:20210413T130000
DTEND;TZID=America/New_York:20210413T150000
DTSTAMP:20260425T125407
CREATED:20210416T003503Z
LAST-MODIFIED:20240929T182527Z
UID:10005357-1618318800-1618326000@leisureknoll.org
SUMMARY:Billiards
DESCRIPTION:Recreation Center\, every day except Sunday
URL:https://leisureknoll.org/calendar/billiards/2021-04-13/
END:VEVENT
BEGIN:VEVENT
DTSTART;TZID=America/New_York:20210413T130000
DTEND;TZID=America/New_York:20210413T150000
DTSTAMP:20260425T125407
CREATED:20210416T004849Z
LAST-MODIFIED:20210801T012001Z
UID:10005951-1618318800-1618326000@leisureknoll.org
SUMMARY:Ladies Cards
DESCRIPTION:Craft Center
URL:https://leisureknoll.org/calendar/ladies-cards/2021-04-13/
END:VEVENT
BEGIN:VEVENT
DTSTART;TZID=America/New_York:20210413T190000
DTEND;TZID=America/New_York:20210413T210000
DTSTAMP:20260425T125407
CREATED:20210416T005003Z
LAST-MODIFIED:20210416T005003Z
UID:10005973-1618340400-1618347600@leisureknoll.org
SUMMARY:Men’s Card Game
DESCRIPTION:Craft Center
URL:https://leisureknoll.org/calendar/mens-card-game/2021-04-13/
END:VEVENT
BEGIN:VEVENT
DTSTART;VALUE=DATE:20210414
DTEND;VALUE=DATE:20210415
DTSTAMP:20260425T125407
CREATED:20210416T002329Z
LAST-MODIFIED:20250101T172802Z
UID:10004859-1618358400-1618444799@leisureknoll.org
SUMMARY:Recycling - Paper
DESCRIPTION:Paper
URL:https://leisureknoll.org/calendar/recycling-paper/2021-04-14/1/
END:VEVENT
BEGIN:VEVENT
DTSTART;VALUE=DATE:20210414
DTEND;VALUE=DATE:20210415
DTSTAMP:20260425T125407
CREATED:20210416T002329Z
LAST-MODIFIED:20250101T172802Z
UID:10017628-1618387200-1618419600@leisureknoll.org
SUMMARY:Recycling - Paper
DESCRIPTION:Paper
URL:https://leisureknoll.org/calendar/recycling-paper/2021-04-14/2/
END:VEVENT
BEGIN:VEVENT
DTSTART;TZID=America/New_York:20210414T090000
DTEND;TZID=America/New_York:20210414T110000
DTSTAMP:20260425T125407
CREATED:20210416T002837Z
LAST-MODIFIED:20210416T003724Z
UID:10004922-1618390800-1618398000@leisureknoll.org
SUMMARY:Tennis
DESCRIPTION:Tennis courts
URL:https://leisureknoll.org/calendar/tennis/2021-04-14/
END:VEVENT
BEGIN:VEVENT
DTSTART;TZID=America/New_York:20210414T090000
DTEND;TZID=America/New_York:20210414T110000
DTSTAMP:20260425T125407
CREATED:20210416T003116Z
LAST-MODIFIED:20260109T025549Z
UID:10004939-1618390800-1618398000@leisureknoll.org
SUMMARY:Wood Shop
DESCRIPTION:
URL:https://leisureknoll.org/calendar/wood-shop/2021-04-14/
END:VEVENT
BEGIN:VEVENT
DTSTART;TZID=America/New_York:20210414T113000
DTEND;TZID=America/New_York:20210414T143000
DTSTAMP:20260425T125407
CREATED:20210416T005344Z
LAST-MODIFIED:20210901T023024Z
UID:10005977-1618399800-1618410600@leisureknoll.org
SUMMARY:Men's Bowling
DESCRIPTION:
URL:https://leisureknoll.org/calendar/mens-bowling/2021-04-14/
END:VEVENT
BEGIN:VEVENT
DTSTART;TZID=America/New_York:20210414T113000
DTEND;TZID=America/New_York:20210414T153000
DTSTAMP:20260425T125407
CREATED:20210415T031725Z
LAST-MODIFIED:20220308T012950Z
UID:10004522-1618399800-1618414200@leisureknoll.org
SUMMARY:Bus to Smith Haven Mall
DESCRIPTION:Bus to Smith Haven Mall \nLeaves Leisure Knoll at 11:30 am.
URL:https://leisureknoll.org/calendar/bus-to-smith-haven-mall/2021-04-14/
END:VEVENT
BEGIN:VEVENT
DTSTART;TZID=America/New_York:20210414T130000
DTEND;TZID=America/New_York:20210414T150000
DTSTAMP:20260425T125407
CREATED:20210416T003503Z
LAST-MODIFIED:20240929T182527Z
UID:10005358-1618405200-1618412400@leisureknoll.org
SUMMARY:Billiards
DESCRIPTION:Recreation Center\, every day except Sunday
URL:https://leisureknoll.org/calendar/billiards/2021-04-14/
END:VEVENT
BEGIN:VEVENT
DTSTART;TZID=America/New_York:20210414T130000
DTEND;TZID=America/New_York:20210414T150000
DTSTAMP:20260425T125407
CREATED:20210416T005743Z
LAST-MODIFIED:20260109T030323Z
UID:10006006-1618405200-1618412400@leisureknoll.org
SUMMARY:Bridge
DESCRIPTION:Craft Center
URL:https://leisureknoll.org/calendar/bridge/2021-04-14/
END:VEVENT
BEGIN:VEVENT
DTSTART;TZID=America/New_York:20210414T183000
DTEND;TZID=America/New_York:20210414T203000
DTSTAMP:20260425T125407
CREATED:20210416T004220Z
LAST-MODIFIED:20210416T005849Z
UID:10005928-1618425000-1618432200@leisureknoll.org
SUMMARY:Mah Jongg
DESCRIPTION:Craft Center
URL:https://leisureknoll.org/calendar/mah-jongg-2/2021-04-14/
END:VEVENT
BEGIN:VEVENT
DTSTART;TZID=America/New_York:20210414T183000
DTEND;TZID=America/New_York:20210414T203000
DTSTAMP:20260425T125407
CREATED:20210416T005957Z
LAST-MODIFIED:20220909T144628Z
UID:10006088-1618425000-1618432200@leisureknoll.org
SUMMARY:Men's Poker
DESCRIPTION:Craft Center
URL:https://leisureknoll.org/calendar/mens-poker/2021-04-14/
END:VEVENT
BEGIN:VEVENT
DTSTART;TZID=America/New_York:20210415T090000
DTEND;TZID=America/New_York:20210415T110000
DTSTAMP:20260425T125407
CREATED:20210416T003116Z
LAST-MODIFIED:20260109T025549Z
UID:10004940-1618477200-1618484400@leisureknoll.org
SUMMARY:Wood Shop
DESCRIPTION:
URL:https://leisureknoll.org/calendar/wood-shop/2021-04-15/
END:VEVENT
BEGIN:VEVENT
DTSTART;TZID=America/New_York:20210415T093000
DTEND;TZID=America/New_York:20210415T103000
DTSTAMP:20260425T125407
CREATED:20210416T004451Z
LAST-MODIFIED:20210416T011905Z
UID:10005937-1618479000-1618482600@leisureknoll.org
SUMMARY:Ladies Tennis
DESCRIPTION:Tennis Courts
URL:https://leisureknoll.org/calendar/ladies-tennis/2021-04-15/
END:VEVENT
BEGIN:VEVENT
DTSTART;TZID=America/New_York:20210415T100000
DTEND;TZID=America/New_York:20210415T130000
DTSTAMP:20260425T125407
CREATED:20210415T031404Z
LAST-MODIFIED:20240114T192421Z
UID:10004432-1618480800-1618491600@leisureknoll.org
SUMMARY:Bus to Port Jefferson Station
DESCRIPTION:Bus to Port Jefferson Station\, Meat Farms\, Shop Rite\, TJ Max shopping center. \nLeaves Leisure Knoll at 10:00 am.
URL:https://leisureknoll.org/calendar/bus-to-port-jefferson-station/2021-04-15/
END:VEVENT
BEGIN:VEVENT
DTSTART;TZID=America/New_York:20210415T130000
DTEND;TZID=America/New_York:20210415T150000
DTSTAMP:20260425T125407
CREATED:20210416T003503Z
LAST-MODIFIED:20240929T182527Z
UID:10005359-1618491600-1618498800@leisureknoll.org
SUMMARY:Billiards
DESCRIPTION:Recreation Center\, every day except Sunday
URL:https://leisureknoll.org/calendar/billiards/2021-04-15/
END:VEVENT
BEGIN:VEVENT
DTSTART;TZID=America/New_York:20210415T130000
DTEND;TZID=America/New_York:20210415T150000
DTSTAMP:20260425T125407
CREATED:20210416T010104Z
LAST-MODIFIED:20230106T202026Z
UID:10006163-1618491600-1618498800@leisureknoll.org
SUMMARY:Bridge/Canasta
DESCRIPTION:Craft Center
URL:https://leisureknoll.org/calendar/bridge-canasta/2021-04-15/
END:VEVENT
BEGIN:VEVENT
DTSTART;TZID=America/New_York:20210415T140000
DTEND;TZID=America/New_York:20210415T160000
DTSTAMP:20260425T125407
CREATED:20210416T010210Z
LAST-MODIFIED:20220508T162402Z
UID:10006242-1618495200-1618502400@leisureknoll.org
SUMMARY:Knitting & Crochet
DESCRIPTION:Craft Center
URL:https://leisureknoll.org/calendar/knitting-crochet/2021-04-15/
END:VEVENT
BEGIN:VEVENT
DTSTART;TZID=America/New_York:20210415T183000
DTEND;TZID=America/New_York:20210415T203000
DTSTAMP:20260425T125407
CREATED:20210416T005545Z
LAST-MODIFIED:20210416T005545Z
UID:10006000-1618511400-1618518600@leisureknoll.org
SUMMARY:Mah Jongg
DESCRIPTION:Craft Center
URL:https://leisureknoll.org/calendar/mah-jongg-4/2021-04-15/
END:VEVENT
BEGIN:VEVENT
DTSTART;TZID=America/New_York:20210415T190000
DTEND;TZID=America/New_York:20210415T210000
DTSTAMP:20260425T125407
CREATED:20210416T002706Z
LAST-MODIFIED:20210416T002706Z
UID:10004916-1618513200-1618520400@leisureknoll.org
SUMMARY:American Legion Ladies Auxilliary & American Legion Post 1887 Meetings
DESCRIPTION:Amer. Legion Ladies Aux Mtg. & Amer. Legion Post 1887 Mtg.—7:00 pm \nRec. Ctr.—Wear Mask
URL:https://leisureknoll.org/calendar/american-legion/
END:VEVENT
BEGIN:VEVENT
DTSTART;VALUE=DATE:20210416
DTEND;VALUE=DATE:20210417
DTSTAMP:20260425T125407
CREATED:20210416T001302Z
LAST-MODIFIED:20251215T033850Z
UID:10004625-1618531200-1618617599@leisureknoll.org
SUMMARY:Garbage Pick Up
DESCRIPTION:GARBAGE P/U -WINTERS BROS. WASTE – 631-491-4923\nGarbage pick up Tues. & Fri. except holidays Confirm Bulk P/U (on Thursday) with Winters Brothers
URL:https://leisureknoll.org/calendar/garbage-pick-up-fri/2021-04-16/
END:VEVENT
BEGIN:VEVENT
DTSTART;TZID=America/New_York:20210416T090000
DTEND;TZID=America/New_York:20210416T110000
DTSTAMP:20260425T125407
CREATED:20210416T002837Z
LAST-MODIFIED:20210416T003724Z
UID:10004923-1618563600-1618570800@leisureknoll.org
SUMMARY:Tennis
DESCRIPTION:Tennis courts
URL:https://leisureknoll.org/calendar/tennis/2021-04-16/
END:VEVENT
BEGIN:VEVENT
DTSTART;TZID=America/New_York:20210416T090000
DTEND;TZID=America/New_York:20210416T110000
DTSTAMP:20260425T125407
CREATED:20210416T003116Z
LAST-MODIFIED:20260109T025549Z
UID:10004941-1618563600-1618570800@leisureknoll.org
SUMMARY:Wood Shop
DESCRIPTION:
URL:https://leisureknoll.org/calendar/wood-shop/2021-04-16/
END:VEVENT
END:VCALENDAR