BEGIN:VCALENDAR
VERSION:2.0
PRODID:-//Leisure Knoll - ECPv6.15.20//NONSGML v1.0//EN
CALSCALE:GREGORIAN
METHOD:PUBLISH
X-WR-CALNAME:Leisure Knoll
X-ORIGINAL-URL:https://leisureknoll.org
X-WR-CALDESC:Events for Leisure Knoll
REFRESH-INTERVAL;VALUE=DURATION:PT1H
X-Robots-Tag:noindex
X-PUBLISHED-TTL:PT1H
BEGIN:VTIMEZONE
TZID:America/New_York
BEGIN:DAYLIGHT
TZOFFSETFROM:-0500
TZOFFSETTO:-0400
TZNAME:EDT
DTSTART:20220313T070000
END:DAYLIGHT
BEGIN:STANDARD
TZOFFSETFROM:-0400
TZOFFSETTO:-0500
TZNAME:EST
DTSTART:20221106T060000
END:STANDARD
BEGIN:DAYLIGHT
TZOFFSETFROM:-0500
TZOFFSETTO:-0400
TZNAME:EDT
DTSTART:20230312T070000
END:DAYLIGHT
BEGIN:STANDARD
TZOFFSETFROM:-0400
TZOFFSETTO:-0500
TZNAME:EST
DTSTART:20231105T060000
END:STANDARD
BEGIN:DAYLIGHT
TZOFFSETFROM:-0500
TZOFFSETTO:-0400
TZNAME:EDT
DTSTART:20240310T070000
END:DAYLIGHT
BEGIN:STANDARD
TZOFFSETFROM:-0400
TZOFFSETTO:-0500
TZNAME:EST
DTSTART:20241103T060000
END:STANDARD
END:VTIMEZONE
BEGIN:VEVENT
DTSTART;TZID=America/New_York:20230924T130000
DTEND;TZID=America/New_York:20230924T150000
DTSTAMP:20260422T040253
CREATED:20230901T002846Z
LAST-MODIFIED:20230901T002846Z
UID:10013144-1695560400-1695567600@leisureknoll.org
SUMMARY:American Legion Aux. Ticket Sale Trivia Night at The Derby
DESCRIPTION:American Legion Aux. Ticket Sale Trivia Night at The Derby @ 1-3pm Craft Center
URL:https://leisureknoll.org/calendar/american-legion-aux-ticket-sale-trivia-night-at-the-derby/
END:VEVENT
BEGIN:VEVENT
DTSTART;TZID=America/New_York:20230924T180000
DTEND;TZID=America/New_York:20230924T230000
DTSTAMP:20260422T040253
CREATED:20230312T033638Z
LAST-MODIFIED:20231104T200551Z
UID:10013147-1695578400-1695596400@leisureknoll.org
SUMMARY:Texas Hold'Em Poker
DESCRIPTION:6-11pm @ Craft Center 2
URL:https://leisureknoll.org/calendar/texas-holdem-poker-9/2023-09-24/
END:VEVENT
BEGIN:VEVENT
DTSTART;TZID=America/New_York:20230925T090000
DTEND;TZID=America/New_York:20230925T100000
DTSTAMP:20260422T040253
CREATED:20230312T035839Z
LAST-MODIFIED:20231128T012444Z
UID:10012214-1695632400-1695636000@leisureknoll.org
SUMMARY:Tennis Club
DESCRIPTION:
URL:https://leisureknoll.org/calendar/tennis-club/2023-09-25/
END:VEVENT
BEGIN:VEVENT
DTSTART;TZID=America/New_York:20230925T090000
DTEND;TZID=America/New_York:20230925T110000
DTSTAMP:20260422T040253
CREATED:20210416T003116Z
LAST-MODIFIED:20260109T025549Z
UID:10009805-1695632400-1695639600@leisureknoll.org
SUMMARY:Wood Shop
DESCRIPTION:
URL:https://leisureknoll.org/calendar/wood-shop/2023-09-25/
END:VEVENT
BEGIN:VEVENT
DTSTART;TZID=America/New_York:20230925T100000
DTEND;TZID=America/New_York:20230925T110000
DTSTAMP:20260422T040253
CREATED:20220301T013856Z
LAST-MODIFIED:20250101T175615Z
UID:10010107-1695636000-1695639600@leisureknoll.org
SUMMARY:Slimnastics
DESCRIPTION:Recreation Hall
URL:https://leisureknoll.org/calendar/slimnastics-5/2023-09-25/
END:VEVENT
BEGIN:VEVENT
DTSTART;TZID=America/New_York:20230925T110000
DTEND;TZID=America/New_York:20230925T120000
DTSTAMP:20260422T040253
CREATED:20221202T030602Z
LAST-MODIFIED:20260109T025858Z
UID:10009989-1695639600-1695643200@leisureknoll.org
SUMMARY:Ping Pong
DESCRIPTION:11am @ Recreation Hall
URL:https://leisureknoll.org/calendar/ping-pong/2023-09-25/
END:VEVENT
BEGIN:VEVENT
DTSTART;TZID=America/New_York:20230925T120000
DTEND;TZID=America/New_York:20230925T133000
DTSTAMP:20260422T040253
CREATED:20230630T031224Z
LAST-MODIFIED:20260109T030045Z
UID:10012700-1695643200-1695648600@leisureknoll.org
SUMMARY:Canasta
DESCRIPTION:12pm @ Craft Center
URL:https://leisureknoll.org/calendar/canasta/2023-09-25/
END:VEVENT
BEGIN:VEVENT
DTSTART;TZID=America/New_York:20230925T130000
DTEND;TZID=America/New_York:20230925T150000
DTSTAMP:20260422T040253
CREATED:20210416T003503Z
LAST-MODIFIED:20240929T182527Z
UID:10010415-1695646800-1695654000@leisureknoll.org
SUMMARY:Billiards
DESCRIPTION:Recreation Center\, every day except Sunday
URL:https://leisureknoll.org/calendar/billiards/2023-09-25/
END:VEVENT
BEGIN:VEVENT
DTSTART;TZID=America/New_York:20230925T143000
DTEND;TZID=America/New_York:20230925T160000
DTSTAMP:20260422T040253
CREATED:20230630T031357Z
LAST-MODIFIED:20231128T012532Z
UID:10012803-1695652200-1695657600@leisureknoll.org
SUMMARY:Pickleball Club
DESCRIPTION:@ 2:30pm
URL:https://leisureknoll.org/calendar/pickleball-club/2023-09-25/
END:VEVENT
BEGIN:VEVENT
DTSTART;TZID=America/New_York:20230925T180000
DTEND;TZID=America/New_York:20230925T200000
DTSTAMP:20260422T040253
CREATED:20210702T034900Z
LAST-MODIFIED:20240707T191247Z
UID:10016816-1695664800-1695672000@leisureknoll.org
SUMMARY:Ladies Poker
DESCRIPTION:Craft Center
URL:https://leisureknoll.org/calendar/ladies-poker-2021-09-13/2023-09-25/
END:VEVENT
BEGIN:VEVENT
DTSTART;VALUE=DATE:20230926
DTEND;VALUE=DATE:20230927
DTSTAMP:20260422T040253
CREATED:20210416T001302Z
LAST-MODIFIED:20251215T033850Z
UID:10009534-1695686400-1695772799@leisureknoll.org
SUMMARY:Garbage Pick Up
DESCRIPTION:GARBAGE P/U -WINTERS BROS. WASTE – 631-491-4923\nGarbage pick up Tues. & Fri. except holidays Confirm Bulk P/U (on Thursday) with Winters Brothers
URL:https://leisureknoll.org/calendar/garbage-pick-up-fri/2023-09-26/
END:VEVENT
BEGIN:VEVENT
DTSTART;TZID=America/New_York:20230926T090000
DTEND;TZID=America/New_York:20230926T110000
DTSTAMP:20260422T040253
CREATED:20210416T003116Z
LAST-MODIFIED:20260109T025549Z
UID:10009806-1695718800-1695726000@leisureknoll.org
SUMMARY:Wood Shop
DESCRIPTION:
URL:https://leisureknoll.org/calendar/wood-shop/2023-09-26/
END:VEVENT
BEGIN:VEVENT
DTSTART;TZID=America/New_York:20230926T093000
DTEND;TZID=America/New_York:20230926T103000
DTSTAMP:20260422T040253
CREATED:20230312T040136Z
LAST-MODIFIED:20231128T012323Z
UID:10012479-1695720600-1695724200@leisureknoll.org
SUMMARY:Ladies Tennis
DESCRIPTION:
URL:https://leisureknoll.org/calendar/ladies-tennis-4/2023-09-26/
END:VEVENT
BEGIN:VEVENT
DTSTART;TZID=America/New_York:20230926T110000
DTEND;TZID=America/New_York:20230926T120000
DTSTAMP:20260422T040253
CREATED:20221202T030602Z
LAST-MODIFIED:20260109T025858Z
UID:10009990-1695726000-1695729600@leisureknoll.org
SUMMARY:Ping Pong
DESCRIPTION:11am @ Recreation Hall
URL:https://leisureknoll.org/calendar/ping-pong/2023-09-26/
END:VEVENT
BEGIN:VEVENT
DTSTART;TZID=America/New_York:20230926T123000
DTEND;TZID=America/New_York:20230926T163000
DTSTAMP:20260422T040253
CREATED:20210415T030726Z
LAST-MODIFIED:20240114T192346Z
UID:10010641-1695731400-1695745800@leisureknoll.org
SUMMARY:Bus to Yaphank & Middle Island
DESCRIPTION:Bus to Wal-Mart Yaphank/King Kullen Middle Island shopping center. \nLeaves Leisure Knoll at 12:30pm and returns 4:30pm.
URL:https://leisureknoll.org/calendar/bus-to-middle-island/2023-09-26/
END:VEVENT
BEGIN:VEVENT
DTSTART;TZID=America/New_York:20230926T130000
DTEND;TZID=America/New_York:20230926T140000
DTSTAMP:20260422T040253
CREATED:20230901T003100Z
LAST-MODIFIED:20231012T024343Z
UID:10013145-1695733200-1695736800@leisureknoll.org
SUMMARY:Architectural Committee Meeting
DESCRIPTION:Architectural Committee Meeting | 1-2pm @ Craft Center
URL:https://leisureknoll.org/calendar/architectural-committee-meeting-14/2023-09-26/
END:VEVENT
BEGIN:VEVENT
DTSTART;TZID=America/New_York:20230926T130000
DTEND;TZID=America/New_York:20230926T150000
DTSTAMP:20260422T040253
CREATED:20210416T003503Z
LAST-MODIFIED:20240929T182527Z
UID:10010416-1695733200-1695740400@leisureknoll.org
SUMMARY:Billiards
DESCRIPTION:Recreation Center\, every day except Sunday
URL:https://leisureknoll.org/calendar/billiards/2023-09-26/
END:VEVENT
BEGIN:VEVENT
DTSTART;TZID=America/New_York:20230926T130000
DTEND;TZID=America/New_York:20230926T163000
DTSTAMP:20260422T040253
CREATED:20230312T032638Z
LAST-MODIFIED:20240929T181808Z
UID:10011716-1695733200-1695745800@leisureknoll.org
SUMMARY:Rummikub
DESCRIPTION:Craft Center \n1-4:30pm
URL:https://leisureknoll.org/calendar/rummikub-2-2/2023-09-26/
END:VEVENT
BEGIN:VEVENT
DTSTART;TZID=America/New_York:20230926T183000
DTEND;TZID=America/New_York:20230926T203000
DTSTAMP:20260422T040253
CREATED:20210702T033018Z
LAST-MODIFIED:20230501T195018Z
UID:10010745-1695753000-1695760200@leisureknoll.org
SUMMARY:Mixed Card Game
DESCRIPTION:Craft Center
URL:https://leisureknoll.org/calendar/guys-gals-card-game/2023-09-26/
END:VEVENT
BEGIN:VEVENT
DTSTART;VALUE=DATE:20230927
DTEND;VALUE=DATE:20230928
DTSTAMP:20260422T040253
CREATED:20210416T002329Z
LAST-MODIFIED:20250101T172802Z
UID:10009581-1695772800-1695859199@leisureknoll.org
SUMMARY:Recycling - Paper
DESCRIPTION:Paper
URL:https://leisureknoll.org/calendar/recycling-paper/2023-09-27/
END:VEVENT
BEGIN:VEVENT
DTSTART;TZID=America/New_York:20230927T090000
DTEND;TZID=America/New_York:20230927T100000
DTSTAMP:20260422T040253
CREATED:20230312T035839Z
LAST-MODIFIED:20231128T012444Z
UID:10012215-1695805200-1695808800@leisureknoll.org
SUMMARY:Tennis Club
DESCRIPTION:
URL:https://leisureknoll.org/calendar/tennis-club/2023-09-27/
END:VEVENT
BEGIN:VEVENT
DTSTART;TZID=America/New_York:20230927T090000
DTEND;TZID=America/New_York:20230927T110000
DTSTAMP:20260422T040253
CREATED:20210416T003116Z
LAST-MODIFIED:20260109T025549Z
UID:10009807-1695805200-1695812400@leisureknoll.org
SUMMARY:Wood Shop
DESCRIPTION:
URL:https://leisureknoll.org/calendar/wood-shop/2023-09-27/
END:VEVENT
BEGIN:VEVENT
DTSTART;TZID=America/New_York:20230927T093000
DTEND;TZID=America/New_York:20230927T113000
DTSTAMP:20260422T040253
CREATED:20210901T030231Z
LAST-MODIFIED:20260109T030159Z
UID:10010797-1695807000-1695814200@leisureknoll.org
SUMMARY:Art Club
DESCRIPTION:Craft Room
URL:https://leisureknoll.org/calendar/art-club/2023-09-27/
END:VEVENT
BEGIN:VEVENT
DTSTART;TZID=America/New_York:20230927T100000
DTEND;TZID=America/New_York:20230927T110000
DTSTAMP:20260422T040253
CREATED:20220301T013856Z
LAST-MODIFIED:20250101T175615Z
UID:10010108-1695808800-1695812400@leisureknoll.org
SUMMARY:Slimnastics
DESCRIPTION:Recreation Hall
URL:https://leisureknoll.org/calendar/slimnastics-5/2023-09-27/
END:VEVENT
BEGIN:VEVENT
DTSTART;TZID=America/New_York:20230927T113000
DTEND;TZID=America/New_York:20230927T133000
DTSTAMP:20260422T040254
CREATED:20230909T172751Z
LAST-MODIFIED:20240307T040407Z
UID:10013155-1695814200-1695821400@leisureknoll.org
SUMMARY:Ladies Bowling
DESCRIPTION:11:30am
URL:https://leisureknoll.org/calendar/ladies-bowling/2023-09-27/
END:VEVENT
BEGIN:VEVENT
DTSTART;TZID=America/New_York:20230927T113000
DTEND;TZID=America/New_York:20230927T143000
DTSTAMP:20260422T040254
CREATED:20230617T023550Z
LAST-MODIFIED:20230617T023550Z
UID:10010849-1695814200-1695825000@leisureknoll.org
SUMMARY:Men's Bowling
DESCRIPTION:@ 11:30am
URL:https://leisureknoll.org/calendar/mens-bowling-2021-09-15-2/2023-09-27/
END:VEVENT
BEGIN:VEVENT
DTSTART;TZID=America/New_York:20230927T130000
DTEND;TZID=America/New_York:20230927T150000
DTSTAMP:20260422T040254
CREATED:20210416T003503Z
LAST-MODIFIED:20240929T182527Z
UID:10010417-1695819600-1695826800@leisureknoll.org
SUMMARY:Billiards
DESCRIPTION:Recreation Center\, every day except Sunday
URL:https://leisureknoll.org/calendar/billiards/2023-09-27/
END:VEVENT
BEGIN:VEVENT
DTSTART;TZID=America/New_York:20230927T130000
DTEND;TZID=America/New_York:20230927T150000
DTSTAMP:20260422T040254
CREATED:20210416T005743Z
LAST-MODIFIED:20260109T030323Z
UID:10010901-1695819600-1695826800@leisureknoll.org
SUMMARY:Bridge
DESCRIPTION:Craft Center
URL:https://leisureknoll.org/calendar/bridge/2023-09-27/
END:VEVENT
BEGIN:VEVENT
DTSTART;TZID=America/New_York:20230927T143000
DTEND;TZID=America/New_York:20230927T160000
DTSTAMP:20260422T040254
CREATED:20230630T031357Z
LAST-MODIFIED:20231128T012532Z
UID:10012804-1695825000-1695830400@leisureknoll.org
SUMMARY:Pickleball Club
DESCRIPTION:@ 2:30pm
URL:https://leisureknoll.org/calendar/pickleball-club/2023-09-27/
END:VEVENT
BEGIN:VEVENT
DTSTART;TZID=America/New_York:20230927T170000
DTEND;TZID=America/New_York:20230927T190000
DTSTAMP:20260422T040254
CREATED:20230901T001617Z
LAST-MODIFIED:20230901T001617Z
UID:10013133-1695834000-1695841200@leisureknoll.org
SUMMARY:Bocce
DESCRIPTION:5pm
URL:https://leisureknoll.org/calendar/bocce-4/2023-09-27/
END:VEVENT
END:VCALENDAR