BEGIN:VCALENDAR
VERSION:2.0
PRODID:-//Leisure Knoll - ECPv6.15.20//NONSGML v1.0//EN
CALSCALE:GREGORIAN
METHOD:PUBLISH
X-WR-CALNAME:Leisure Knoll
X-ORIGINAL-URL:https://leisureknoll.org
X-WR-CALDESC:Events for Leisure Knoll
REFRESH-INTERVAL;VALUE=DURATION:PT1H
X-Robots-Tag:noindex
X-PUBLISHED-TTL:PT1H
BEGIN:VTIMEZONE
TZID:America/New_York
BEGIN:DAYLIGHT
TZOFFSETFROM:-0500
TZOFFSETTO:-0400
TZNAME:EDT
DTSTART:20220313T070000
END:DAYLIGHT
BEGIN:STANDARD
TZOFFSETFROM:-0400
TZOFFSETTO:-0500
TZNAME:EST
DTSTART:20221106T060000
END:STANDARD
BEGIN:DAYLIGHT
TZOFFSETFROM:-0500
TZOFFSETTO:-0400
TZNAME:EDT
DTSTART:20230312T070000
END:DAYLIGHT
BEGIN:STANDARD
TZOFFSETFROM:-0400
TZOFFSETTO:-0500
TZNAME:EST
DTSTART:20231105T060000
END:STANDARD
BEGIN:DAYLIGHT
TZOFFSETFROM:-0500
TZOFFSETTO:-0400
TZNAME:EDT
DTSTART:20240310T070000
END:DAYLIGHT
BEGIN:STANDARD
TZOFFSETFROM:-0400
TZOFFSETTO:-0500
TZNAME:EST
DTSTART:20241103T060000
END:STANDARD
END:VTIMEZONE
BEGIN:VEVENT
DTSTART;VALUE=DATE:20230501
DTEND;VALUE=DATE:20230905
DTSTAMP:20260423T002511
CREATED:20230501T201015Z
LAST-MODIFIED:20230501T201145Z
UID:10012653-1682899200-1693871999@leisureknoll.org
SUMMARY:Pool Open 5/27/23 - 9/4/23
DESCRIPTION:POOL HOURS ADULTS & ADULT GUESTS \n\n\n\n\nMay 27th-June 24th  \n\nSat.-Thurs: 10:00am-5:15pm\nFri:10:00am-6:30pm\n\n\n\nJune 25th-Sept. 4th  \n\nSat.-Thurs:10:00am-6:45pm\nFri:10:00am-6:30pm\n\n\n\n\n\nCHILDREN’S HOURS (AGES 4 THROUGH 12) \n\nMon\, Wed\, Fri: 11:30am-2:00pm & 4:00pm-5:15pm\nSaturday & Sunday: 12:00pm-4:00pm\n\nOnce lifeguard off–duty\, pool will remain open until 9pm (RESIDENTS ONLY\, NO CHILDREN—swim at your own risk)
URL:https://leisureknoll.org/calendar/pool-open-5-27-23-9-4-23/
END:VEVENT
BEGIN:VEVENT
DTSTART;VALUE=DATE:20230728
DTEND;VALUE=DATE:20230729
DTSTAMP:20260423T002511
CREATED:20210416T001302Z
LAST-MODIFIED:20251215T033850Z
UID:10009517-1690502400-1690588799@leisureknoll.org
SUMMARY:Garbage Pick Up
DESCRIPTION:GARBAGE P/U -WINTERS BROS. WASTE – 631-491-4923\nGarbage pick up Tues. & Fri. except holidays Confirm Bulk P/U (on Thursday) with Winters Brothers
URL:https://leisureknoll.org/calendar/garbage-pick-up-fri/2023-07-28/
END:VEVENT
BEGIN:VEVENT
DTSTART;TZID=America/New_York:20230728T090000
DTEND;TZID=America/New_York:20230728T100000
DTSTAMP:20260423T002511
CREATED:20230312T035839Z
LAST-MODIFIED:20231128T012444Z
UID:10012180-1690534800-1690538400@leisureknoll.org
SUMMARY:Tennis Club
DESCRIPTION:
URL:https://leisureknoll.org/calendar/tennis-club/2023-07-28/
END:VEVENT
BEGIN:VEVENT
DTSTART;TZID=America/New_York:20230728T090000
DTEND;TZID=America/New_York:20230728T110000
DTSTAMP:20260423T002511
CREATED:20210416T003116Z
LAST-MODIFIED:20260109T025549Z
UID:10009764-1690534800-1690542000@leisureknoll.org
SUMMARY:Wood Shop
DESCRIPTION:
URL:https://leisureknoll.org/calendar/wood-shop/2023-07-28/
END:VEVENT
BEGIN:VEVENT
DTSTART;TZID=America/New_York:20230728T093000
DTEND;TZID=America/New_York:20230728T103000
DTSTAMP:20260423T002511
CREATED:20211209T023315Z
LAST-MODIFIED:20250101T175700Z
UID:10011469-1690536600-1690540200@leisureknoll.org
SUMMARY:Slimnastics
DESCRIPTION:9:30am @ Craft Center
URL:https://leisureknoll.org/calendar/slimnastics-4/2023-07-28/
END:VEVENT
BEGIN:VEVENT
DTSTART;TZID=America/New_York:20230728T130000
DTEND;TZID=America/New_York:20230728T150000
DTSTAMP:20260423T002511
CREATED:20210416T003503Z
LAST-MODIFIED:20240929T182527Z
UID:10010365-1690549200-1690556400@leisureknoll.org
SUMMARY:Billiards
DESCRIPTION:Recreation Center\, every day except Sunday
URL:https://leisureknoll.org/calendar/billiards/2023-07-28/
END:VEVENT
BEGIN:VEVENT
DTSTART;TZID=America/New_York:20230728T130000
DTEND;TZID=America/New_York:20230728T150000
DTSTAMP:20260423T002511
CREATED:20220602T022125Z
LAST-MODIFIED:20241106T040502Z
UID:10011521-1690549200-1690556400@leisureknoll.org
SUMMARY:Women's Card Game
DESCRIPTION:Craft Center @ 1pm
URL:https://leisureknoll.org/calendar/womens-card-game/2023-07-28/
END:VEVENT
BEGIN:VEVENT
DTSTART;TZID=America/New_York:20230728T143000
DTEND;TZID=America/New_York:20230728T160000
DTSTAMP:20260423T002511
CREATED:20230630T031357Z
LAST-MODIFIED:20231128T012532Z
UID:10012778-1690554600-1690560000@leisureknoll.org
SUMMARY:Pickleball Club
DESCRIPTION:@ 2:30pm
URL:https://leisureknoll.org/calendar/pickleball-club/2023-07-28/
END:VEVENT
BEGIN:VEVENT
DTSTART;TZID=America/New_York:20230728T180000
DTEND;TZID=America/New_York:20230728T200000
DTSTAMP:20260423T002511
CREATED:20221204T045026Z
LAST-MODIFIED:20221204T045026Z
UID:10009435-1690567200-1690574400@leisureknoll.org
SUMMARY:Texas Hold'em
DESCRIPTION:6pm @ Craft Center
URL:https://leisureknoll.org/calendar/texas-holdem-2/2023-07-28/
END:VEVENT
BEGIN:VEVENT
DTSTART;TZID=America/New_York:20230728T190000
DTEND;TZID=America/New_York:20230728T210000
DTSTAMP:20260423T002511
CREATED:20230209T024948Z
LAST-MODIFIED:20230901T001345Z
UID:10011417-1690570800-1690578000@leisureknoll.org
SUMMARY:Corn Hole League
DESCRIPTION:7pm @ Rec Hall
URL:https://leisureknoll.org/calendar/corn-hole-league-2/2023-07-28/
END:VEVENT
BEGIN:VEVENT
DTSTART;TZID=America/New_York:20230729T090000
DTEND;TZID=America/New_York:20230729T100000
DTSTAMP:20260423T002511
CREATED:20230312T035839Z
LAST-MODIFIED:20231128T012444Z
UID:10012181-1690621200-1690624800@leisureknoll.org
SUMMARY:Tennis Club
DESCRIPTION:
URL:https://leisureknoll.org/calendar/tennis-club/2023-07-29/
END:VEVENT
BEGIN:VEVENT
DTSTART;TZID=America/New_York:20230729T130000
DTEND;TZID=America/New_York:20230729T150000
DTSTAMP:20260423T002511
CREATED:20210416T003503Z
LAST-MODIFIED:20240929T182527Z
UID:10010366-1690635600-1690642800@leisureknoll.org
SUMMARY:Billiards
DESCRIPTION:Recreation Center\, every day except Sunday
URL:https://leisureknoll.org/calendar/billiards/2023-07-29/
END:VEVENT
BEGIN:VEVENT
DTSTART;TZID=America/New_York:20230730T180000
DTEND;TZID=America/New_York:20230730T230000
DTSTAMP:20260423T002511
CREATED:20230312T033638Z
LAST-MODIFIED:20231104T200551Z
UID:10013000-1690740000-1690758000@leisureknoll.org
SUMMARY:Texas Hold'Em Poker
DESCRIPTION:6-11pm @ Craft Center 2
URL:https://leisureknoll.org/calendar/texas-holdem-poker-9/2023-07-30/
END:VEVENT
BEGIN:VEVENT
DTSTART;TZID=America/New_York:20230731T090000
DTEND;TZID=America/New_York:20230731T100000
DTSTAMP:20260423T002511
CREATED:20230312T035839Z
LAST-MODIFIED:20231128T012444Z
UID:10012182-1690794000-1690797600@leisureknoll.org
SUMMARY:Tennis Club
DESCRIPTION:
URL:https://leisureknoll.org/calendar/tennis-club/2023-07-31/
END:VEVENT
BEGIN:VEVENT
DTSTART;TZID=America/New_York:20230731T090000
DTEND;TZID=America/New_York:20230731T110000
DTSTAMP:20260423T002511
CREATED:20210416T003116Z
LAST-MODIFIED:20260109T025549Z
UID:10009765-1690794000-1690801200@leisureknoll.org
SUMMARY:Wood Shop
DESCRIPTION:
URL:https://leisureknoll.org/calendar/wood-shop/2023-07-31/
END:VEVENT
BEGIN:VEVENT
DTSTART;TZID=America/New_York:20230731T100000
DTEND;TZID=America/New_York:20230731T110000
DTSTAMP:20260423T002511
CREATED:20220301T013856Z
LAST-MODIFIED:20250101T175615Z
UID:10010091-1690797600-1690801200@leisureknoll.org
SUMMARY:Slimnastics
DESCRIPTION:Recreation Hall
URL:https://leisureknoll.org/calendar/slimnastics-5/2023-07-31/
END:VEVENT
BEGIN:VEVENT
DTSTART;TZID=America/New_York:20230731T110000
DTEND;TZID=America/New_York:20230731T120000
DTSTAMP:20260423T002511
CREATED:20221202T030602Z
LAST-MODIFIED:20260109T025858Z
UID:10009965-1690801200-1690804800@leisureknoll.org
SUMMARY:Ping Pong
DESCRIPTION:11am @ Recreation Hall
URL:https://leisureknoll.org/calendar/ping-pong/2023-07-31/
END:VEVENT
BEGIN:VEVENT
DTSTART;TZID=America/New_York:20230731T120000
DTEND;TZID=America/New_York:20230731T133000
DTSTAMP:20260423T002511
CREATED:20230630T031224Z
LAST-MODIFIED:20260109T030045Z
UID:10012692-1690804800-1690810200@leisureknoll.org
SUMMARY:Canasta
DESCRIPTION:12pm @ Craft Center
URL:https://leisureknoll.org/calendar/canasta/2023-07-31/
END:VEVENT
BEGIN:VEVENT
DTSTART;TZID=America/New_York:20230731T123000
DTEND;TZID=America/New_York:20230731T143000
DTSTAMP:20260423T002511
CREATED:20210702T030121Z
LAST-MODIFIED:20230106T200950Z
UID:10010165-1690806600-1690813800@leisureknoll.org
SUMMARY:Mah Jongg
DESCRIPTION:@ Craft Center
URL:https://leisureknoll.org/calendar/mah-jongg-5/2023-07-31/
END:VEVENT
BEGIN:VEVENT
DTSTART;TZID=America/New_York:20230731T130000
DTEND;TZID=America/New_York:20230731T150000
DTSTAMP:20260423T002511
CREATED:20210416T003503Z
LAST-MODIFIED:20240929T182527Z
UID:10010367-1690808400-1690815600@leisureknoll.org
SUMMARY:Billiards
DESCRIPTION:Recreation Center\, every day except Sunday
URL:https://leisureknoll.org/calendar/billiards/2023-07-31/
END:VEVENT
BEGIN:VEVENT
DTSTART;TZID=America/New_York:20230731T143000
DTEND;TZID=America/New_York:20230731T160000
DTSTAMP:20260423T002511
CREATED:20230630T031357Z
LAST-MODIFIED:20231128T012532Z
UID:10012779-1690813800-1690819200@leisureknoll.org
SUMMARY:Pickleball Club
DESCRIPTION:@ 2:30pm
URL:https://leisureknoll.org/calendar/pickleball-club/2023-07-31/
END:VEVENT
BEGIN:VEVENT
DTSTART;TZID=America/New_York:20230731T180000
DTEND;TZID=America/New_York:20230731T200000
DTSTAMP:20260423T002511
CREATED:20210702T034900Z
LAST-MODIFIED:20240707T191247Z
UID:10016808-1690826400-1690833600@leisureknoll.org
SUMMARY:Ladies Poker
DESCRIPTION:Craft Center
URL:https://leisureknoll.org/calendar/ladies-poker-2021-09-13/2023-07-31/
END:VEVENT
BEGIN:VEVENT
DTSTART;VALUE=DATE:20230801
DTEND;VALUE=DATE:20230802
DTSTAMP:20260423T002511
CREATED:20210416T001302Z
LAST-MODIFIED:20251215T033850Z
UID:10009518-1690848000-1690934399@leisureknoll.org
SUMMARY:Garbage Pick Up
DESCRIPTION:GARBAGE P/U -WINTERS BROS. WASTE – 631-491-4923\nGarbage pick up Tues. & Fri. except holidays Confirm Bulk P/U (on Thursday) with Winters Brothers
URL:https://leisureknoll.org/calendar/garbage-pick-up-fri/2023-08-01/
END:VEVENT
BEGIN:VEVENT
DTSTART;TZID=America/New_York:20230801T090000
DTEND;TZID=America/New_York:20230801T110000
DTSTAMP:20260423T002511
CREATED:20210416T003116Z
LAST-MODIFIED:20260109T025549Z
UID:10009766-1690880400-1690887600@leisureknoll.org
SUMMARY:Wood Shop
DESCRIPTION:
URL:https://leisureknoll.org/calendar/wood-shop/2023-08-01/
END:VEVENT
BEGIN:VEVENT
DTSTART;TZID=America/New_York:20230801T093000
DTEND;TZID=America/New_York:20230801T103000
DTSTAMP:20260423T002511
CREATED:20230312T040136Z
LAST-MODIFIED:20231128T012323Z
UID:10012463-1690882200-1690885800@leisureknoll.org
SUMMARY:Ladies Tennis
DESCRIPTION:
URL:https://leisureknoll.org/calendar/ladies-tennis-4/2023-08-01/
END:VEVENT
BEGIN:VEVENT
DTSTART;TZID=America/New_York:20230801T110000
DTEND;TZID=America/New_York:20230801T120000
DTSTAMP:20260423T002511
CREATED:20221202T030602Z
LAST-MODIFIED:20260109T025858Z
UID:10009966-1690887600-1690891200@leisureknoll.org
SUMMARY:Ping Pong
DESCRIPTION:11am @ Recreation Hall
URL:https://leisureknoll.org/calendar/ping-pong/2023-08-01/
END:VEVENT
BEGIN:VEVENT
DTSTART;TZID=America/New_York:20230801T123000
DTEND;TZID=America/New_York:20230801T163000
DTSTAMP:20260423T002511
CREATED:20210415T030726Z
LAST-MODIFIED:20240114T192346Z
UID:10010633-1690893000-1690907400@leisureknoll.org
SUMMARY:Bus to Yaphank & Middle Island
DESCRIPTION:Bus to Wal-Mart Yaphank/King Kullen Middle Island shopping center. \nLeaves Leisure Knoll at 12:30pm and returns 4:30pm.
URL:https://leisureknoll.org/calendar/bus-to-middle-island/2023-08-01/
END:VEVENT
BEGIN:VEVENT
DTSTART;TZID=America/New_York:20230801T130000
DTEND;TZID=America/New_York:20230801T150000
DTSTAMP:20260423T002511
CREATED:20210416T003503Z
LAST-MODIFIED:20240929T182527Z
UID:10010368-1690894800-1690902000@leisureknoll.org
SUMMARY:Billiards
DESCRIPTION:Recreation Center\, every day except Sunday
URL:https://leisureknoll.org/calendar/billiards/2023-08-01/
END:VEVENT
BEGIN:VEVENT
DTSTART;TZID=America/New_York:20230801T130000
DTEND;TZID=America/New_York:20230801T163000
DTSTAMP:20260423T002511
CREATED:20230312T032638Z
LAST-MODIFIED:20240929T181808Z
UID:10011708-1690894800-1690907400@leisureknoll.org
SUMMARY:Rummikub
DESCRIPTION:Craft Center \n1-4:30pm
URL:https://leisureknoll.org/calendar/rummikub-2-2/2023-08-01/
END:VEVENT
BEGIN:VEVENT
DTSTART;TZID=America/New_York:20230801T183000
DTEND;TZID=America/New_York:20230801T203000
DTSTAMP:20260423T002511
CREATED:20210702T033018Z
LAST-MODIFIED:20230501T195018Z
UID:10010737-1690914600-1690921800@leisureknoll.org
SUMMARY:Mixed Card Game
DESCRIPTION:Craft Center
URL:https://leisureknoll.org/calendar/guys-gals-card-game/2023-08-01/
END:VEVENT
END:VCALENDAR