BEGIN:VCALENDAR
VERSION:2.0
PRODID:-//Leisure Knoll - ECPv6.15.20//NONSGML v1.0//EN
CALSCALE:GREGORIAN
METHOD:PUBLISH
X-WR-CALNAME:Leisure Knoll
X-ORIGINAL-URL:https://leisureknoll.org
X-WR-CALDESC:Events for Leisure Knoll
REFRESH-INTERVAL;VALUE=DURATION:PT1H
X-Robots-Tag:noindex
X-PUBLISHED-TTL:PT1H
BEGIN:VTIMEZONE
TZID:America/New_York
BEGIN:DAYLIGHT
TZOFFSETFROM:-0500
TZOFFSETTO:-0400
TZNAME:EDT
DTSTART:20220313T070000
END:DAYLIGHT
BEGIN:STANDARD
TZOFFSETFROM:-0400
TZOFFSETTO:-0500
TZNAME:EST
DTSTART:20221106T060000
END:STANDARD
BEGIN:DAYLIGHT
TZOFFSETFROM:-0500
TZOFFSETTO:-0400
TZNAME:EDT
DTSTART:20230312T070000
END:DAYLIGHT
BEGIN:STANDARD
TZOFFSETFROM:-0400
TZOFFSETTO:-0500
TZNAME:EST
DTSTART:20231105T060000
END:STANDARD
BEGIN:DAYLIGHT
TZOFFSETFROM:-0500
TZOFFSETTO:-0400
TZNAME:EDT
DTSTART:20240310T070000
END:DAYLIGHT
BEGIN:STANDARD
TZOFFSETFROM:-0400
TZOFFSETTO:-0500
TZNAME:EST
DTSTART:20241103T060000
END:STANDARD
END:VTIMEZONE
BEGIN:VEVENT
DTSTART;VALUE=DATE:20230501
DTEND;VALUE=DATE:20230905
DTSTAMP:20260422T225746
CREATED:20230501T201015Z
LAST-MODIFIED:20230501T201145Z
UID:10012653-1682899200-1693871999@leisureknoll.org
SUMMARY:Pool Open 5/27/23 - 9/4/23
DESCRIPTION:POOL HOURS ADULTS & ADULT GUESTS \n\n\n\n\nMay 27th-June 24th  \n\nSat.-Thurs: 10:00am-5:15pm\nFri:10:00am-6:30pm\n\n\n\nJune 25th-Sept. 4th  \n\nSat.-Thurs:10:00am-6:45pm\nFri:10:00am-6:30pm\n\n\n\n\n\nCHILDREN’S HOURS (AGES 4 THROUGH 12) \n\nMon\, Wed\, Fri: 11:30am-2:00pm & 4:00pm-5:15pm\nSaturday & Sunday: 12:00pm-4:00pm\n\nOnce lifeguard off–duty\, pool will remain open until 9pm (RESIDENTS ONLY\, NO CHILDREN—swim at your own risk)
URL:https://leisureknoll.org/calendar/pool-open-5-27-23-9-4-23/
END:VEVENT
BEGIN:VEVENT
DTSTART;TZID=America/New_York:20230717T090000
DTEND;TZID=America/New_York:20230717T100000
DTSTAMP:20260422T225746
CREATED:20230312T035839Z
LAST-MODIFIED:20231128T012444Z
UID:10012174-1689584400-1689588000@leisureknoll.org
SUMMARY:Tennis Club
DESCRIPTION:
URL:https://leisureknoll.org/calendar/tennis-club/2023-07-17/
END:VEVENT
BEGIN:VEVENT
DTSTART;TZID=America/New_York:20230717T090000
DTEND;TZID=America/New_York:20230717T110000
DTSTAMP:20260422T225746
CREATED:20210416T003116Z
LAST-MODIFIED:20260109T025549Z
UID:10009755-1689584400-1689591600@leisureknoll.org
SUMMARY:Wood Shop
DESCRIPTION:
URL:https://leisureknoll.org/calendar/wood-shop/2023-07-17/
END:VEVENT
BEGIN:VEVENT
DTSTART;TZID=America/New_York:20230717T100000
DTEND;TZID=America/New_York:20230717T110000
DTSTAMP:20260422T225746
CREATED:20220301T013856Z
LAST-MODIFIED:20250101T175615Z
UID:10010087-1689588000-1689591600@leisureknoll.org
SUMMARY:Slimnastics
DESCRIPTION:Recreation Hall
URL:https://leisureknoll.org/calendar/slimnastics-5/2023-07-17/
END:VEVENT
BEGIN:VEVENT
DTSTART;TZID=America/New_York:20230717T110000
DTEND;TZID=America/New_York:20230717T120000
DTSTAMP:20260422T225746
CREATED:20221202T030602Z
LAST-MODIFIED:20260109T025858Z
UID:10009959-1689591600-1689595200@leisureknoll.org
SUMMARY:Ping Pong
DESCRIPTION:11am @ Recreation Hall
URL:https://leisureknoll.org/calendar/ping-pong/2023-07-17/
END:VEVENT
BEGIN:VEVENT
DTSTART;TZID=America/New_York:20230717T120000
DTEND;TZID=America/New_York:20230717T133000
DTSTAMP:20260422T225746
CREATED:20230630T031224Z
LAST-MODIFIED:20260109T030045Z
UID:10012690-1689595200-1689600600@leisureknoll.org
SUMMARY:Canasta
DESCRIPTION:12pm @ Craft Center
URL:https://leisureknoll.org/calendar/canasta/2023-07-17/
END:VEVENT
BEGIN:VEVENT
DTSTART;TZID=America/New_York:20230717T123000
DTEND;TZID=America/New_York:20230717T143000
DTSTAMP:20260422T225746
CREATED:20210702T030121Z
LAST-MODIFIED:20230106T200950Z
UID:10010163-1689597000-1689604200@leisureknoll.org
SUMMARY:Mah Jongg
DESCRIPTION:@ Craft Center
URL:https://leisureknoll.org/calendar/mah-jongg-5/2023-07-17/
END:VEVENT
BEGIN:VEVENT
DTSTART;TZID=America/New_York:20230717T130000
DTEND;TZID=America/New_York:20230717T150000
DTSTAMP:20260422T225746
CREATED:20210416T003503Z
LAST-MODIFIED:20240929T182527Z
UID:10010355-1689598800-1689606000@leisureknoll.org
SUMMARY:Billiards
DESCRIPTION:Recreation Center\, every day except Sunday
URL:https://leisureknoll.org/calendar/billiards/2023-07-17/
END:VEVENT
BEGIN:VEVENT
DTSTART;TZID=America/New_York:20230717T143000
DTEND;TZID=America/New_York:20230717T160000
DTSTAMP:20260422T225746
CREATED:20230630T031357Z
LAST-MODIFIED:20231128T012532Z
UID:10012773-1689604200-1689609600@leisureknoll.org
SUMMARY:Pickleball Club
DESCRIPTION:@ 2:30pm
URL:https://leisureknoll.org/calendar/pickleball-club/2023-07-17/
END:VEVENT
BEGIN:VEVENT
DTSTART;TZID=America/New_York:20230717T180000
DTEND;TZID=America/New_York:20230717T200000
DTSTAMP:20260422T225746
CREATED:20210702T034900Z
LAST-MODIFIED:20240707T191247Z
UID:10016806-1689616800-1689624000@leisureknoll.org
SUMMARY:Ladies Poker
DESCRIPTION:Craft Center
URL:https://leisureknoll.org/calendar/ladies-poker-2021-09-13/2023-07-17/
END:VEVENT
BEGIN:VEVENT
DTSTART;VALUE=DATE:20230718
DTEND;VALUE=DATE:20230719
DTSTAMP:20260422T225746
CREATED:20210416T001302Z
LAST-MODIFIED:20251215T033850Z
UID:10009514-1689638400-1689724799@leisureknoll.org
SUMMARY:Garbage Pick Up
DESCRIPTION:GARBAGE P/U -WINTERS BROS. WASTE – 631-491-4923\nGarbage pick up Tues. & Fri. except holidays Confirm Bulk P/U (on Thursday) with Winters Brothers
URL:https://leisureknoll.org/calendar/garbage-pick-up-fri/2023-07-18/
END:VEVENT
BEGIN:VEVENT
DTSTART;TZID=America/New_York:20230718T090000
DTEND;TZID=America/New_York:20230718T110000
DTSTAMP:20260422T225746
CREATED:20210416T003116Z
LAST-MODIFIED:20260109T025549Z
UID:10009756-1689670800-1689678000@leisureknoll.org
SUMMARY:Wood Shop
DESCRIPTION:
URL:https://leisureknoll.org/calendar/wood-shop/2023-07-18/
END:VEVENT
BEGIN:VEVENT
DTSTART;TZID=America/New_York:20230718T093000
DTEND;TZID=America/New_York:20230718T103000
DTSTAMP:20260422T225746
CREATED:20230312T040136Z
LAST-MODIFIED:20231128T012323Z
UID:10012459-1689672600-1689676200@leisureknoll.org
SUMMARY:Ladies Tennis
DESCRIPTION:
URL:https://leisureknoll.org/calendar/ladies-tennis-4/2023-07-18/
END:VEVENT
BEGIN:VEVENT
DTSTART;TZID=America/New_York:20230718T110000
DTEND;TZID=America/New_York:20230718T120000
DTSTAMP:20260422T225746
CREATED:20221202T030602Z
LAST-MODIFIED:20260109T025858Z
UID:10009960-1689678000-1689681600@leisureknoll.org
SUMMARY:Ping Pong
DESCRIPTION:11am @ Recreation Hall
URL:https://leisureknoll.org/calendar/ping-pong/2023-07-18/
END:VEVENT
BEGIN:VEVENT
DTSTART;TZID=America/New_York:20230718T123000
DTEND;TZID=America/New_York:20230718T163000
DTSTAMP:20260422T225746
CREATED:20210415T030726Z
LAST-MODIFIED:20240114T192346Z
UID:10010631-1689683400-1689697800@leisureknoll.org
SUMMARY:Bus to Yaphank & Middle Island
DESCRIPTION:Bus to Wal-Mart Yaphank/King Kullen Middle Island shopping center. \nLeaves Leisure Knoll at 12:30pm and returns 4:30pm.
URL:https://leisureknoll.org/calendar/bus-to-middle-island/2023-07-18/
END:VEVENT
BEGIN:VEVENT
DTSTART;TZID=America/New_York:20230718T130000
DTEND;TZID=America/New_York:20230718T150000
DTSTAMP:20260422T225746
CREATED:20210416T003503Z
LAST-MODIFIED:20240929T182527Z
UID:10010356-1689685200-1689692400@leisureknoll.org
SUMMARY:Billiards
DESCRIPTION:Recreation Center\, every day except Sunday
URL:https://leisureknoll.org/calendar/billiards/2023-07-18/
END:VEVENT
BEGIN:VEVENT
DTSTART;TZID=America/New_York:20230718T130000
DTEND;TZID=America/New_York:20230718T163000
DTSTAMP:20260422T225746
CREATED:20230312T032638Z
LAST-MODIFIED:20240929T181808Z
UID:10011706-1689685200-1689697800@leisureknoll.org
SUMMARY:Rummikub
DESCRIPTION:Craft Center \n1-4:30pm
URL:https://leisureknoll.org/calendar/rummikub-2-2/2023-07-18/
END:VEVENT
BEGIN:VEVENT
DTSTART;TZID=America/New_York:20230718T183000
DTEND;TZID=America/New_York:20230718T203000
DTSTAMP:20260422T225746
CREATED:20210702T033018Z
LAST-MODIFIED:20230501T195018Z
UID:10010735-1689705000-1689712200@leisureknoll.org
SUMMARY:Mixed Card Game
DESCRIPTION:Craft Center
URL:https://leisureknoll.org/calendar/guys-gals-card-game/2023-07-18/
END:VEVENT
BEGIN:VEVENT
DTSTART;VALUE=DATE:20230719
DTEND;VALUE=DATE:20230720
DTSTAMP:20260422T225746
CREATED:20210416T002329Z
LAST-MODIFIED:20250101T172802Z
UID:10009576-1689724800-1689811199@leisureknoll.org
SUMMARY:Recycling - Paper
DESCRIPTION:Paper
URL:https://leisureknoll.org/calendar/recycling-paper/2023-07-19/
END:VEVENT
BEGIN:VEVENT
DTSTART;TZID=America/New_York:20230719T090000
DTEND;TZID=America/New_York:20230719T100000
DTSTAMP:20260422T225746
CREATED:20230312T035839Z
LAST-MODIFIED:20231128T012444Z
UID:10012175-1689757200-1689760800@leisureknoll.org
SUMMARY:Tennis Club
DESCRIPTION:
URL:https://leisureknoll.org/calendar/tennis-club/2023-07-19/
END:VEVENT
BEGIN:VEVENT
DTSTART;TZID=America/New_York:20230719T090000
DTEND;TZID=America/New_York:20230719T110000
DTSTAMP:20260422T225746
CREATED:20210416T003116Z
LAST-MODIFIED:20260109T025549Z
UID:10009757-1689757200-1689764400@leisureknoll.org
SUMMARY:Wood Shop
DESCRIPTION:
URL:https://leisureknoll.org/calendar/wood-shop/2023-07-19/
END:VEVENT
BEGIN:VEVENT
DTSTART;TZID=America/New_York:20230719T093000
DTEND;TZID=America/New_York:20230719T113000
DTSTAMP:20260422T225746
CREATED:20210901T030231Z
LAST-MODIFIED:20260109T030159Z
UID:10010787-1689759000-1689766200@leisureknoll.org
SUMMARY:Art Club
DESCRIPTION:Craft Room
URL:https://leisureknoll.org/calendar/art-club/2023-07-19/
END:VEVENT
BEGIN:VEVENT
DTSTART;TZID=America/New_York:20230719T100000
DTEND;TZID=America/New_York:20230719T110000
DTSTAMP:20260422T225746
CREATED:20220301T013856Z
LAST-MODIFIED:20250101T175615Z
UID:10010088-1689760800-1689764400@leisureknoll.org
SUMMARY:Slimnastics
DESCRIPTION:Recreation Hall
URL:https://leisureknoll.org/calendar/slimnastics-5/2023-07-19/
END:VEVENT
BEGIN:VEVENT
DTSTART;TZID=America/New_York:20230719T113000
DTEND;TZID=America/New_York:20230719T143000
DTSTAMP:20260422T225746
CREATED:20230617T023550Z
LAST-MODIFIED:20230617T023550Z
UID:10010839-1689766200-1689777000@leisureknoll.org
SUMMARY:Men's Bowling
DESCRIPTION:@ 11:30am
URL:https://leisureknoll.org/calendar/mens-bowling-2021-09-15-2/2023-07-19/
END:VEVENT
BEGIN:VEVENT
DTSTART;TZID=America/New_York:20230719T130000
DTEND;TZID=America/New_York:20230719T150000
DTSTAMP:20260422T225746
CREATED:20210416T003503Z
LAST-MODIFIED:20240929T182527Z
UID:10010357-1689771600-1689778800@leisureknoll.org
SUMMARY:Billiards
DESCRIPTION:Recreation Center\, every day except Sunday
URL:https://leisureknoll.org/calendar/billiards/2023-07-19/
END:VEVENT
BEGIN:VEVENT
DTSTART;TZID=America/New_York:20230719T130000
DTEND;TZID=America/New_York:20230719T150000
DTSTAMP:20260422T225746
CREATED:20210416T005743Z
LAST-MODIFIED:20260109T030323Z
UID:10010891-1689771600-1689778800@leisureknoll.org
SUMMARY:Bridge
DESCRIPTION:Craft Center
URL:https://leisureknoll.org/calendar/bridge/2023-07-19/
END:VEVENT
BEGIN:VEVENT
DTSTART;TZID=America/New_York:20230719T130000
DTEND;TZID=America/New_York:20230719T150000
DTSTAMP:20260422T225746
CREATED:20230630T032412Z
LAST-MODIFIED:20230630T032412Z
UID:10012966-1689771600-1689778800@leisureknoll.org
SUMMARY:Knitting for Charity
DESCRIPTION:1pm @ Craft Center
URL:https://leisureknoll.org/calendar/knitting-for-charity-2/2023-07-19/
END:VEVENT
BEGIN:VEVENT
DTSTART;TZID=America/New_York:20230719T143000
DTEND;TZID=America/New_York:20230719T160000
DTSTAMP:20260422T225746
CREATED:20230630T031357Z
LAST-MODIFIED:20231128T012532Z
UID:10012774-1689777000-1689782400@leisureknoll.org
SUMMARY:Pickleball Club
DESCRIPTION:@ 2:30pm
URL:https://leisureknoll.org/calendar/pickleball-club/2023-07-19/
END:VEVENT
BEGIN:VEVENT
DTSTART;TZID=America/New_York:20230719T180000
DTEND;TZID=America/New_York:20230719T200000
DTSTAMP:20260422T225746
CREATED:20210416T005957Z
LAST-MODIFIED:20240929T182030Z
UID:10010995-1689789600-1689796800@leisureknoll.org
SUMMARY:Men's Poker
DESCRIPTION:Craft Center
URL:https://leisureknoll.org/calendar/mens-poker-2022-08-31/2023-07-19/
END:VEVENT
BEGIN:VEVENT
DTSTART;TZID=America/New_York:20230719T184500
DTEND;TZID=America/New_York:20230719T204500
DTSTAMP:20260422T225746
CREATED:20210505T022532Z
LAST-MODIFIED:20260109T031152Z
UID:10011047-1689792300-1689799500@leisureknoll.org
SUMMARY:Dominoes
DESCRIPTION:Recreation Hall
URL:https://leisureknoll.org/calendar/dominoes/2023-07-19/
END:VEVENT
END:VCALENDAR