BEGIN:VCALENDAR
VERSION:2.0
PRODID:-//Leisure Knoll - ECPv6.15.20//NONSGML v1.0//EN
CALSCALE:GREGORIAN
METHOD:PUBLISH
X-WR-CALNAME:Leisure Knoll
X-ORIGINAL-URL:https://leisureknoll.org
X-WR-CALDESC:Events for Leisure Knoll
REFRESH-INTERVAL;VALUE=DURATION:PT1H
X-Robots-Tag:noindex
X-PUBLISHED-TTL:PT1H
BEGIN:VTIMEZONE
TZID:America/New_York
BEGIN:DAYLIGHT
TZOFFSETFROM:-0500
TZOFFSETTO:-0400
TZNAME:EDT
DTSTART:20220313T070000
END:DAYLIGHT
BEGIN:STANDARD
TZOFFSETFROM:-0400
TZOFFSETTO:-0500
TZNAME:EST
DTSTART:20221106T060000
END:STANDARD
BEGIN:DAYLIGHT
TZOFFSETFROM:-0500
TZOFFSETTO:-0400
TZNAME:EDT
DTSTART:20230312T070000
END:DAYLIGHT
BEGIN:STANDARD
TZOFFSETFROM:-0400
TZOFFSETTO:-0500
TZNAME:EST
DTSTART:20231105T060000
END:STANDARD
BEGIN:DAYLIGHT
TZOFFSETFROM:-0500
TZOFFSETTO:-0400
TZNAME:EDT
DTSTART:20240310T070000
END:DAYLIGHT
BEGIN:STANDARD
TZOFFSETFROM:-0400
TZOFFSETTO:-0500
TZNAME:EST
DTSTART:20241103T060000
END:STANDARD
END:VTIMEZONE
BEGIN:VEVENT
DTSTART;VALUE=DATE:20230501
DTEND;VALUE=DATE:20230905
DTSTAMP:20260423T095352
CREATED:20230501T201015Z
LAST-MODIFIED:20230501T201145Z
UID:10012653-1682899200-1693871999@leisureknoll.org
SUMMARY:Pool Open 5/27/23 - 9/4/23
DESCRIPTION:POOL HOURS ADULTS & ADULT GUESTS \n\n\n\n\nMay 27th-June 24th  \n\nSat.-Thurs: 10:00am-5:15pm\nFri:10:00am-6:30pm\n\n\n\nJune 25th-Sept. 4th  \n\nSat.-Thurs:10:00am-6:45pm\nFri:10:00am-6:30pm\n\n\n\n\n\nCHILDREN’S HOURS (AGES 4 THROUGH 12) \n\nMon\, Wed\, Fri: 11:30am-2:00pm & 4:00pm-5:15pm\nSaturday & Sunday: 12:00pm-4:00pm\n\nOnce lifeguard off–duty\, pool will remain open until 9pm (RESIDENTS ONLY\, NO CHILDREN—swim at your own risk)
URL:https://leisureknoll.org/calendar/pool-open-5-27-23-9-4-23/
END:VEVENT
BEGIN:VEVENT
DTSTART;VALUE=DATE:20230614
DTEND;VALUE=DATE:20230615
DTSTAMP:20260423T095352
CREATED:20210416T002146Z
LAST-MODIFIED:20250607T015435Z
UID:10021173-1686700800-1686787199@leisureknoll.org
SUMMARY:Recycling - Cans & Plastic
DESCRIPTION:Cans and plastic
URL:https://leisureknoll.org/calendar/recycling-cans-plastic-2022-10-05/
END:VEVENT
BEGIN:VEVENT
DTSTART;VALUE=DATE:20230614
DTEND;VALUE=DATE:20230615
DTSTAMP:20260423T095352
CREATED:20210416T002146Z
LAST-MODIFIED:20250608T235414Z
UID:10021591-1686700800-1686787199@leisureknoll.org
SUMMARY:Recycling - Cans & Plastic
DESCRIPTION:Cans and plastic
URL:https://leisureknoll.org/calendar/recycling-cans-plastic-2022-11-30/
END:VEVENT
BEGIN:VEVENT
DTSTART;VALUE=DATE:20230614
DTEND;VALUE=DATE:20230615
DTSTAMP:20260423T095352
CREATED:20210416T002146Z
LAST-MODIFIED:20250607T015434Z
UID:10020739-1686700800-1686787199@leisureknoll.org
SUMMARY:Recycling - Cans & Plastic
DESCRIPTION:Cans and plastic
URL:https://leisureknoll.org/calendar/recycling-cans-plastic-2022-07-27/
END:VEVENT
BEGIN:VEVENT
DTSTART;VALUE=DATE:20230614
DTEND;VALUE=DATE:20230615
DTSTAMP:20260423T095352
CREATED:20210416T002146Z
LAST-MODIFIED:20250607T015436Z
UID:10021279-1686700800-1686787199@leisureknoll.org
SUMMARY:Recycling - Cans & Plastic
DESCRIPTION:Cans and plastic
URL:https://leisureknoll.org/calendar/recycling-cans-plastic-2022-10-19/
END:VEVENT
BEGIN:VEVENT
DTSTART;VALUE=DATE:20230614
DTEND;VALUE=DATE:20230615
DTSTAMP:20260423T095352
CREATED:20210416T002146Z
LAST-MODIFIED:20250608T235414Z
UID:10021693-1686700800-1686787199@leisureknoll.org
SUMMARY:Recycling - Cans & Plastic
DESCRIPTION:Cans and plastic
URL:https://leisureknoll.org/calendar/recycling-cans-plastic-2022-12-14/
END:VEVENT
BEGIN:VEVENT
DTSTART;VALUE=DATE:20230614
DTEND;VALUE=DATE:20230615
DTSTAMP:20260423T095352
CREATED:20210416T002146Z
LAST-MODIFIED:20250607T015435Z
UID:10020849-1686700800-1686787199@leisureknoll.org
SUMMARY:Recycling - Cans & Plastic
DESCRIPTION:Cans and plastic
URL:https://leisureknoll.org/calendar/recycling-cans-plastic-2022-08-10/
END:VEVENT
BEGIN:VEVENT
DTSTART;VALUE=DATE:20230614
DTEND;VALUE=DATE:20230615
DTSTAMP:20260423T095352
CREATED:20210416T002146Z
LAST-MODIFIED:20250607T015436Z
UID:10021384-1686700800-1686787199@leisureknoll.org
SUMMARY:Recycling - Cans & Plastic
DESCRIPTION:Cans and plastic
URL:https://leisureknoll.org/calendar/recycling-cans-plastic-2022-11-02/
END:VEVENT
BEGIN:VEVENT
DTSTART;VALUE=DATE:20230614
DTEND;VALUE=DATE:20230615
DTSTAMP:20260423T095352
CREATED:20210416T002146Z
LAST-MODIFIED:20250608T235414Z
UID:10021794-1686700800-1686787199@leisureknoll.org
SUMMARY:Recycling - Cans & Plastic
DESCRIPTION:Cans and plastic
URL:https://leisureknoll.org/calendar/recycling-cans-plastic-2022-12-28/
END:VEVENT
BEGIN:VEVENT
DTSTART;VALUE=DATE:20230614
DTEND;VALUE=DATE:20230615
DTSTAMP:20260423T095352
CREATED:20210416T002146Z
LAST-MODIFIED:20250607T015433Z
UID:10020516-1686700800-1686787199@leisureknoll.org
SUMMARY:Recycling - Cans & Plastic
DESCRIPTION:Cans and plastic
URL:https://leisureknoll.org/calendar/recycling-cans-plastic-2022-06-29/
END:VEVENT
BEGIN:VEVENT
DTSTART;VALUE=DATE:20230614
DTEND;VALUE=DATE:20230615
DTSTAMP:20260423T095352
CREATED:20210416T002146Z
LAST-MODIFIED:20250607T015435Z
UID:10020958-1686700800-1686787199@leisureknoll.org
SUMMARY:Recycling - Cans & Plastic
DESCRIPTION:Cans and plastic
URL:https://leisureknoll.org/calendar/recycling-cans-plastic-2022-08-24/
END:VEVENT
BEGIN:VEVENT
DTSTART;VALUE=DATE:20230614
DTEND;VALUE=DATE:20230615
DTSTAMP:20260423T095352
CREATED:20210416T002146Z
LAST-MODIFIED:20250607T015435Z
UID:10021066-1686700800-1686787199@leisureknoll.org
SUMMARY:Recycling - Cans & Plastic
DESCRIPTION:Cans and plastic
URL:https://leisureknoll.org/calendar/recycling-cans-plastic-2022-09-21/
END:VEVENT
BEGIN:VEVENT
DTSTART;VALUE=DATE:20230614
DTEND;VALUE=DATE:20230615
DTSTAMP:20260423T095352
CREATED:20210416T002146Z
LAST-MODIFIED:20250608T235413Z
UID:10021488-1686700800-1686787199@leisureknoll.org
SUMMARY:Recycling - Cans & Plastic
DESCRIPTION:Cans and plastic
URL:https://leisureknoll.org/calendar/recycling-cans-plastic-2022-11-16/
END:VEVENT
BEGIN:VEVENT
DTSTART;VALUE=DATE:20230614
DTEND;VALUE=DATE:20230615
DTSTAMP:20260423T095352
CREATED:20210416T002146Z
LAST-MODIFIED:20250607T015434Z
UID:10020628-1686700800-1686787199@leisureknoll.org
SUMMARY:Recycling - Cans & Plastic
DESCRIPTION:Cans and plastic
URL:https://leisureknoll.org/calendar/recycling-cans-plastic-2022-07-13/
END:VEVENT
BEGIN:VEVENT
DTSTART;VALUE=DATE:20230614
DTEND;VALUE=DATE:20230615
DTSTAMP:20260423T095352
CREATED:20230617T024227Z
LAST-MODIFIED:20230617T024227Z
UID:10012678-1686700800-1686787199@leisureknoll.org
SUMMARY:Flag Day
DESCRIPTION:
URL:https://leisureknoll.org/calendar/flag-day/
END:VEVENT
BEGIN:VEVENT
DTSTART;TZID=America/New_York:20230614T090000
DTEND;TZID=America/New_York:20230614T100000
DTSTAMP:20260423T095352
CREATED:20230312T035839Z
LAST-MODIFIED:20231128T012444Z
UID:10012155-1686733200-1686736800@leisureknoll.org
SUMMARY:Tennis Club
DESCRIPTION:
URL:https://leisureknoll.org/calendar/tennis-club/2023-06-14/
END:VEVENT
BEGIN:VEVENT
DTSTART;TZID=America/New_York:20230614T090000
DTEND;TZID=America/New_York:20230614T110000
DTSTAMP:20260423T095352
CREATED:20210416T003116Z
LAST-MODIFIED:20260109T025549Z
UID:10009732-1686733200-1686740400@leisureknoll.org
SUMMARY:Wood Shop
DESCRIPTION:
URL:https://leisureknoll.org/calendar/wood-shop/2023-06-14/
END:VEVENT
BEGIN:VEVENT
DTSTART;TZID=America/New_York:20230614T093000
DTEND;TZID=America/New_York:20230614T113000
DTSTAMP:20260423T095352
CREATED:20210901T030231Z
LAST-MODIFIED:20260109T030159Z
UID:10010782-1686735000-1686742200@leisureknoll.org
SUMMARY:Art Club
DESCRIPTION:Craft Room
URL:https://leisureknoll.org/calendar/art-club/2023-06-14/
END:VEVENT
BEGIN:VEVENT
DTSTART;TZID=America/New_York:20230614T100000
DTEND;TZID=America/New_York:20230614T110000
DTSTAMP:20260423T095352
CREATED:20220301T013856Z
LAST-MODIFIED:20250101T175615Z
UID:10010078-1686736800-1686740400@leisureknoll.org
SUMMARY:Slimnastics
DESCRIPTION:Recreation Hall
URL:https://leisureknoll.org/calendar/slimnastics-5/2023-06-14/
END:VEVENT
BEGIN:VEVENT
DTSTART;TZID=America/New_York:20230614T113000
DTEND;TZID=America/New_York:20230614T143000
DTSTAMP:20260423T095352
CREATED:20230617T023550Z
LAST-MODIFIED:20230617T023550Z
UID:10010834-1686742200-1686753000@leisureknoll.org
SUMMARY:Men's Bowling
DESCRIPTION:@ 11:30am
URL:https://leisureknoll.org/calendar/mens-bowling-2021-09-15-2/2023-06-14/
END:VEVENT
BEGIN:VEVENT
DTSTART;TZID=America/New_York:20230614T120000
DTEND;TZID=America/New_York:20230614T160000
DTSTAMP:20260423T095352
CREATED:20230617T024313Z
LAST-MODIFIED:20230617T024313Z
UID:10012679-1686744000-1686758400@leisureknoll.org
SUMMARY:American Legion Aux Flag Day Picnic
DESCRIPTION:12-4pm
URL:https://leisureknoll.org/calendar/american-legion-aux-flag-day-picnic-2/
END:VEVENT
BEGIN:VEVENT
DTSTART;TZID=America/New_York:20230614T130000
DTEND;TZID=America/New_York:20230614T150000
DTSTAMP:20260423T095352
CREATED:20210416T003503Z
LAST-MODIFIED:20240929T182527Z
UID:10010327-1686747600-1686754800@leisureknoll.org
SUMMARY:Billiards
DESCRIPTION:Recreation Center\, every day except Sunday
URL:https://leisureknoll.org/calendar/billiards/2023-06-14/
END:VEVENT
BEGIN:VEVENT
DTSTART;TZID=America/New_York:20230614T130000
DTEND;TZID=America/New_York:20230614T150000
DTSTAMP:20260423T095352
CREATED:20210416T005743Z
LAST-MODIFIED:20260109T030323Z
UID:10010886-1686747600-1686754800@leisureknoll.org
SUMMARY:Bridge
DESCRIPTION:Craft Center
URL:https://leisureknoll.org/calendar/bridge/2023-06-14/
END:VEVENT
BEGIN:VEVENT
DTSTART;TZID=America/New_York:20230614T170000
DTEND;TZID=America/New_York:20230614T200000
DTSTAMP:20260423T095352
CREATED:20230617T023432Z
LAST-MODIFIED:20230617T023432Z
UID:10012669-1686762000-1686772800@leisureknoll.org
SUMMARY:Bocce
DESCRIPTION:@ 5pm
URL:https://leisureknoll.org/calendar/bocce-3/2023-06-14/
END:VEVENT
BEGIN:VEVENT
DTSTART;TZID=America/New_York:20230614T180000
DTEND;TZID=America/New_York:20230614T200000
DTSTAMP:20260423T095352
CREATED:20210416T005957Z
LAST-MODIFIED:20240929T182030Z
UID:10010990-1686765600-1686772800@leisureknoll.org
SUMMARY:Men's Poker
DESCRIPTION:Craft Center
URL:https://leisureknoll.org/calendar/mens-poker-2022-08-31/2023-06-14/
END:VEVENT
BEGIN:VEVENT
DTSTART;TZID=America/New_York:20230614T184500
DTEND;TZID=America/New_York:20230614T204500
DTSTAMP:20260423T095352
CREATED:20210505T022532Z
LAST-MODIFIED:20260109T031152Z
UID:10011042-1686768300-1686775500@leisureknoll.org
SUMMARY:Dominoes
DESCRIPTION:Recreation Hall
URL:https://leisureknoll.org/calendar/dominoes/2023-06-14/
END:VEVENT
BEGIN:VEVENT
DTSTART;TZID=America/New_York:20230615T090000
DTEND;TZID=America/New_York:20230615T110000
DTSTAMP:20260423T095352
CREATED:20210416T003116Z
LAST-MODIFIED:20260109T025549Z
UID:10009733-1686819600-1686826800@leisureknoll.org
SUMMARY:Wood Shop
DESCRIPTION:
URL:https://leisureknoll.org/calendar/wood-shop/2023-06-15/
END:VEVENT
BEGIN:VEVENT
DTSTART;TZID=America/New_York:20230615T093000
DTEND;TZID=America/New_York:20230615T103000
DTSTAMP:20260423T095352
CREATED:20230312T040136Z
LAST-MODIFIED:20231128T012323Z
UID:10012450-1686821400-1686825000@leisureknoll.org
SUMMARY:Ladies Tennis
DESCRIPTION:
URL:https://leisureknoll.org/calendar/ladies-tennis-4/2023-06-15/
END:VEVENT
BEGIN:VEVENT
DTSTART;TZID=America/New_York:20230615T100000
DTEND;TZID=America/New_York:20230615T130000
DTSTAMP:20260423T095352
CREATED:20210415T031404Z
LAST-MODIFIED:20240114T192421Z
UID:10011094-1686823200-1686834000@leisureknoll.org
SUMMARY:Bus to Port Jefferson Station
DESCRIPTION:Bus to Port Jefferson Station\, Meat Farms\, Shop Rite\, TJ Max shopping center. \nLeaves Leisure Knoll at 10:00 am.
URL:https://leisureknoll.org/calendar/bus-to-port-jefferson-station/2023-06-15/
END:VEVENT
BEGIN:VEVENT
DTSTART;TZID=America/New_York:20230615T101500
DTEND;TZID=America/New_York:20230615T113000
DTSTAMP:20260423T095352
CREATED:20230312T032913Z
LAST-MODIFIED:20230312T032913Z
UID:10011146-1686824100-1686828600@leisureknoll.org
SUMMARY:Bible Study
DESCRIPTION:@ Craft Center
URL:https://leisureknoll.org/calendar/bible-study-2/2023-06-15/
END:VEVENT
END:VCALENDAR