BEGIN:VCALENDAR
VERSION:2.0
PRODID:-//Leisure Knoll - ECPv6.15.20//NONSGML v1.0//EN
CALSCALE:GREGORIAN
METHOD:PUBLISH
X-WR-CALNAME:Leisure Knoll
X-ORIGINAL-URL:https://leisureknoll.org
X-WR-CALDESC:Events for Leisure Knoll
REFRESH-INTERVAL;VALUE=DURATION:PT1H
X-Robots-Tag:noindex
X-PUBLISHED-TTL:PT1H
BEGIN:VTIMEZONE
TZID:America/New_York
BEGIN:DAYLIGHT
TZOFFSETFROM:-0500
TZOFFSETTO:-0400
TZNAME:EDT
DTSTART:20200308T070000
END:DAYLIGHT
BEGIN:STANDARD
TZOFFSETFROM:-0400
TZOFFSETTO:-0500
TZNAME:EST
DTSTART:20201101T060000
END:STANDARD
BEGIN:DAYLIGHT
TZOFFSETFROM:-0500
TZOFFSETTO:-0400
TZNAME:EDT
DTSTART:20210314T070000
END:DAYLIGHT
BEGIN:STANDARD
TZOFFSETFROM:-0400
TZOFFSETTO:-0500
TZNAME:EST
DTSTART:20211107T060000
END:STANDARD
BEGIN:DAYLIGHT
TZOFFSETFROM:-0500
TZOFFSETTO:-0400
TZNAME:EDT
DTSTART:20220313T070000
END:DAYLIGHT
BEGIN:STANDARD
TZOFFSETFROM:-0400
TZOFFSETTO:-0500
TZNAME:EST
DTSTART:20221106T060000
END:STANDARD
END:VTIMEZONE
BEGIN:VEVENT
DTSTART;VALUE=DATE:20210425
DTEND;VALUE=DATE:20210502
DTSTAMP:20260425T125327
CREATED:20210416T000056Z
LAST-MODIFIED:20220508T163151Z
UID:10004531-1619308800-1619913599@leisureknoll.org
SUMMARY:First Bus Stop #25
DESCRIPTION:The bus will begin at stop #25 and proceed to stop #1.
URL:https://leisureknoll.org/calendar/first-bus-stop-25/2021-04-25/
END:VEVENT
BEGIN:VEVENT
DTSTART;TZID=America/New_York:20210501T110000
DTEND;TZID=America/New_York:20210501T130000
DTSTAMP:20260425T125327
CREATED:20210416T002452Z
LAST-MODIFIED:20210702T025239Z
UID:10004907-1619866800-1619874000@leisureknoll.org
SUMMARY:Leisure Readers
DESCRIPTION:11am RC
URL:https://leisureknoll.org/calendar/leisure-readers/2021-05-01/
END:VEVENT
BEGIN:VEVENT
DTSTART;TZID=America/New_York:20210501T130000
DTEND;TZID=America/New_York:20210501T150000
DTSTAMP:20260425T125327
CREATED:20210416T003503Z
LAST-MODIFIED:20240929T182527Z
UID:10005373-1619874000-1619881200@leisureknoll.org
SUMMARY:Billiards
DESCRIPTION:Recreation Center\, every day except Sunday
URL:https://leisureknoll.org/calendar/billiards/2021-05-01/
END:VEVENT
BEGIN:VEVENT
DTSTART;VALUE=DATE:20210502
DTEND;VALUE=DATE:20210509
DTSTAMP:20260425T125327
CREATED:20210416T000614Z
LAST-MODIFIED:20220508T162836Z
UID:10004560-1619913600-1620518399@leisureknoll.org
SUMMARY:First Bus Stop #1
DESCRIPTION:The bus will begin at stop #1 and proceed to stop #25.
URL:https://leisureknoll.org/calendar/first-bus-stop-1/2021-05-02/
END:VEVENT
BEGIN:VEVENT
DTSTART;TZID=America/New_York:20210503T090000
DTEND;TZID=America/New_York:20210503T110000
DTSTAMP:20260425T125327
CREATED:20210416T003116Z
LAST-MODIFIED:20260109T025549Z
UID:10004952-1620032400-1620039600@leisureknoll.org
SUMMARY:Wood Shop
DESCRIPTION:
URL:https://leisureknoll.org/calendar/wood-shop/2021-05-03/
END:VEVENT
BEGIN:VEVENT
DTSTART;TZID=America/New_York:20210503T130000
DTEND;TZID=America/New_York:20210503T150000
DTSTAMP:20260425T125327
CREATED:20210416T003503Z
LAST-MODIFIED:20240929T182527Z
UID:10005374-1620046800-1620054000@leisureknoll.org
SUMMARY:Billiards
DESCRIPTION:Recreation Center\, every day except Sunday
URL:https://leisureknoll.org/calendar/billiards/2021-05-03/
END:VEVENT
BEGIN:VEVENT
DTSTART;TZID=America/New_York:20210503T130000
DTEND;TZID=America/New_York:20210503T150000
DTSTAMP:20260425T125327
CREATED:20210416T004009Z
LAST-MODIFIED:20221002T015425Z
UID:10005851-1620046800-1620054000@leisureknoll.org
SUMMARY:Chicago Bridge
DESCRIPTION:Rec Hall
URL:https://leisureknoll.org/calendar/chicago-bridge/2021-05-03/
END:VEVENT
BEGIN:VEVENT
DTSTART;VALUE=DATE:20210504
DTEND;VALUE=DATE:20210505
DTSTAMP:20260425T125327
CREATED:20210416T001050Z
LAST-MODIFIED:20210416T001050Z
UID:10004590-1620086400-1620172799@leisureknoll.org
SUMMARY:Garbage Pick Up
DESCRIPTION:GARBAGE P/U -WINTERS BROS. WASTE – 631-491-4923\nGarbage pick up Tues. & Fri. except holidays Confirm Bulk P/U (on Thursday) with Winters Brothers
URL:https://leisureknoll.org/calendar/garbage-pick-up-tues/2021-05-04/
END:VEVENT
BEGIN:VEVENT
DTSTART;VALUE=DATE:20210504
DTEND;VALUE=DATE:20210505
DTSTAMP:20260425T125327
CREATED:20210416T001302Z
LAST-MODIFIED:20251215T033850Z
UID:10004630-1620086400-1620172799@leisureknoll.org
SUMMARY:Garbage Pick Up
DESCRIPTION:GARBAGE P/U -WINTERS BROS. WASTE – 631-491-4923\nGarbage pick up Tues. & Fri. except holidays Confirm Bulk P/U (on Thursday) with Winters Brothers
URL:https://leisureknoll.org/calendar/garbage-pick-up-fri/2021-05-04/
END:VEVENT
BEGIN:VEVENT
DTSTART;TZID=America/New_York:20210504T090000
DTEND;TZID=America/New_York:20210504T110000
DTSTAMP:20260425T125327
CREATED:20210416T003116Z
LAST-MODIFIED:20260109T025549Z
UID:10004953-1620118800-1620126000@leisureknoll.org
SUMMARY:Wood Shop
DESCRIPTION:
URL:https://leisureknoll.org/calendar/wood-shop/2021-05-04/
END:VEVENT
BEGIN:VEVENT
DTSTART;TZID=America/New_York:20210504T123000
DTEND;TZID=America/New_York:20210504T163000
DTSTAMP:20260425T125327
CREATED:20210415T030726Z
LAST-MODIFIED:20240114T192346Z
UID:10004277-1620131400-1620145800@leisureknoll.org
SUMMARY:Bus to Yaphank & Middle Island
DESCRIPTION:Bus to Wal-Mart Yaphank/King Kullen Middle Island shopping center. \nLeaves Leisure Knoll at 12:30pm and returns 4:30pm.
URL:https://leisureknoll.org/calendar/bus-to-middle-island/2021-05-04/
END:VEVENT
BEGIN:VEVENT
DTSTART;TZID=America/New_York:20210504T130000
DTEND;TZID=America/New_York:20210504T150000
DTSTAMP:20260425T125327
CREATED:20210416T003503Z
LAST-MODIFIED:20240929T182527Z
UID:10005375-1620133200-1620140400@leisureknoll.org
SUMMARY:Billiards
DESCRIPTION:Recreation Center\, every day except Sunday
URL:https://leisureknoll.org/calendar/billiards/2021-05-04/
END:VEVENT
BEGIN:VEVENT
DTSTART;TZID=America/New_York:20210504T130000
DTEND;TZID=America/New_York:20210504T150000
DTSTAMP:20260425T125327
CREATED:20210416T004849Z
LAST-MODIFIED:20210801T012001Z
UID:10005954-1620133200-1620140400@leisureknoll.org
SUMMARY:Ladies Cards
DESCRIPTION:Craft Center
URL:https://leisureknoll.org/calendar/ladies-cards/2021-05-04/
END:VEVENT
BEGIN:VEVENT
DTSTART;VALUE=DATE:20210505
DTEND;VALUE=DATE:20210506
DTSTAMP:20260425T125327
CREATED:20210505T022833Z
LAST-MODIFIED:20210505T022833Z
UID:10006501-1620172800-1620259199@leisureknoll.org
SUMMARY:Cinco De Mayo
DESCRIPTION:
URL:https://leisureknoll.org/calendar/cinco-de-mayo/2021-05-05/
END:VEVENT
BEGIN:VEVENT
DTSTART;TZID=America/New_York:20210505T090000
DTEND;TZID=America/New_York:20210505T110000
DTSTAMP:20260425T125327
CREATED:20210416T003116Z
LAST-MODIFIED:20260109T025549Z
UID:10004954-1620205200-1620212400@leisureknoll.org
SUMMARY:Wood Shop
DESCRIPTION:
URL:https://leisureknoll.org/calendar/wood-shop/2021-05-05/
END:VEVENT
BEGIN:VEVENT
DTSTART;TZID=America/New_York:20210505T100000
DTEND;TZID=America/New_York:20210505T110000
DTSTAMP:20260425T125327
CREATED:20210505T022714Z
LAST-MODIFIED:20221204T043852Z
UID:10006423-1620208800-1620212400@leisureknoll.org
SUMMARY:Slimnastics
DESCRIPTION:Rec Hall
URL:https://leisureknoll.org/calendar/slimnastics-2/2021-05-05/
END:VEVENT
BEGIN:VEVENT
DTSTART;TZID=America/New_York:20210505T100000
DTEND;TZID=America/New_York:20210505T130000
DTSTAMP:20260425T125327
CREATED:20210415T031053Z
LAST-MODIFIED:20220731T193713Z
UID:10004366-1620208800-1620219600@leisureknoll.org
SUMMARY:Bus to Rocky Point
DESCRIPTION:Bus to Kohl’s Shopping Center\, Sterling National Bank\, Stop & Shop. \nLeaves Leisure Knoll at 10:00 am.
URL:https://leisureknoll.org/calendar/bus-to-rocky-point/2021-05-05/
END:VEVENT
BEGIN:VEVENT
DTSTART;TZID=America/New_York:20210505T113000
DTEND;TZID=America/New_York:20210505T143000
DTSTAMP:20260425T125327
CREATED:20210416T005344Z
LAST-MODIFIED:20210901T023024Z
UID:10005980-1620214200-1620225000@leisureknoll.org
SUMMARY:Men's Bowling
DESCRIPTION:
URL:https://leisureknoll.org/calendar/mens-bowling/2021-05-05/
END:VEVENT
BEGIN:VEVENT
DTSTART;TZID=America/New_York:20210505T130000
DTEND;TZID=America/New_York:20210505T150000
DTSTAMP:20260425T125327
CREATED:20210416T003503Z
LAST-MODIFIED:20240929T182527Z
UID:10005376-1620219600-1620226800@leisureknoll.org
SUMMARY:Billiards
DESCRIPTION:Recreation Center\, every day except Sunday
URL:https://leisureknoll.org/calendar/billiards/2021-05-05/
END:VEVENT
BEGIN:VEVENT
DTSTART;TZID=America/New_York:20210505T130000
DTEND;TZID=America/New_York:20210505T150000
DTSTAMP:20260425T125327
CREATED:20210416T005743Z
LAST-MODIFIED:20260109T030323Z
UID:10006009-1620219600-1620226800@leisureknoll.org
SUMMARY:Bridge
DESCRIPTION:Craft Center
URL:https://leisureknoll.org/calendar/bridge/2021-05-05/
END:VEVENT
BEGIN:VEVENT
DTSTART;TZID=America/New_York:20210505T183000
DTEND;TZID=America/New_York:20210505T203000
DTSTAMP:20260425T125327
CREATED:20210416T005957Z
LAST-MODIFIED:20220909T144628Z
UID:10006091-1620239400-1620246600@leisureknoll.org
SUMMARY:Men's Poker
DESCRIPTION:Craft Center
URL:https://leisureknoll.org/calendar/mens-poker/2021-05-05/
END:VEVENT
BEGIN:VEVENT
DTSTART;TZID=America/New_York:20210505T184500
DTEND;TZID=America/New_York:20210505T204500
DTSTAMP:20260425T125327
CREATED:20210505T022532Z
LAST-MODIFIED:20260109T031152Z
UID:10006345-1620240300-1620247500@leisureknoll.org
SUMMARY:Dominoes
DESCRIPTION:Recreation Hall
URL:https://leisureknoll.org/calendar/dominoes/2021-05-05/
END:VEVENT
BEGIN:VEVENT
DTSTART;TZID=America/New_York:20210506T090000
DTEND;TZID=America/New_York:20210506T110000
DTSTAMP:20260425T125327
CREATED:20210416T003116Z
LAST-MODIFIED:20260109T025549Z
UID:10004955-1620291600-1620298800@leisureknoll.org
SUMMARY:Wood Shop
DESCRIPTION:
URL:https://leisureknoll.org/calendar/wood-shop/2021-05-06/
END:VEVENT
BEGIN:VEVENT
DTSTART;TZID=America/New_York:20210506T100000
DTEND;TZID=America/New_York:20210506T130000
DTSTAMP:20260425T125327
CREATED:20210415T031404Z
LAST-MODIFIED:20240114T192421Z
UID:10004435-1620295200-1620306000@leisureknoll.org
SUMMARY:Bus to Port Jefferson Station
DESCRIPTION:Bus to Port Jefferson Station\, Meat Farms\, Shop Rite\, TJ Max shopping center. \nLeaves Leisure Knoll at 10:00 am.
URL:https://leisureknoll.org/calendar/bus-to-port-jefferson-station/2021-05-06/
END:VEVENT
BEGIN:VEVENT
DTSTART;TZID=America/New_York:20210506T130000
DTEND;TZID=America/New_York:20210506T150000
DTSTAMP:20260425T125327
CREATED:20210416T003503Z
LAST-MODIFIED:20240929T182527Z
UID:10005377-1620306000-1620313200@leisureknoll.org
SUMMARY:Billiards
DESCRIPTION:Recreation Center\, every day except Sunday
URL:https://leisureknoll.org/calendar/billiards/2021-05-06/
END:VEVENT
BEGIN:VEVENT
DTSTART;TZID=America/New_York:20210506T130000
DTEND;TZID=America/New_York:20210506T150000
DTSTAMP:20260425T125327
CREATED:20210416T010104Z
LAST-MODIFIED:20230106T202026Z
UID:10006166-1620306000-1620313200@leisureknoll.org
SUMMARY:Bridge/Canasta
DESCRIPTION:Craft Center
URL:https://leisureknoll.org/calendar/bridge-canasta/2021-05-06/
END:VEVENT
BEGIN:VEVENT
DTSTART;TZID=America/New_York:20210506T140000
DTEND;TZID=America/New_York:20210506T160000
DTSTAMP:20260425T125327
CREATED:20210416T010210Z
LAST-MODIFIED:20220508T162402Z
UID:10006245-1620309600-1620316800@leisureknoll.org
SUMMARY:Knitting & Crochet
DESCRIPTION:Craft Center
URL:https://leisureknoll.org/calendar/knitting-crochet/2021-05-06/
END:VEVENT
BEGIN:VEVENT
DTSTART;VALUE=DATE:20210507
DTEND;VALUE=DATE:20210508
DTSTAMP:20260425T125327
CREATED:20210416T001302Z
LAST-MODIFIED:20251215T033850Z
UID:10004631-1620345600-1620431999@leisureknoll.org
SUMMARY:Garbage Pick Up
DESCRIPTION:GARBAGE P/U -WINTERS BROS. WASTE – 631-491-4923\nGarbage pick up Tues. & Fri. except holidays Confirm Bulk P/U (on Thursday) with Winters Brothers
URL:https://leisureknoll.org/calendar/garbage-pick-up-fri/2021-05-07/
END:VEVENT
BEGIN:VEVENT
DTSTART;TZID=America/New_York:20210507T090000
DTEND;TZID=America/New_York:20210507T110000
DTSTAMP:20260425T125327
CREATED:20210416T003116Z
LAST-MODIFIED:20260109T025549Z
UID:10004956-1620378000-1620385200@leisureknoll.org
SUMMARY:Wood Shop
DESCRIPTION:
URL:https://leisureknoll.org/calendar/wood-shop/2021-05-07/
END:VEVENT
BEGIN:VEVENT
DTSTART;TZID=America/New_York:20210507T090000
DTEND;TZID=America/New_York:20210507T110000
DTSTAMP:20260425T125327
CREATED:20210505T020314Z
LAST-MODIFIED:20210505T020916Z
UID:10006328-1620378000-1620385200@leisureknoll.org
SUMMARY:Bocce Sign Up
DESCRIPTION:In the Gazebo
URL:https://leisureknoll.org/calendar/bocce-sign-up/
END:VEVENT
END:VCALENDAR