BEGIN:VCALENDAR
VERSION:2.0
PRODID:-//Leisure Knoll - ECPv6.15.20//NONSGML v1.0//EN
CALSCALE:GREGORIAN
METHOD:PUBLISH
X-WR-CALNAME:Leisure Knoll
X-ORIGINAL-URL:https://leisureknoll.org
X-WR-CALDESC:Events for Leisure Knoll
REFRESH-INTERVAL;VALUE=DURATION:PT1H
X-Robots-Tag:noindex
X-PUBLISHED-TTL:PT1H
BEGIN:VTIMEZONE
TZID:America/New_York
BEGIN:DAYLIGHT
TZOFFSETFROM:-0500
TZOFFSETTO:-0400
TZNAME:EDT
DTSTART:20220313T070000
END:DAYLIGHT
BEGIN:STANDARD
TZOFFSETFROM:-0400
TZOFFSETTO:-0500
TZNAME:EST
DTSTART:20221106T060000
END:STANDARD
BEGIN:DAYLIGHT
TZOFFSETFROM:-0500
TZOFFSETTO:-0400
TZNAME:EDT
DTSTART:20230312T070000
END:DAYLIGHT
BEGIN:STANDARD
TZOFFSETFROM:-0400
TZOFFSETTO:-0500
TZNAME:EST
DTSTART:20231105T060000
END:STANDARD
BEGIN:DAYLIGHT
TZOFFSETFROM:-0500
TZOFFSETTO:-0400
TZNAME:EDT
DTSTART:20240310T070000
END:DAYLIGHT
BEGIN:STANDARD
TZOFFSETFROM:-0400
TZOFFSETTO:-0500
TZNAME:EST
DTSTART:20241103T060000
END:STANDARD
END:VTIMEZONE
BEGIN:VEVENT
DTSTART;TZID=America/New_York:20231103T180000
DTEND;TZID=America/New_York:20231103T200000
DTSTAMP:20260421T130039
CREATED:20221204T045026Z
LAST-MODIFIED:20221204T045026Z
UID:10009449-1699034400-1699041600@leisureknoll.org
SUMMARY:Texas Hold'em
DESCRIPTION:6pm @ Craft Center
URL:https://leisureknoll.org/calendar/texas-holdem-2/2023-11-03/
END:VEVENT
BEGIN:VEVENT
DTSTART;TZID=America/New_York:20231103T143000
DTEND;TZID=America/New_York:20231103T160000
DTSTAMP:20260421T130039
CREATED:20230630T031357Z
LAST-MODIFIED:20231128T012532Z
UID:10012820-1699021800-1699027200@leisureknoll.org
SUMMARY:Pickleball Club
DESCRIPTION:@ 2:30pm
URL:https://leisureknoll.org/calendar/pickleball-club/2023-11-03/
END:VEVENT
BEGIN:VEVENT
DTSTART;TZID=America/New_York:20231103T130000
DTEND;TZID=America/New_York:20231103T150000
DTSTAMP:20260421T130039
CREATED:20220602T022125Z
LAST-MODIFIED:20241106T040502Z
UID:10011535-1699016400-1699023600@leisureknoll.org
SUMMARY:Women's Card Game
DESCRIPTION:Craft Center @ 1pm
URL:https://leisureknoll.org/calendar/womens-card-game/2023-11-03/
END:VEVENT
BEGIN:VEVENT
DTSTART;TZID=America/New_York:20231103T130000
DTEND;TZID=America/New_York:20231103T150000
DTSTAMP:20260421T130039
CREATED:20210416T003503Z
LAST-MODIFIED:20240929T182527Z
UID:10010449-1699016400-1699023600@leisureknoll.org
SUMMARY:Billiards
DESCRIPTION:Recreation Center\, every day except Sunday
URL:https://leisureknoll.org/calendar/billiards/2023-11-03/
END:VEVENT
BEGIN:VEVENT
DTSTART;TZID=America/New_York:20231103T093000
DTEND;TZID=America/New_York:20231103T103000
DTSTAMP:20260421T130039
CREATED:20211209T023315Z
LAST-MODIFIED:20250101T175700Z
UID:10011483-1699003800-1699007400@leisureknoll.org
SUMMARY:Slimnastics
DESCRIPTION:9:30am @ Craft Center
URL:https://leisureknoll.org/calendar/slimnastics-4/2023-11-03/
END:VEVENT
BEGIN:VEVENT
DTSTART;TZID=America/New_York:20231103T090000
DTEND;TZID=America/New_York:20231103T110000
DTSTAMP:20260421T130039
CREATED:20210416T003116Z
LAST-MODIFIED:20260109T025549Z
UID:10009834-1699002000-1699009200@leisureknoll.org
SUMMARY:Wood Shop
DESCRIPTION:
URL:https://leisureknoll.org/calendar/wood-shop/2023-11-03/
END:VEVENT
BEGIN:VEVENT
DTSTART;TZID=America/New_York:20231103T090000
DTEND;TZID=America/New_York:20231103T100000
DTSTAMP:20260421T130039
CREATED:20230312T035839Z
LAST-MODIFIED:20231128T012444Z
UID:10012236-1699002000-1699005600@leisureknoll.org
SUMMARY:Tennis Club
DESCRIPTION:
URL:https://leisureknoll.org/calendar/tennis-club/2023-11-03/
END:VEVENT
BEGIN:VEVENT
DTSTART;VALUE=DATE:20231103
DTEND;VALUE=DATE:20231104
DTSTAMP:20260421T130039
CREATED:20210416T001302Z
LAST-MODIFIED:20251215T033850Z
UID:10009545-1698969600-1699055999@leisureknoll.org
SUMMARY:Garbage Pick Up
DESCRIPTION:GARBAGE P/U -WINTERS BROS. WASTE – 631-491-4923\nGarbage pick up Tues. & Fri. except holidays Confirm Bulk P/U (on Thursday) with Winters Brothers
URL:https://leisureknoll.org/calendar/garbage-pick-up-fri/2023-11-03/
END:VEVENT
BEGIN:VEVENT
DTSTART;TZID=America/New_York:20231102T190000
DTEND;TZID=America/New_York:20231102T210000
DTSTAMP:20260421T130039
CREATED:20230312T032808Z
LAST-MODIFIED:20231104T195522Z
UID:10011374-1698951600-1698958800@leisureknoll.org
SUMMARY:Game Night
DESCRIPTION:BYO \n@ 7pm
URL:https://leisureknoll.org/calendar/game-night-2-2/2023-11-02/
END:VEVENT
BEGIN:VEVENT
DTSTART;TZID=America/New_York:20231102T190000
DTEND;TZID=America/New_York:20231102T203000
DTSTAMP:20260421T130039
CREATED:20231012T024142Z
LAST-MODIFIED:20231104T195722Z
UID:10013278-1698951600-1698957000@leisureknoll.org
SUMMARY:Travel Club Meeting
DESCRIPTION:@7pm Rec Center
URL:https://leisureknoll.org/calendar/travel-club-meeting-13/2023-11-02/
END:VEVENT
BEGIN:VEVENT
DTSTART;TZID=America/New_York:20231102T183000
DTEND;TZID=America/New_York:20231102T203000
DTSTAMP:20260421T130039
CREATED:20231012T025607Z
LAST-MODIFIED:20260109T030920Z
UID:10011270-1698949800-1698957000@leisureknoll.org
SUMMARY:Ladies Poker
DESCRIPTION:Craft Center
URL:https://leisureknoll.org/calendar/ladies-poker-2-2-2/2023-11-02/
END:VEVENT
BEGIN:VEVENT
DTSTART;TZID=America/New_York:20231102T183000
DTEND;TZID=America/New_York:20231102T203000
DTSTAMP:20260421T130039
CREATED:20210702T035015Z
LAST-MODIFIED:20230106T202125Z
UID:10011322-1698949800-1698957000@leisureknoll.org
SUMMARY:Men's Low Stakes Poker
DESCRIPTION:
URL:https://leisureknoll.org/calendar/mens-low-stakes-poker/2023-11-02/
END:VEVENT
BEGIN:VEVENT
DTSTART;TZID=America/New_York:20231102T130000
DTEND;TZID=America/New_York:20231102T150000
DTSTAMP:20260421T130039
CREATED:20231012T025517Z
LAST-MODIFIED:20260109T025947Z
UID:10011218-1698930000-1698937200@leisureknoll.org
SUMMARY:Canasta
DESCRIPTION:Craft Center
URL:https://leisureknoll.org/calendar/bridge-canasta-2/2023-11-02/
END:VEVENT
BEGIN:VEVENT
DTSTART;TZID=America/New_York:20231102T130000
DTEND;TZID=America/New_York:20231102T150000
DTSTAMP:20260421T130039
CREATED:20210416T003503Z
LAST-MODIFIED:20240929T182527Z
UID:10010448-1698930000-1698937200@leisureknoll.org
SUMMARY:Billiards
DESCRIPTION:Recreation Center\, every day except Sunday
URL:https://leisureknoll.org/calendar/billiards/2023-11-02/
END:VEVENT
BEGIN:VEVENT
DTSTART;TZID=America/New_York:20231102T110000
DTEND;TZID=America/New_York:20231102T120000
DTSTAMP:20260421T130039
CREATED:20221202T030602Z
LAST-MODIFIED:20260109T025858Z
UID:10010006-1698922800-1698926400@leisureknoll.org
SUMMARY:Ping Pong
DESCRIPTION:11am @ Recreation Hall
URL:https://leisureknoll.org/calendar/ping-pong/2023-11-02/
END:VEVENT
BEGIN:VEVENT
DTSTART;TZID=America/New_York:20231102T103000
DTEND;TZID=America/New_York:20231102T113000
DTSTAMP:20260421T130039
CREATED:20231012T025441Z
LAST-MODIFIED:20240601T021153Z
UID:10013264-1698921000-1698924600@leisureknoll.org
SUMMARY:Bible Study
DESCRIPTION:@ Craft Center
URL:https://leisureknoll.org/calendar/bible-study-2-2/2023-11-02/
END:VEVENT
BEGIN:VEVENT
DTSTART;TZID=America/New_York:20231102T100000
DTEND;TZID=America/New_York:20231102T130000
DTSTAMP:20260421T130039
CREATED:20210415T031404Z
LAST-MODIFIED:20240114T192421Z
UID:10011114-1698919200-1698930000@leisureknoll.org
SUMMARY:Bus to Port Jefferson Station
DESCRIPTION:Bus to Port Jefferson Station\, Meat Farms\, Shop Rite\, TJ Max shopping center. \nLeaves Leisure Knoll at 10:00 am.
URL:https://leisureknoll.org/calendar/bus-to-port-jefferson-station/2023-11-02/
END:VEVENT
BEGIN:VEVENT
DTSTART;TZID=America/New_York:20231102T093000
DTEND;TZID=America/New_York:20231102T103000
DTSTAMP:20260421T130039
CREATED:20230312T040136Z
LAST-MODIFIED:20231128T012323Z
UID:10012490-1698917400-1698921000@leisureknoll.org
SUMMARY:Ladies Tennis
DESCRIPTION:
URL:https://leisureknoll.org/calendar/ladies-tennis-4/2023-11-02/
END:VEVENT
BEGIN:VEVENT
DTSTART;TZID=America/New_York:20231102T090000
DTEND;TZID=America/New_York:20231102T110000
DTSTAMP:20260421T130039
CREATED:20210416T003116Z
LAST-MODIFIED:20260109T025549Z
UID:10009833-1698915600-1698922800@leisureknoll.org
SUMMARY:Wood Shop
DESCRIPTION:
URL:https://leisureknoll.org/calendar/wood-shop/2023-11-02/
END:VEVENT
BEGIN:VEVENT
DTSTART;TZID=America/New_York:20231101T184500
DTEND;TZID=America/New_York:20231101T204500
DTSTAMP:20260421T130039
CREATED:20210505T022532Z
LAST-MODIFIED:20260109T031152Z
UID:10011062-1698864300-1698871500@leisureknoll.org
SUMMARY:Dominoes
DESCRIPTION:Recreation Hall
URL:https://leisureknoll.org/calendar/dominoes/2023-11-01/
END:VEVENT
BEGIN:VEVENT
DTSTART;TZID=America/New_York:20231101T180000
DTEND;TZID=America/New_York:20231101T200000
DTSTAMP:20260421T130039
CREATED:20210416T005957Z
LAST-MODIFIED:20240929T182030Z
UID:10011010-1698861600-1698868800@leisureknoll.org
SUMMARY:Men's Poker
DESCRIPTION:Craft Center
URL:https://leisureknoll.org/calendar/mens-poker-2022-08-31/2023-11-01/
END:VEVENT
BEGIN:VEVENT
DTSTART;TZID=America/New_York:20231101T143000
DTEND;TZID=America/New_York:20231101T160000
DTSTAMP:20260421T130039
CREATED:20230630T031357Z
LAST-MODIFIED:20231128T012532Z
UID:10012819-1698849000-1698854400@leisureknoll.org
SUMMARY:Pickleball Club
DESCRIPTION:@ 2:30pm
URL:https://leisureknoll.org/calendar/pickleball-club/2023-11-01/
END:VEVENT
BEGIN:VEVENT
DTSTART;TZID=America/New_York:20231101T130000
DTEND;TZID=America/New_York:20231101T150000
DTSTAMP:20260421T130039
CREATED:20210416T005743Z
LAST-MODIFIED:20260109T030323Z
UID:10013273-1698843600-1698850800@leisureknoll.org
SUMMARY:Bridge
DESCRIPTION:Craft Center
URL:https://leisureknoll.org/calendar/bridge/2023-11-01/
END:VEVENT
BEGIN:VEVENT
DTSTART;TZID=America/New_York:20231101T130000
DTEND;TZID=America/New_York:20231101T150000
DTSTAMP:20260421T130039
CREATED:20210416T003503Z
LAST-MODIFIED:20240929T182527Z
UID:10010447-1698843600-1698850800@leisureknoll.org
SUMMARY:Billiards
DESCRIPTION:Recreation Center\, every day except Sunday
URL:https://leisureknoll.org/calendar/billiards/2023-11-01/
END:VEVENT
BEGIN:VEVENT
DTSTART;TZID=America/New_York:20231101T113000
DTEND;TZID=America/New_York:20231101T143000
DTSTAMP:20260421T130039
CREATED:20230617T023550Z
LAST-MODIFIED:20230617T023550Z
UID:10010854-1698838200-1698849000@leisureknoll.org
SUMMARY:Men's Bowling
DESCRIPTION:@ 11:30am
URL:https://leisureknoll.org/calendar/mens-bowling-2021-09-15-2/2023-11-01/
END:VEVENT
BEGIN:VEVENT
DTSTART;TZID=America/New_York:20231101T113000
DTEND;TZID=America/New_York:20231101T133000
DTSTAMP:20260421T130039
CREATED:20230909T172751Z
LAST-MODIFIED:20240307T040407Z
UID:10013160-1698838200-1698845400@leisureknoll.org
SUMMARY:Ladies Bowling
DESCRIPTION:11:30am
URL:https://leisureknoll.org/calendar/ladies-bowling/2023-11-01/
END:VEVENT
BEGIN:VEVENT
DTSTART;TZID=America/New_York:20231101T100000
DTEND;TZID=America/New_York:20231101T110000
DTSTAMP:20260421T130039
CREATED:20220301T013856Z
LAST-MODIFIED:20250101T175615Z
UID:10010118-1698832800-1698836400@leisureknoll.org
SUMMARY:Slimnastics
DESCRIPTION:Recreation Hall
URL:https://leisureknoll.org/calendar/slimnastics-5/2023-11-01/
END:VEVENT
BEGIN:VEVENT
DTSTART;TZID=America/New_York:20231101T093000
DTEND;TZID=America/New_York:20231101T113000
DTSTAMP:20260421T130039
CREATED:20210901T030231Z
LAST-MODIFIED:20260109T030159Z
UID:10010802-1698831000-1698838200@leisureknoll.org
SUMMARY:Art Club
DESCRIPTION:Craft Room
URL:https://leisureknoll.org/calendar/art-club/2023-11-01/
END:VEVENT
BEGIN:VEVENT
DTSTART;TZID=America/New_York:20231101T090000
DTEND;TZID=America/New_York:20231101T110000
DTSTAMP:20260421T130039
CREATED:20210416T003116Z
LAST-MODIFIED:20260109T025549Z
UID:10009832-1698829200-1698836400@leisureknoll.org
SUMMARY:Wood Shop
DESCRIPTION:
URL:https://leisureknoll.org/calendar/wood-shop/2023-11-01/
END:VEVENT
BEGIN:VEVENT
DTSTART;TZID=America/New_York:20231101T090000
DTEND;TZID=America/New_York:20231101T100000
DTSTAMP:20260421T130039
CREATED:20230312T035839Z
LAST-MODIFIED:20231128T012444Z
UID:10012235-1698829200-1698832800@leisureknoll.org
SUMMARY:Tennis Club
DESCRIPTION:
URL:https://leisureknoll.org/calendar/tennis-club/2023-11-01/
END:VEVENT
END:VCALENDAR