BEGIN:VCALENDAR
VERSION:2.0
PRODID:-//Leisure Knoll - ECPv6.15.20//NONSGML v1.0//EN
CALSCALE:GREGORIAN
METHOD:PUBLISH
X-WR-CALNAME:Leisure Knoll
X-ORIGINAL-URL:https://leisureknoll.org
X-WR-CALDESC:Events for Leisure Knoll
REFRESH-INTERVAL;VALUE=DURATION:PT1H
X-Robots-Tag:noindex
X-PUBLISHED-TTL:PT1H
BEGIN:VTIMEZONE
TZID:America/New_York
BEGIN:DAYLIGHT
TZOFFSETFROM:-0500
TZOFFSETTO:-0400
TZNAME:EDT
DTSTART:20220313T070000
END:DAYLIGHT
BEGIN:STANDARD
TZOFFSETFROM:-0400
TZOFFSETTO:-0500
TZNAME:EST
DTSTART:20221106T060000
END:STANDARD
BEGIN:DAYLIGHT
TZOFFSETFROM:-0500
TZOFFSETTO:-0400
TZNAME:EDT
DTSTART:20230312T070000
END:DAYLIGHT
BEGIN:STANDARD
TZOFFSETFROM:-0400
TZOFFSETTO:-0500
TZNAME:EST
DTSTART:20231105T060000
END:STANDARD
BEGIN:DAYLIGHT
TZOFFSETFROM:-0500
TZOFFSETTO:-0400
TZNAME:EDT
DTSTART:20240310T070000
END:DAYLIGHT
BEGIN:STANDARD
TZOFFSETFROM:-0400
TZOFFSETTO:-0500
TZNAME:EST
DTSTART:20241103T060000
END:STANDARD
END:VTIMEZONE
BEGIN:VEVENT
DTSTART;TZID=America/New_York:20231003T183000
DTEND;TZID=America/New_York:20231003T203000
DTSTAMP:20260421T192901
CREATED:20210702T033018Z
LAST-MODIFIED:20230501T195018Z
UID:10010746-1696357800-1696365000@leisureknoll.org
SUMMARY:Mixed Card Game
DESCRIPTION:Craft Center
URL:https://leisureknoll.org/calendar/guys-gals-card-game/2023-10-03/
END:VEVENT
BEGIN:VEVENT
DTSTART;TZID=America/New_York:20231003T130000
DTEND;TZID=America/New_York:20231003T163000
DTSTAMP:20260421T192901
CREATED:20230312T032638Z
LAST-MODIFIED:20240929T181808Z
UID:10011717-1696338000-1696350600@leisureknoll.org
SUMMARY:Rummikub
DESCRIPTION:Craft Center \n1-4:30pm
URL:https://leisureknoll.org/calendar/rummikub-2-2/2023-10-03/
END:VEVENT
BEGIN:VEVENT
DTSTART;TZID=America/New_York:20231003T130000
DTEND;TZID=America/New_York:20231003T150000
DTSTAMP:20260421T192901
CREATED:20210416T003503Z
LAST-MODIFIED:20240929T182527Z
UID:10010422-1696338000-1696345200@leisureknoll.org
SUMMARY:Billiards
DESCRIPTION:Recreation Center\, every day except Sunday
URL:https://leisureknoll.org/calendar/billiards/2023-10-03/
END:VEVENT
BEGIN:VEVENT
DTSTART;TZID=America/New_York:20231003T123000
DTEND;TZID=America/New_York:20231003T163000
DTSTAMP:20260421T192901
CREATED:20210415T030726Z
LAST-MODIFIED:20240114T192346Z
UID:10010642-1696336200-1696350600@leisureknoll.org
SUMMARY:Bus to Yaphank & Middle Island
DESCRIPTION:Bus to Wal-Mart Yaphank/King Kullen Middle Island shopping center. \nLeaves Leisure Knoll at 12:30pm and returns 4:30pm.
URL:https://leisureknoll.org/calendar/bus-to-middle-island/2023-10-03/
END:VEVENT
BEGIN:VEVENT
DTSTART;TZID=America/New_York:20231003T110000
DTEND;TZID=America/New_York:20231003T120000
DTSTAMP:20260421T192901
CREATED:20221202T030602Z
LAST-MODIFIED:20260109T025858Z
UID:10009993-1696330800-1696334400@leisureknoll.org
SUMMARY:Ping Pong
DESCRIPTION:11am @ Recreation Hall
URL:https://leisureknoll.org/calendar/ping-pong/2023-10-03/
END:VEVENT
BEGIN:VEVENT
DTSTART;TZID=America/New_York:20231003T093000
DTEND;TZID=America/New_York:20231003T103000
DTSTAMP:20260421T192901
CREATED:20230312T040136Z
LAST-MODIFIED:20231128T012323Z
UID:10012481-1696325400-1696329000@leisureknoll.org
SUMMARY:Ladies Tennis
DESCRIPTION:
URL:https://leisureknoll.org/calendar/ladies-tennis-4/2023-10-03/
END:VEVENT
BEGIN:VEVENT
DTSTART;TZID=America/New_York:20231003T090000
DTEND;TZID=America/New_York:20231003T110000
DTSTAMP:20260421T192901
CREATED:20210416T003116Z
LAST-MODIFIED:20260109T025549Z
UID:10009811-1696323600-1696330800@leisureknoll.org
SUMMARY:Wood Shop
DESCRIPTION:
URL:https://leisureknoll.org/calendar/wood-shop/2023-10-03/
END:VEVENT
BEGIN:VEVENT
DTSTART;VALUE=DATE:20231003
DTEND;VALUE=DATE:20231004
DTSTAMP:20260421T192901
CREATED:20210416T001302Z
LAST-MODIFIED:20251215T033850Z
UID:10009536-1696291200-1696377599@leisureknoll.org
SUMMARY:Garbage Pick Up
DESCRIPTION:GARBAGE P/U -WINTERS BROS. WASTE – 631-491-4923\nGarbage pick up Tues. & Fri. except holidays Confirm Bulk P/U (on Thursday) with Winters Brothers
URL:https://leisureknoll.org/calendar/garbage-pick-up-fri/2023-10-03/
END:VEVENT
BEGIN:VEVENT
DTSTART;TZID=America/New_York:20231002T180000
DTEND;TZID=America/New_York:20231002T200000
DTSTAMP:20260421T192901
CREATED:20210702T034900Z
LAST-MODIFIED:20240707T191247Z
UID:10016817-1696269600-1696276800@leisureknoll.org
SUMMARY:Ladies Poker
DESCRIPTION:Craft Center
URL:https://leisureknoll.org/calendar/ladies-poker-2021-09-13/2023-10-02/
END:VEVENT
BEGIN:VEVENT
DTSTART;TZID=America/New_York:20231002T143000
DTEND;TZID=America/New_York:20231002T160000
DTSTAMP:20260421T192901
CREATED:20230630T031357Z
LAST-MODIFIED:20231128T012532Z
UID:10012806-1696257000-1696262400@leisureknoll.org
SUMMARY:Pickleball Club
DESCRIPTION:@ 2:30pm
URL:https://leisureknoll.org/calendar/pickleball-club/2023-10-02/
END:VEVENT
BEGIN:VEVENT
DTSTART;TZID=America/New_York:20231002T130000
DTEND;TZID=America/New_York:20231002T150000
DTSTAMP:20260421T192901
CREATED:20210416T003503Z
LAST-MODIFIED:20240929T182527Z
UID:10010421-1696251600-1696258800@leisureknoll.org
SUMMARY:Billiards
DESCRIPTION:Recreation Center\, every day except Sunday
URL:https://leisureknoll.org/calendar/billiards/2023-10-02/
END:VEVENT
BEGIN:VEVENT
DTSTART;TZID=America/New_York:20231002T120000
DTEND;TZID=America/New_York:20231002T133000
DTSTAMP:20260421T192901
CREATED:20230630T031224Z
LAST-MODIFIED:20260109T030045Z
UID:10012701-1696248000-1696253400@leisureknoll.org
SUMMARY:Canasta
DESCRIPTION:12pm @ Craft Center
URL:https://leisureknoll.org/calendar/canasta/2023-10-02/
END:VEVENT
BEGIN:VEVENT
DTSTART;TZID=America/New_York:20231002T110000
DTEND;TZID=America/New_York:20231002T120000
DTSTAMP:20260421T192901
CREATED:20221202T030602Z
LAST-MODIFIED:20260109T025858Z
UID:10009992-1696244400-1696248000@leisureknoll.org
SUMMARY:Ping Pong
DESCRIPTION:11am @ Recreation Hall
URL:https://leisureknoll.org/calendar/ping-pong/2023-10-02/
END:VEVENT
BEGIN:VEVENT
DTSTART;TZID=America/New_York:20231002T100000
DTEND;TZID=America/New_York:20231002T110000
DTSTAMP:20260421T192901
CREATED:20220301T013856Z
LAST-MODIFIED:20250101T175615Z
UID:10010109-1696240800-1696244400@leisureknoll.org
SUMMARY:Slimnastics
DESCRIPTION:Recreation Hall
URL:https://leisureknoll.org/calendar/slimnastics-5/2023-10-02/
END:VEVENT
BEGIN:VEVENT
DTSTART;TZID=America/New_York:20231002T090000
DTEND;TZID=America/New_York:20231002T110000
DTSTAMP:20260421T192901
CREATED:20210416T003116Z
LAST-MODIFIED:20260109T025549Z
UID:10009810-1696237200-1696244400@leisureknoll.org
SUMMARY:Wood Shop
DESCRIPTION:
URL:https://leisureknoll.org/calendar/wood-shop/2023-10-02/
END:VEVENT
BEGIN:VEVENT
DTSTART;TZID=America/New_York:20231002T090000
DTEND;TZID=America/New_York:20231002T100000
DTSTAMP:20260421T192901
CREATED:20230312T035839Z
LAST-MODIFIED:20231128T012444Z
UID:10012218-1696237200-1696240800@leisureknoll.org
SUMMARY:Tennis Club
DESCRIPTION:
URL:https://leisureknoll.org/calendar/tennis-club/2023-10-02/
END:VEVENT
BEGIN:VEVENT
DTSTART;TZID=America/New_York:20230930T130000
DTEND;TZID=America/New_York:20230930T150000
DTSTAMP:20260421T192901
CREATED:20210416T003503Z
LAST-MODIFIED:20240929T182527Z
UID:10010420-1696078800-1696086000@leisureknoll.org
SUMMARY:Billiards
DESCRIPTION:Recreation Center\, every day except Sunday
URL:https://leisureknoll.org/calendar/billiards/2023-09-30/
END:VEVENT
BEGIN:VEVENT
DTSTART;TZID=America/New_York:20230930T110000
DTEND;TZID=America/New_York:20230930T160000
DTSTAMP:20260421T192901
CREATED:20230901T002047Z
LAST-MODIFIED:20230901T002047Z
UID:10013138-1696071600-1696089600@leisureknoll.org
SUMMARY:Leisure Knoll Jubilee Celebration
DESCRIPTION:50 Years | Leisure Knoll Jubilee Celebration 11am – 4pm
URL:https://leisureknoll.org/calendar/leisure-knoll-jubilee-celebration/
END:VEVENT
BEGIN:VEVENT
DTSTART;TZID=America/New_York:20230930T090000
DTEND;TZID=America/New_York:20230930T100000
DTSTAMP:20260421T192901
CREATED:20230312T035839Z
LAST-MODIFIED:20231128T012444Z
UID:10012217-1696064400-1696068000@leisureknoll.org
SUMMARY:Tennis Club
DESCRIPTION:
URL:https://leisureknoll.org/calendar/tennis-club/2023-09-30/
END:VEVENT
BEGIN:VEVENT
DTSTART;TZID=America/New_York:20230929T180000
DTEND;TZID=America/New_York:20230929T200000
DTSTAMP:20260421T192901
CREATED:20221204T045026Z
LAST-MODIFIED:20221204T045026Z
UID:10009444-1696010400-1696017600@leisureknoll.org
SUMMARY:Texas Hold'em
DESCRIPTION:6pm @ Craft Center
URL:https://leisureknoll.org/calendar/texas-holdem-2/2023-09-29/
END:VEVENT
BEGIN:VEVENT
DTSTART;TZID=America/New_York:20230929T143000
DTEND;TZID=America/New_York:20230929T160000
DTSTAMP:20260421T192901
CREATED:20230630T031357Z
LAST-MODIFIED:20231128T012532Z
UID:10012805-1695997800-1696003200@leisureknoll.org
SUMMARY:Pickleball Club
DESCRIPTION:@ 2:30pm
URL:https://leisureknoll.org/calendar/pickleball-club/2023-09-29/
END:VEVENT
BEGIN:VEVENT
DTSTART;TZID=America/New_York:20230929T130000
DTEND;TZID=America/New_York:20230929T150000
DTSTAMP:20260421T192901
CREATED:20220602T022125Z
LAST-MODIFIED:20241106T040502Z
UID:10011530-1695992400-1695999600@leisureknoll.org
SUMMARY:Women's Card Game
DESCRIPTION:Craft Center @ 1pm
URL:https://leisureknoll.org/calendar/womens-card-game/2023-09-29/
END:VEVENT
BEGIN:VEVENT
DTSTART;TZID=America/New_York:20230929T130000
DTEND;TZID=America/New_York:20230929T150000
DTSTAMP:20260421T192901
CREATED:20210416T003503Z
LAST-MODIFIED:20240929T182527Z
UID:10010419-1695992400-1695999600@leisureknoll.org
SUMMARY:Billiards
DESCRIPTION:Recreation Center\, every day except Sunday
URL:https://leisureknoll.org/calendar/billiards/2023-09-29/
END:VEVENT
BEGIN:VEVENT
DTSTART;TZID=America/New_York:20230929T093000
DTEND;TZID=America/New_York:20230929T103000
DTSTAMP:20260421T192901
CREATED:20211209T023315Z
LAST-MODIFIED:20250101T175700Z
UID:10011478-1695979800-1695983400@leisureknoll.org
SUMMARY:Slimnastics
DESCRIPTION:9:30am @ Craft Center
URL:https://leisureknoll.org/calendar/slimnastics-4/2023-09-29/
END:VEVENT
BEGIN:VEVENT
DTSTART;TZID=America/New_York:20230929T090000
DTEND;TZID=America/New_York:20230929T110000
DTSTAMP:20260421T192901
CREATED:20210416T003116Z
LAST-MODIFIED:20260109T025549Z
UID:10009809-1695978000-1695985200@leisureknoll.org
SUMMARY:Wood Shop
DESCRIPTION:
URL:https://leisureknoll.org/calendar/wood-shop/2023-09-29/
END:VEVENT
BEGIN:VEVENT
DTSTART;TZID=America/New_York:20230929T090000
DTEND;TZID=America/New_York:20230929T100000
DTSTAMP:20260421T192901
CREATED:20230312T035839Z
LAST-MODIFIED:20231128T012444Z
UID:10012216-1695978000-1695981600@leisureknoll.org
SUMMARY:Tennis Club
DESCRIPTION:
URL:https://leisureknoll.org/calendar/tennis-club/2023-09-29/
END:VEVENT
BEGIN:VEVENT
DTSTART;VALUE=DATE:20230929
DTEND;VALUE=DATE:20230930
DTSTAMP:20260421T192901
CREATED:20210416T001302Z
LAST-MODIFIED:20251215T033850Z
UID:10009535-1695945600-1696031999@leisureknoll.org
SUMMARY:Garbage Pick Up
DESCRIPTION:GARBAGE P/U -WINTERS BROS. WASTE – 631-491-4923\nGarbage pick up Tues. & Fri. except holidays Confirm Bulk P/U (on Thursday) with Winters Brothers
URL:https://leisureknoll.org/calendar/garbage-pick-up-fri/2023-09-29/
END:VEVENT
BEGIN:VEVENT
DTSTART;TZID=America/New_York:20230928T190000
DTEND;TZID=America/New_York:20230928T210000
DTSTAMP:20260421T192901
CREATED:20230312T032808Z
LAST-MODIFIED:20231104T195522Z
UID:10011369-1695927600-1695934800@leisureknoll.org
SUMMARY:Game Night
DESCRIPTION:BYO \n@ 7pm
URL:https://leisureknoll.org/calendar/game-night-2-2/2023-09-28/
END:VEVENT
BEGIN:VEVENT
DTSTART;TZID=America/New_York:20230928T183000
DTEND;TZID=America/New_York:20230928T203000
DTSTAMP:20260421T192901
CREATED:20230630T032653Z
LAST-MODIFIED:20230630T032653Z
UID:10011265-1695925800-1695933000@leisureknoll.org
SUMMARY:Mixed Games Poker
DESCRIPTION:Craft Center
URL:https://leisureknoll.org/calendar/ladies-poker-2-2/2023-09-28/
END:VEVENT
BEGIN:VEVENT
DTSTART;TZID=America/New_York:20230928T183000
DTEND;TZID=America/New_York:20230928T203000
DTSTAMP:20260421T192901
CREATED:20210702T035015Z
LAST-MODIFIED:20230106T202125Z
UID:10011317-1695925800-1695933000@leisureknoll.org
SUMMARY:Men's Low Stakes Poker
DESCRIPTION:
URL:https://leisureknoll.org/calendar/mens-low-stakes-poker/2023-09-28/
END:VEVENT
END:VCALENDAR