BEGIN:VCALENDAR
VERSION:2.0
PRODID:-//Leisure Knoll - ECPv6.15.20//NONSGML v1.0//EN
CALSCALE:GREGORIAN
METHOD:PUBLISH
X-WR-CALNAME:Leisure Knoll
X-ORIGINAL-URL:https://leisureknoll.org
X-WR-CALDESC:Events for Leisure Knoll
REFRESH-INTERVAL;VALUE=DURATION:PT1H
X-Robots-Tag:noindex
X-PUBLISHED-TTL:PT1H
BEGIN:VTIMEZONE
TZID:America/New_York
BEGIN:DAYLIGHT
TZOFFSETFROM:-0500
TZOFFSETTO:-0400
TZNAME:EDT
DTSTART:20220313T070000
END:DAYLIGHT
BEGIN:STANDARD
TZOFFSETFROM:-0400
TZOFFSETTO:-0500
TZNAME:EST
DTSTART:20221106T060000
END:STANDARD
BEGIN:DAYLIGHT
TZOFFSETFROM:-0500
TZOFFSETTO:-0400
TZNAME:EDT
DTSTART:20230312T070000
END:DAYLIGHT
BEGIN:STANDARD
TZOFFSETFROM:-0400
TZOFFSETTO:-0500
TZNAME:EST
DTSTART:20231105T060000
END:STANDARD
BEGIN:DAYLIGHT
TZOFFSETFROM:-0500
TZOFFSETTO:-0400
TZNAME:EDT
DTSTART:20240310T070000
END:DAYLIGHT
BEGIN:STANDARD
TZOFFSETFROM:-0400
TZOFFSETTO:-0500
TZNAME:EST
DTSTART:20241103T060000
END:STANDARD
END:VTIMEZONE
BEGIN:VEVENT
DTSTART;TZID=America/New_York:20230712T184500
DTEND;TZID=America/New_York:20230712T204500
DTSTAMP:20260423T032708
CREATED:20210505T022532Z
LAST-MODIFIED:20260109T031152Z
UID:10011046-1689187500-1689194700@leisureknoll.org
SUMMARY:Dominoes
DESCRIPTION:Recreation Hall
URL:https://leisureknoll.org/calendar/dominoes/2023-07-12/
END:VEVENT
BEGIN:VEVENT
DTSTART;TZID=America/New_York:20230712T180000
DTEND;TZID=America/New_York:20230712T200000
DTSTAMP:20260423T032708
CREATED:20210416T005957Z
LAST-MODIFIED:20240929T182030Z
UID:10010994-1689184800-1689192000@leisureknoll.org
SUMMARY:Men's Poker
DESCRIPTION:Craft Center
URL:https://leisureknoll.org/calendar/mens-poker-2022-08-31/2023-07-12/
END:VEVENT
BEGIN:VEVENT
DTSTART;TZID=America/New_York:20230712T143000
DTEND;TZID=America/New_York:20230712T160000
DTSTAMP:20260423T032708
CREATED:20230630T031357Z
LAST-MODIFIED:20231128T012532Z
UID:10012771-1689172200-1689177600@leisureknoll.org
SUMMARY:Pickleball Club
DESCRIPTION:@ 2:30pm
URL:https://leisureknoll.org/calendar/pickleball-club/2023-07-12/
END:VEVENT
BEGIN:VEVENT
DTSTART;TZID=America/New_York:20230712T130000
DTEND;TZID=America/New_York:20230712T150000
DTSTAMP:20260423T032708
CREATED:20230630T032412Z
LAST-MODIFIED:20230630T032412Z
UID:10012965-1689166800-1689174000@leisureknoll.org
SUMMARY:Knitting for Charity
DESCRIPTION:1pm @ Craft Center
URL:https://leisureknoll.org/calendar/knitting-for-charity-2/2023-07-12/
END:VEVENT
BEGIN:VEVENT
DTSTART;TZID=America/New_York:20230712T130000
DTEND;TZID=America/New_York:20230712T150000
DTSTAMP:20260423T032708
CREATED:20210416T005743Z
LAST-MODIFIED:20260109T030323Z
UID:10010890-1689166800-1689174000@leisureknoll.org
SUMMARY:Bridge
DESCRIPTION:Craft Center
URL:https://leisureknoll.org/calendar/bridge/2023-07-12/
END:VEVENT
BEGIN:VEVENT
DTSTART;TZID=America/New_York:20230712T130000
DTEND;TZID=America/New_York:20230712T150000
DTSTAMP:20260423T032708
CREATED:20210416T003503Z
LAST-MODIFIED:20240929T182527Z
UID:10010351-1689166800-1689174000@leisureknoll.org
SUMMARY:Billiards
DESCRIPTION:Recreation Center\, every day except Sunday
URL:https://leisureknoll.org/calendar/billiards/2023-07-12/
END:VEVENT
BEGIN:VEVENT
DTSTART;TZID=America/New_York:20230712T113000
DTEND;TZID=America/New_York:20230712T143000
DTSTAMP:20260423T032708
CREATED:20230617T023550Z
LAST-MODIFIED:20230617T023550Z
UID:10010838-1689161400-1689172200@leisureknoll.org
SUMMARY:Men's Bowling
DESCRIPTION:@ 11:30am
URL:https://leisureknoll.org/calendar/mens-bowling-2021-09-15-2/2023-07-12/
END:VEVENT
BEGIN:VEVENT
DTSTART;TZID=America/New_York:20230712T100000
DTEND;TZID=America/New_York:20230712T110000
DTSTAMP:20260423T032708
CREATED:20220301T013856Z
LAST-MODIFIED:20250101T175615Z
UID:10010086-1689156000-1689159600@leisureknoll.org
SUMMARY:Slimnastics
DESCRIPTION:Recreation Hall
URL:https://leisureknoll.org/calendar/slimnastics-5/2023-07-12/
END:VEVENT
BEGIN:VEVENT
DTSTART;TZID=America/New_York:20230712T093000
DTEND;TZID=America/New_York:20230712T113000
DTSTAMP:20260423T032708
CREATED:20210901T030231Z
LAST-MODIFIED:20260109T030159Z
UID:10010786-1689154200-1689161400@leisureknoll.org
SUMMARY:Art Club
DESCRIPTION:Craft Room
URL:https://leisureknoll.org/calendar/art-club/2023-07-12/
END:VEVENT
BEGIN:VEVENT
DTSTART;TZID=America/New_York:20230712T090000
DTEND;TZID=America/New_York:20230712T110000
DTSTAMP:20260423T032708
CREATED:20210416T003116Z
LAST-MODIFIED:20260109T025549Z
UID:10009752-1689152400-1689159600@leisureknoll.org
SUMMARY:Wood Shop
DESCRIPTION:
URL:https://leisureknoll.org/calendar/wood-shop/2023-07-12/
END:VEVENT
BEGIN:VEVENT
DTSTART;TZID=America/New_York:20230712T090000
DTEND;TZID=America/New_York:20230712T100000
DTSTAMP:20260423T032708
CREATED:20230312T035839Z
LAST-MODIFIED:20231128T012444Z
UID:10012171-1689152400-1689156000@leisureknoll.org
SUMMARY:Tennis Club
DESCRIPTION:
URL:https://leisureknoll.org/calendar/tennis-club/2023-07-12/
END:VEVENT
BEGIN:VEVENT
DTSTART;VALUE=DATE:20230712
DTEND;VALUE=DATE:20230713
DTSTAMP:20260423T032708
CREATED:20210416T002146Z
LAST-MODIFIED:20250607T015433Z
UID:10020518-1689120000-1689206399@leisureknoll.org
SUMMARY:Recycling - Cans & Plastic
DESCRIPTION:Cans and plastic
URL:https://leisureknoll.org/calendar/recycling-cans-plastic-2022-06-29/
END:VEVENT
BEGIN:VEVENT
DTSTART;VALUE=DATE:20230712
DTEND;VALUE=DATE:20230713
DTSTAMP:20260423T032708
CREATED:20210416T002146Z
LAST-MODIFIED:20250607T015435Z
UID:10020851-1689120000-1689206399@leisureknoll.org
SUMMARY:Recycling - Cans & Plastic
DESCRIPTION:Cans and plastic
URL:https://leisureknoll.org/calendar/recycling-cans-plastic-2022-08-10/
END:VEVENT
BEGIN:VEVENT
DTSTART;VALUE=DATE:20230712
DTEND;VALUE=DATE:20230713
DTSTAMP:20260423T032708
CREATED:20210416T002146Z
LAST-MODIFIED:20250607T015434Z
UID:10020630-1689120000-1689206399@leisureknoll.org
SUMMARY:Recycling - Cans & Plastic
DESCRIPTION:Cans and plastic
URL:https://leisureknoll.org/calendar/recycling-cans-plastic-2022-07-13/
END:VEVENT
BEGIN:VEVENT
DTSTART;VALUE=DATE:20230712
DTEND;VALUE=DATE:20230713
DTSTAMP:20260423T032709
CREATED:20210416T002146Z
LAST-MODIFIED:20250607T015434Z
UID:10020741-1689120000-1689206399@leisureknoll.org
SUMMARY:Recycling - Cans & Plastic
DESCRIPTION:Cans and plastic
URL:https://leisureknoll.org/calendar/recycling-cans-plastic-2022-07-27/
END:VEVENT
BEGIN:VEVENT
DTSTART;VALUE=DATE:20230712
DTEND;VALUE=DATE:20230713
DTSTAMP:20260423T032709
CREATED:20210416T002146Z
LAST-MODIFIED:20250607T015436Z
UID:10021281-1689120000-1689206399@leisureknoll.org
SUMMARY:Recycling - Cans & Plastic
DESCRIPTION:Cans and plastic
URL:https://leisureknoll.org/calendar/recycling-cans-plastic-2022-10-19/
END:VEVENT
BEGIN:VEVENT
DTSTART;VALUE=DATE:20230712
DTEND;VALUE=DATE:20230713
DTSTAMP:20260423T032709
CREATED:20210416T002146Z
LAST-MODIFIED:20250608T235414Z
UID:10021796-1689120000-1689206399@leisureknoll.org
SUMMARY:Recycling - Cans & Plastic
DESCRIPTION:Cans and plastic
URL:https://leisureknoll.org/calendar/recycling-cans-plastic-2022-12-28/
END:VEVENT
BEGIN:VEVENT
DTSTART;VALUE=DATE:20230712
DTEND;VALUE=DATE:20230713
DTSTAMP:20260423T032709
CREATED:20210416T002146Z
LAST-MODIFIED:20250607T015435Z
UID:10021068-1689120000-1689206399@leisureknoll.org
SUMMARY:Recycling - Cans & Plastic
DESCRIPTION:Cans and plastic
URL:https://leisureknoll.org/calendar/recycling-cans-plastic-2022-09-21/
END:VEVENT
BEGIN:VEVENT
DTSTART;VALUE=DATE:20230712
DTEND;VALUE=DATE:20230713
DTSTAMP:20260423T032709
CREATED:20210416T002146Z
LAST-MODIFIED:20250607T015436Z
UID:10021386-1689120000-1689206399@leisureknoll.org
SUMMARY:Recycling - Cans & Plastic
DESCRIPTION:Cans and plastic
URL:https://leisureknoll.org/calendar/recycling-cans-plastic-2022-11-02/
END:VEVENT
BEGIN:VEVENT
DTSTART;VALUE=DATE:20230712
DTEND;VALUE=DATE:20230713
DTSTAMP:20260423T032709
CREATED:20210416T002146Z
LAST-MODIFIED:20250608T235414Z
UID:10021695-1689120000-1689206399@leisureknoll.org
SUMMARY:Recycling - Cans & Plastic
DESCRIPTION:Cans and plastic
URL:https://leisureknoll.org/calendar/recycling-cans-plastic-2022-12-14/
END:VEVENT
BEGIN:VEVENT
DTSTART;VALUE=DATE:20230712
DTEND;VALUE=DATE:20230713
DTSTAMP:20260423T032709
CREATED:20210416T002146Z
LAST-MODIFIED:20250608T235413Z
UID:10021490-1689120000-1689206399@leisureknoll.org
SUMMARY:Recycling - Cans & Plastic
DESCRIPTION:Cans and plastic
URL:https://leisureknoll.org/calendar/recycling-cans-plastic-2022-11-16/
END:VEVENT
BEGIN:VEVENT
DTSTART;VALUE=DATE:20230712
DTEND;VALUE=DATE:20230713
DTSTAMP:20260423T032709
CREATED:20210416T002146Z
LAST-MODIFIED:20250608T235414Z
UID:10021593-1689120000-1689206399@leisureknoll.org
SUMMARY:Recycling - Cans & Plastic
DESCRIPTION:Cans and plastic
URL:https://leisureknoll.org/calendar/recycling-cans-plastic-2022-11-30/
END:VEVENT
BEGIN:VEVENT
DTSTART;VALUE=DATE:20230712
DTEND;VALUE=DATE:20230713
DTSTAMP:20260423T032709
CREATED:20210416T002146Z
LAST-MODIFIED:20250607T015435Z
UID:10020960-1689120000-1689206399@leisureknoll.org
SUMMARY:Recycling - Cans & Plastic
DESCRIPTION:Cans and plastic
URL:https://leisureknoll.org/calendar/recycling-cans-plastic-2022-08-24/
END:VEVENT
BEGIN:VEVENT
DTSTART;VALUE=DATE:20230712
DTEND;VALUE=DATE:20230713
DTSTAMP:20260423T032709
CREATED:20210416T002146Z
LAST-MODIFIED:20250607T015435Z
UID:10021175-1689120000-1689206399@leisureknoll.org
SUMMARY:Recycling - Cans & Plastic
DESCRIPTION:Cans and plastic
URL:https://leisureknoll.org/calendar/recycling-cans-plastic-2022-10-05/
END:VEVENT
BEGIN:VEVENT
DTSTART;TZID=America/New_York:20230711T183000
DTEND;TZID=America/New_York:20230711T203000
DTSTAMP:20260423T032709
CREATED:20210702T033018Z
LAST-MODIFIED:20230501T195018Z
UID:10010734-1689100200-1689107400@leisureknoll.org
SUMMARY:Mixed Card Game
DESCRIPTION:Craft Center
URL:https://leisureknoll.org/calendar/guys-gals-card-game/2023-07-11/
END:VEVENT
BEGIN:VEVENT
DTSTART;TZID=America/New_York:20230711T130000
DTEND;TZID=America/New_York:20230711T163000
DTSTAMP:20260423T032709
CREATED:20230312T032638Z
LAST-MODIFIED:20240929T181808Z
UID:10011705-1689080400-1689093000@leisureknoll.org
SUMMARY:Rummikub
DESCRIPTION:Craft Center \n1-4:30pm
URL:https://leisureknoll.org/calendar/rummikub-2-2/2023-07-11/
END:VEVENT
BEGIN:VEVENT
DTSTART;TZID=America/New_York:20230711T130000
DTEND;TZID=America/New_York:20230711T150000
DTSTAMP:20260423T032709
CREATED:20210416T003503Z
LAST-MODIFIED:20240929T182527Z
UID:10010350-1689080400-1689087600@leisureknoll.org
SUMMARY:Billiards
DESCRIPTION:Recreation Center\, every day except Sunday
URL:https://leisureknoll.org/calendar/billiards/2023-07-11/
END:VEVENT
BEGIN:VEVENT
DTSTART;TZID=America/New_York:20230711T130000
DTEND;TZID=America/New_York:20230711T140000
DTSTAMP:20260423T032709
CREATED:20230617T024529Z
LAST-MODIFIED:20230805T014341Z
UID:10013001-1689080400-1689084000@leisureknoll.org
SUMMARY:Architectural Committee Meeting
DESCRIPTION:1-2pm @ Craft Center
URL:https://leisureknoll.org/calendar/architectural-committee-meeting-13/2023-07-11/
END:VEVENT
BEGIN:VEVENT
DTSTART;TZID=America/New_York:20230711T123000
DTEND;TZID=America/New_York:20230711T163000
DTSTAMP:20260423T032709
CREATED:20210415T030726Z
LAST-MODIFIED:20240114T192346Z
UID:10010630-1689078600-1689093000@leisureknoll.org
SUMMARY:Bus to Yaphank & Middle Island
DESCRIPTION:Bus to Wal-Mart Yaphank/King Kullen Middle Island shopping center. \nLeaves Leisure Knoll at 12:30pm and returns 4:30pm.
URL:https://leisureknoll.org/calendar/bus-to-middle-island/2023-07-11/
END:VEVENT
BEGIN:VEVENT
DTSTART;TZID=America/New_York:20230711T110000
DTEND;TZID=America/New_York:20230711T120000
DTSTAMP:20260423T032709
CREATED:20221202T030602Z
LAST-MODIFIED:20260109T025858Z
UID:10009957-1689073200-1689076800@leisureknoll.org
SUMMARY:Ping Pong
DESCRIPTION:11am @ Recreation Hall
URL:https://leisureknoll.org/calendar/ping-pong/2023-07-11/
END:VEVENT
END:VCALENDAR